BEGIN:VCALENDAR
VERSION:2.0
PRODID:-//https://techplay.jp//JP
CALSCALE:GREGORIAN
METHOD:PUBLISH
X-WR-CALDESC:【無料セミナー】ウェビナーを日々の営業ツ
 ールに！ホットリード獲得に繋がるウェビナー活用方
 法
X-WR-CALNAME:【無料セミナー】ウェビナーを日々の営業ツ
 ールに！ホットリード獲得に繋がるウェビナー活用方
 法
X-WR-TIMEZONE:Asia/Tokyo
BEGIN:VTIMEZONE
TZID:Asia/Tokyo
BEGIN:STANDARD
DTSTART:19700101T000000
TZOFFSETFROM:+0900
TZOFFSETTO:+0900
TZNAME:JST
END:STANDARD
END:VTIMEZONE
BEGIN:VEVENT
UID:861965@techplay.jp
SUMMARY:【無料セミナー】ウェビナーを日々の営業ツール
 に！ホットリード獲得に繋がるウェビナー活用方法
DTSTART;TZID=Asia/Tokyo:20220624T160000
DTEND;TZID=Asia/Tokyo:20220624T170000
DTSTAMP:20260420T234845Z
CREATED:20220610T055247Z
DESCRIPTION:イベント詳細はこちら\nhttps://techplay.jp/event/86196
 5?utm_medium=referral&utm_source=ics&utm_campaign=ics\n\n概要\n本セ
 ミナーでは、Zoomのパートナーであり数多くのウェビナ
 ー配信実績のある株式会社ブイキューブ様と共催し、Z
 oom Webinarを営業やマーケティング活動に活用頂くため
 の各種運用Tipsや事例をご紹介いたします。\nまた、Zoom
 の営業もパネリストとして参加しますのでご質問やご
 相談などQ&Aセッションをご活用頂けます。\n最後に、
 ご参加頂いた方には参加特典も用意しております。こ
 の機会に是非ご参加ください。\n登壇者\n石田めぐみ氏
 \nZVC Japan 株式会社カスタマーサクセスグループ パート
 ナーカスタマーサクセスマネージャー\n15年ほどウェブ
 カンファレンス業界にて、お客様窓口として導入や啓
 蒙活動のご支援に従事。その後別の業界を経験し、現
 在はパートナー商流のお客様のZoom利活用推進を担当。
 \n\n菊地 あかり\n株式会社ブイキューブ　VCソリューシ
 ョン第１営業グループ　エンタープライズDX推進チー
 ム兼Zoomプロダクト責任者\n入社後、カスタマーサクセ
 ス部門にて人材業界、不動産業界、IT業界等、さまざ
 まな業種のWeb会議・Webセミナーのオンボーディング、
 導入後支援に携わる。\n現在は、カスタマーサクセス
 グループでの経験をもとに、Web会議・Webセミナーの新
 規導入提案・支援を行っており、合わせてZoomのプロダ
 クト責任者も兼任している。\n\n※講師は、予告なく変
 更になる場合がございます。\n実施概要\n会場：オンラ
 インセミナー（Zoom）参加費：無料日時：2022年6月24日
 （金）16:00～17:00　（接続開始：15:50~）内　容：　① ZV
 C Japan 株式会社 (Zoom)　視聴者とのエンゲージを高め、
 新たなリード獲得に繋がりやすいウェビナー運営や機
 能をご紹介いたします。\n　②株式会社ブイキューブ
 　ブイキューブは、ウェビナーシステムの提供だけで
 なく、Zoomを利用した社外向けWebセミナー・Web研修会・
 Web採用説明会などの配信のサポートも実施しており、
 　年間7\,000回のウェビナー配信実績がございます。ブ
 イキューブパートでは、弊社独自で実施しているZoomウ
 ェビナーへの運用支援や配信運用サポートをご紹介い
 たします。\n　③ライブQ&A、Zoom&Vcube社員によるセッシ
 ョン\n対象：主に営業やマーケティングの方（もちろ
 んそれ以外の職種の方も歓迎です）\n視聴環境チェッ
 クはこちら\n\n本セミナーに関するお問い合わせ先株式
 会社ブイキューブ　セミナー事務局／及川・高畠TEL：0
 3-4405-2688（受付時間 平日10:00〜17:00）Mail：v-mail@vcube.co.j
 p
LOCATION:オンライン開催（Zoom）
URL:https://techplay.jp/event/861965?utm_medium=referral&utm_source=ics&utm
 _campaign=ics
END:VEVENT
END:VCALENDAR
