BEGIN:VCALENDAR
VERSION:2.0
PRODID:-//https://techplay.jp//JP
CALSCALE:GREGORIAN
METHOD:PUBLISH
X-WR-CALDESC:【無料セミナー】WEB集客できるサイトを作る7
 つのポイント（オンライン開催）
X-WR-CALNAME:【無料セミナー】WEB集客できるサイトを作る7
 つのポイント（オンライン開催）
X-WR-TIMEZONE:Asia/Tokyo
BEGIN:VTIMEZONE
TZID:Asia/Tokyo
BEGIN:STANDARD
DTSTART:19700101T000000
TZOFFSETFROM:+0900
TZOFFSETTO:+0900
TZNAME:JST
END:STANDARD
END:VTIMEZONE
BEGIN:VEVENT
UID:862109@techplay.jp
SUMMARY:【無料セミナー】WEB集客できるサイトを作る7つの
 ポイント（オンライン開催）
DTSTART;TZID=Asia/Tokyo:20220616T130000
DTEND;TZID=Asia/Tokyo:20220616T140000
DTSTAMP:20260425T124845Z
CREATED:20220611T084743Z
DESCRIPTION:イベント詳細はこちら\nhttps://techplay.jp/event/86210
 9?utm_medium=referral&utm_source=ics&utm_campaign=ics\n\n【無料セミ
 ナー】WEB集客できるサイトを作る7つのポイント（オン
 ライン開催）\n問い合わせを増やす方法をお伝えしま
 す！\nホームページからの集客が増えない…\n何から始
 めたら良いのか分からない…\n今のホームページのSEO
 対策に自信がない…\nこのようなお声をよく耳にしま
 す。\n売れるサイト制作のポイント、押さえられてい
 ますか？\nほとんどの企業やお店は制作会社にホーム
 ページの制作をお願いします。\nそして、売上の上げ
 方をホームページ制作会社に尋ねます。それは、お店
 をオープンする際に内装を工務店に頼んで、お店に人
 を呼ぶ方法を工務店にきくようなものです。\nもちろ
 ん、センスがあるデザイナーさんもいると思いますが
 、ほとんどのホームページは、新規客にほぼ見られる
 こともない場合も多いでしょう。\n見込み客の高いお
 客様を集め、反響が多いサイトは、「売れるサイト制
 作のポイント」をしっかりと押さえています。\n今回
 のホームページ集客セミナーで学ぶこと\n今回のセミ
 ナーでは、ホームページから集客するためにあなたが
 押さえておくべき「７つのポイント」を中心にお話し
 ます。\n1.目的を明確にする問い合わせを行ってもらう
 のか？見積り依頼なのか？資料請求なのか？販売なの
 か？まずは目的を明確にすることを考えます。\n2.目標
 を明確にするホームページを作る際の目標を考えます
 。どんな目標が適切なのか？自分に合った目標の設定
 方法は？\n3.誰が見るのか考える(ターゲティング)あな
 たのホームページを誰が見るのか一緒に考えましょう
 。どうやってターゲットリサーチするのか？何をリサ
 ーチすれば良いのか？\n4.あなたを選ぶ理由を考える競
 合の多いインターネットの世界で、他社でなくあなた
 のホームページが選ばれるにはどうすればいいのでし
 ょうか？\n5.お客様の心に届く文章を作る(ベネフィッ
 トを作る)どうすれば顧客心理をつかめるのか考えてみ
 ましょう。心に届く文章の書き方をご紹介します。\n6.
 競合他社と比べる競合の何を比べたら良いのか？競合
 に勝てるホームページを作るにはどうすれば良いのか
 をお伝えします。\n7.ファーストビューで大切な情報を
 伝える何を伝えたら良いのか？ポイントはどこにある
 のか？ここでは訪問者にとって大切な情報を見出す方
 法を学びます。\n今回のホームページ集客セミナーに
 参加すれば、こんな事が手に入ります。\n✔️ホーム
 ページからの問い合わせを2倍や3倍にする方法を手に
 入れる事が出来ます。\n✔️何から始めたら良いのか
 、ホームページ集客の考え方基本ステップである7つの
 ポイントが分かります。\n✔️自分のホームページの
 問題点や課題点が分かるようになります。\n登壇者\n株
 式会社バリューエージェント　代表取締役\n上野山 光
 雄（WEBマーケッター/WEBコンサルタント）\n\n専門学校
 を卒業後　店頭公開のITシステム会社にSEとして就職、
 その後建築会社の営業で活躍　売上げ100億円超の企業
 で取締役を3年間経験。2005年に株式会社バリューエー
 ジェント設立　マーケティングシステム、店舗集客、W
 EBマーケティング事業で中小企業を中心に500社を超え
 る集客サービスの導入実績。\n\n□YouTube出演実績\n自社
 のYouTubeチャンネル「バリューチャンネル」では、合計
 400本以上の動画でWeb集客について解説を行っている。\
 n\n□過去のセミナー・研修実績\n●Googleアナリティク
 スの使い方・分析方法研修\n●Webマーケティングの基
 礎とSEO対策講座\n●売れるホームページの作り方 12の
 ポイント　吹田商工会議所\n●集客と成約するホーム
 ページ作成セミナー　北大阪商工会議所主催\n●Ｗeb販
 路開拓セミナー「有効なＷeb広告の出し方」豊中商工
 会議所\n●Webで販路開拓を目指すセミナー　和歌山商
 工会議所\n●自社開催＆クライアント先での研修\n●売
 れるホームページ12のポイントセミナー\n●売れるラン
 ディングページ作成研修\n●SEOに強いライティング研
 修\n●Googleアナリティクスを使って改善点を見つけ出
 す方法研修\n●有効なツイッター運用研修\n\n\nホーム
 ページ集客セミナー参加者の声in大阪\n鋼材販売業　東
 大阪市・専務取締役Ｈ様.U様当社の業種は商圏が狭く
 、お客様となる業種も限られているのでホームページ
 は会社案内程度に考えておりましたが、セミナーに参
 加してまだまだ改善をすれば新規開拓に使えると感じ
 ました。 過去の実績の紹介も多く、まさに「本物のノ
 ウハウ」だと感じました。ありがとうございました。\
 n株式会社大澤印刷　大阪市・大澤様非常に分かりやす
 かったです。なんとなく分かっていた事が具体的に分
 かるようになりました。\n株式会社アースシステム　
 大阪市・松下様集客に力を入れて、サイトの改善を行
 いたいという目的を達成する事が出来ました。セミナ
 ーの内容も役に立つものでした。\n運輸倉庫業　貝塚
 市・専務取締役F様改善点はいくらでもあることを感じ
 た。分析や運用に力を入れているという御社の強みに
 納得出来た。\nホームページの運用で喜んでおられる
 当社の最近の実績\n植木屋成約数が10倍、リピーターも
 付きましたコンテンツＳＥＯと内部ＳＥＯ、サイト改
 善（去年の６月スタート）\n映像制作会社リスティン
 グ広告運用を自社から弊社に変更して、新規問い合わ
 せ数5件→20件に増加リスティング広告運用、サイト改
 善（去年の８月スタート）\n人材紹介会社求人サイト
 応募登録単価が19\,476円にランディングページ制作、リ
 スティング広告運用、サイトの運用改善（今年の３月
 スタート）\nハウスクリーニング業サイト制作から3ヵ
 月で反響97件　成約80件新規サイト制作+リスティング
 広告運用（今年の４月スタート）\nセミナー概要・お
 申込み\nセミナー名【無料セミナー】WEB集客できるサ
 イトを作る7つのポイント（オンライン開催）\n対象\n\n
 ホームページはあるが、問い合わせや売上に繋がって
 いない方\nこれからホームページを作ろうと思ってい
 る方\n問い合わせを獲得するホームページの基本を知
 りたい方\n\n日時2022年6月16日(木)　13:00～14:00（12:45受付
 開始）\n場所オンライン開催※メールにて参加用のZOOM
 のURLをお送りします。※出席の確認もございますので
 、10分前にはご入室頂きますようお願いいたします。\n
 参加料無料\n定員10名
LOCATION:オンライン
URL:https://techplay.jp/event/862109?utm_medium=referral&utm_source=ics&utm
 _campaign=ics
END:VEVENT
END:VCALENDAR
