BEGIN:VCALENDAR
VERSION:2.0
PRODID:-//https://techplay.jp//JP
CALSCALE:GREGORIAN
METHOD:PUBLISH
X-WR-CALDESC:【これだけでOK】2022年6月のSEOニュース解説｜3
 0分でどこよりもわかりやすく紹介します
X-WR-CALNAME:【これだけでOK】2022年6月のSEOニュース解説｜3
 0分でどこよりもわかりやすく紹介します
X-WR-TIMEZONE:Asia/Tokyo
BEGIN:VTIMEZONE
TZID:Asia/Tokyo
BEGIN:STANDARD
DTSTART:19700101T000000
TZOFFSETFROM:+0900
TZOFFSETTO:+0900
TZNAME:JST
END:STANDARD
END:VTIMEZONE
BEGIN:VEVENT
UID:862630@techplay.jp
SUMMARY:【これだけでOK】2022年6月のSEOニュース解説｜30分
 でどこよりもわかりやすく紹介します
DTSTART;TZID=Asia/Tokyo:20220714T140000
DTEND;TZID=Asia/Tokyo:20220714T143000
DTSTAMP:20260422T041112Z
CREATED:20220616T060812Z
DESCRIPTION:イベント詳細はこちら\nhttps://techplay.jp/event/86263
 0?utm_medium=referral&utm_source=ics&utm_campaign=ics\n\n\n【これだ
 けでOK】2022年6月のSEOニュース解説｜30分でどこよりも
 わかりやすく紹介します\n\n概要\n今月のSEOトレンドはi
 peのウェビナーだけでOK！大手実績多数のipe(アイプ)がS
 EO最前線での手ごたえも踏まえた今月のSEO事情を総括
 いたします！検索エンジンのアルゴリズムは日々変化
 しており、昨日まで有効だった施策は今日には陳腐化
 しているかもしれません。SEO施策を成功に導くために
 も、今月のトレンドnewsをぜひこちらでおさらいしてみ
 てください。\n株式会社ipeについて\n大規模サイトのSEO
 コンサルティングを中心に活動し、最先端のSEO技術を
 提供するをテーマに掲げサービス提供しています。\n
 タイムスケジュール\n\n\n\n時間\n内容\n\n\n\n\n13:45〜\n受
 付開始\n\n\n14:00〜14:30\nデスクトップ向けのGoogleページ
 エクスペリエンスアップデートが展開を開始\n\n\n\n新
 しいGoogleショッピングエクスペリエンススコアカード\
 n\n\n\nPirate Updateについて\n\n\n\nまとめ\n\n\n\n※ 当日予告
 なく時間配分・内容が変更になる可能性がございます
 。\n登壇者\n\n渡部　雄飛\n株式会社ipe セールスチーム\
 n中央大学商学部経営学科卒。マーケティングを専攻し
 、在学中から地方自治体の新規事業創出に関するフィ
 ールドワークを行っていた。\n小菅村にてプロモーシ
 ョン動画の製作と特産品開発（ソーセージ）に取り組
 んだ後、新規事業の傾向と改善について実地調査を行
 い論文にした経験から、より実践的な現場を経験する
 ためipeへジョイン。\n地方ビジネスのマーケティング
 に取り組んだ経験を活かし、第一線でSEOマーケティン
 グの提案を行っている。\n\n\nこんな方におすすめ\n\n\nS
 EOニュースの最新情報が知りたい方\nSEOトレンドを調べ
 る時間がなかなか取れない方\nSEO情報トレンドを一括
 で知りたい方\n\n参加費\n無料\nハッシュタグ\n#techplayjp\
 n注意事項\n\nリクルーティング、勧誘など、採用目的
 でのイベント参加はお断りしております。\nキャンセ
 ル待ち・補欠・落選の方はご参加いただくことが出来
 ませんのでご了承ください。\n欠席される場合は、お
 手数ですが速やかにキャンセル処理をお願い致します
 。\n無断キャンセルや欠席が続く場合、次回以降の参
 加をお断りさせていただく場合がございます。\n
LOCATION:オンライン
URL:https://techplay.jp/event/862630?utm_medium=referral&utm_source=ics&utm
 _campaign=ics
END:VEVENT
END:VCALENDAR
