BEGIN:VCALENDAR
VERSION:2.0
PRODID:-//https://techplay.jp//JP
CALSCALE:GREGORIAN
METHOD:PUBLISH
X-WR-CALDESC:事例から学ぶ、ゼロから始めるYouTuber PR
X-WR-CALNAME:事例から学ぶ、ゼロから始めるYouTuber PR
X-WR-TIMEZONE:Asia/Tokyo
BEGIN:VTIMEZONE
TZID:Asia/Tokyo
BEGIN:STANDARD
DTSTART:19700101T000000
TZOFFSETFROM:+0900
TZOFFSETTO:+0900
TZNAME:JST
END:STANDARD
END:VTIMEZONE
BEGIN:VEVENT
UID:862655@techplay.jp
SUMMARY:事例から学ぶ、ゼロから始めるYouTuber PR
DTSTART;TZID=Asia/Tokyo:20220706T110000
DTEND;TZID=Asia/Tokyo:20220706T120000
DTSTAMP:20260419T161353Z
CREATED:20220616T063803Z
DESCRIPTION:イベント詳細はこちら\nhttps://techplay.jp/event/86265
 5?utm_medium=referral&utm_source=ics&utm_campaign=ics\n\n\n事例から
 学ぶ、ゼロから始めるYouTuber PR\n概要\nコロナ禍により
 、YouTubeの視聴者数が急伸し、2021年5月には日本におけ
 る 18 歳以上の月間利用者数が 6\,900 万人を超えました
 。そして、45歳以上64歳の利用者数も2\,500万人とされて
 おり、あらゆる業種において注目されるプラットフォ
 ームとなっています。\n上記に伴い、マーケティング
 ・広報担当から、YouTuberへの注目が高まっています。Yo
 uTuberが発信するコンテンツは、テレビやWebメディアほ
 どのリーチ力はないものの、エンゲージメント率も高
 く、購買プロセスにおける影響力は増しています。\n
 そこで、今回はこれからYouTube上でPRを強化したい方向
 けにセミナーを開催します。当日はYouTuber PRにおける
 基本知識、YouTuberとのコミュニケーション方法や成功
 事例などをご紹介します。ぜひ、今後のPR活動の参考
 にしていただけますと幸いです。\n ＜こんな方にオス
 スメです＞\n・マーケティング、PR・広報を担当されて
 いる方・購入意欲を喚起するPRを実施したい・YouTube PR
 でお悩みの方/始めようとお考えの方※弊社と同業他社
 の方の参加はお断りさせていただいております。\nタ
 イムスケジュール\n\n\n\n時間\n内容\n\n\n\n\n11:00〜11:05\n 
 オープニング\n\n\n11:05〜11:50\n「事例から学ぶ、ゼロか
 ら始めるYouTuber PR」\n\n\n11:50〜12:00\n質疑応答ほか\n\n\n\n
 参加費\n無料
LOCATION:オンライン
URL:https://techplay.jp/event/862655?utm_medium=referral&utm_source=ics&utm
 _campaign=ics
END:VEVENT
END:VCALENDAR
