BEGIN:VCALENDAR
VERSION:2.0
PRODID:-//https://techplay.jp//JP
CALSCALE:GREGORIAN
METHOD:PUBLISH
X-WR-CALDESC:【6/27(月)\, 28(火)\, 30(木) 各回 無料1社限定】急
 げDX対策！ SEO\, 広告\, EC\, アナリティクス\, SNS\, B2B\, ME
 O\, リニューアル\, 新サイト公開\, etc. これから始める
 課題解決！【各社5名まで参加OK】
X-WR-CALNAME:【6/27(月)\, 28(火)\, 30(木) 各回 無料1社限定】急
 げDX対策！ SEO\, 広告\, EC\, アナリティクス\, SNS\, B2B\, ME
 O\, リニューアル\, 新サイト公開\, etc. これから始める
 課題解決！【各社5名まで参加OK】
X-WR-TIMEZONE:Asia/Tokyo
BEGIN:VTIMEZONE
TZID:Asia/Tokyo
BEGIN:STANDARD
DTSTART:19700101T000000
TZOFFSETFROM:+0900
TZOFFSETTO:+0900
TZNAME:JST
END:STANDARD
END:VTIMEZONE
BEGIN:VEVENT
UID:863003@techplay.jp
SUMMARY:【6/27(月)\, 28(火)\, 30(木) 各回 無料1社限定】急げDX
 対策！ SEO\, 広告\, EC\, アナリティクス\, SNS\, B2B\, MEO\, 
 リニューアル\, 新サイト公開\, etc. これから始める課
 題解決！【各社5名まで参加OK】
DTSTART;TZID=Asia/Tokyo:20220627T170000
DTEND;TZID=Asia/Tokyo:20220630T180000
DTSTAMP:20260419T150429Z
CREATED:20220620T033921Z
DESCRIPTION:イベント詳細はこちら\nhttps://techplay.jp/event/86300
 3?utm_medium=referral&utm_source=ics&utm_campaign=ics\n\n急げDX対策
 ！\nSEO\, 広告\, EC\, アナリティクス\, SNS\, B2B\, MEO\, リニ
 ューアル\, 新サイト公開\, etc.\n何を？どうすれば？\n
 これから始める課題解決\n\n\nあなた専用の資料を作っ
 て ご説明\n\n6/27(月)\, 28(火)\, 30(木)で ご希望日時をご
 指定\n各社5名まで参加OK\n\n▼テーマ例\n\nデジタルマー
 ケティングの取り組みが遅れてる。何から手をつけれ
 ば いいか？\n社内研修について相談したい。\n\n\nDX時
 代の人材不足への対応：社内の初心者のスタッフたち
 に分かりやすく丁寧に説明してくれる研修会を開催し
 たいのだが。。　(好評の研修プログラムは各社様向け
 にカスタマイズしております。)\n\n\nWebサイトのリニュ
 ーアル効果をGoogleアナリティクスで測定する方法は？\
 n\nGoogle広告を改善し効果を高めたい。あるいは導入を
 相談したい。\n\n意外と知られていないGoogle広告のAI(機
 械学習)機能についても解説します。\n\n\n\n少人数でマ
 ーケティングからディレクションなど、Webサイト運営
 全般を色々対応しているので、\n\n短期間に集中して不
 足している知識を習得したいし、繁忙期の人手が足り
 ない時にサポートしてもらいたい。\n\n\n新しいWebサイ
 トを立ち上げたが検索結果に表示されない。SEO的に ど
 うすれば いい？\n\nEC戦略に悩んでる、どうすればいい
 か？\nWebサイトからの成約率をUPする方法は？\n\n認知
 度UPの手段は？\n\nSNSの効果的な分析方法は？\n\n▼セミ
 ナーの内容\nお申し込み時に ご入力頂くご相談内容に
 対する解決策を『専用の資料を作って』ご説明致しま
 す。\n\n相談内容をうまく まとめれない、まとめる時
 間がないなどとりあえず話して相談したいという場合
 は当日ミュートを解除して お話をお伺いして解決策を
 ご提案致します(カジュアルに お話しできるイベント
 です)。\n上記に関しては時間の都合上ご相談内容の整
 理を行った後、当方で調査の上 後日 解決策をご提案
 させて頂く流れの場合もございます。\n\n▼開催概要\n
 開催日時\n6/27(月)\, 28(火)\, 30(木)の内ご希望日時\n参加
 費および調査と資料作成費\n無料\n※ あなた専用の資
 料を作って ご説明\n開催方法\nウェビナー(オンライン
 セミナー)　※ Zoomを利用します。\n参加方法\nお申し込
 み後にメールで ご案内致します。\n▼タイムスケジュ
 ール\n\n\n\n所要時間\n内容\n\n\n\n\n10分前\n受付開始(視聴
 用URL開場)\n\n\n45分ほど\nセミナー本編\n\n\n15分ほど\n質
 疑応答(質問がなくなり次第終了)\n\n\n\n※ 当日予告な
 く時間配分・内容が変更になる可能性がございます。\
 n▼講師紹介\n澤井 貞夫グロース・インク(株)マーケタ
 ー兼コンテンツ ディレクター７つのGoogle資格保有者・
 講師の認定資格証明書はこちらでご確認頂けます。\n
 ・通販 EC の経験を経て、スマホ[アプリ]/モバイルや PC
  向けコンテンツのディレクションおよびマーケティン
 グの経験 多数。\n・企画立案から要件定義、そして進
 捗管理からプロジェクトの収益化までをトータルで対
 応。\n\n\n▼実績一例(ごく一部)\n検索上位表示の実現\nS
 EOの実績一例\n・サイトA (B2C)SEO対策キーワード約1千の
 内 約3百のキーワードが検索結果１０位以内。\n・サイ
 トB (B2B)デバイスに関わらずビッグキーワードで５位以
 内をほぼ常時維持。\nCPA(経費の一種)を６５％削減\nGoog
 le広告の実績一例\n・高効率キャンペーン開始 初週のCP
 Aを4ケ月で６５％削減。\n・利益の創出PDCAを繰り返し
 月次の調整不要 ( 無人 ) でも損益分岐点のCPAを下回る
 運用に至る。\n▼参加対象\n\n管理職の方、もしくは\n
 マーケティングや広報ご担当者様 全般\nデータ分析ご
 担当者様\nディレクター様\n戦略立案ご担当者様\n事業
 計画ご担当者様\nECサイト運営者様\nお店(リアル店舗)
 運営者様\nECサイトと お店の両方を運営されてる方\n以
 上いずれかの ご関係者様\nその他とりあえず相談した
 いと思われた方\n\n※ Web初心者から事業の成長カーブ
 を目指してる方にまで分かりやすく ご説明します。※
  フリーランスや学生の方などは対象外となります。\n
 ▼参加費および調査と資料作成費\n無料\n※ あなた専
 用の資料を作って ご説明\n▼お申し込み方法\n申し込
 みフォームに必要事項をご入力ください。\n▼注意事
 項\n※ 参加を辞退する場合は、詳細ページより申込の
 キャンセルをお願い致します。※ 無断キャンセル・欠
 席が続く場合、次回以降の参加をお断りさせて頂く場
 合がございますのでご了承ください。
LOCATION:Zoom配信
URL:https://techplay.jp/event/863003?utm_medium=referral&utm_source=ics&utm
 _campaign=ics
END:VEVENT
END:VCALENDAR
