BEGIN:VCALENDAR
VERSION:2.0
PRODID:-//https://techplay.jp//JP
CALSCALE:GREGORIAN
METHOD:PUBLISH
X-WR-CALDESC:【2022年7月14日開催】ビジネスマッチング部会
X-WR-CALNAME:【2022年7月14日開催】ビジネスマッチング部会
X-WR-TIMEZONE:Asia/Tokyo
BEGIN:VTIMEZONE
TZID:Asia/Tokyo
BEGIN:STANDARD
DTSTART:19700101T000000
TZOFFSETFROM:+0900
TZOFFSETTO:+0900
TZNAME:JST
END:STANDARD
END:VTIMEZONE
BEGIN:VEVENT
UID:863091@techplay.jp
SUMMARY:【2022年7月14日開催】ビジネスマッチング部会
DTSTART;TZID=Asia/Tokyo:20220714T180000
DTEND;TZID=Asia/Tokyo:20220714T200000
DTSTAMP:20260426T035957Z
CREATED:20220620T140025Z
DESCRIPTION:イベント詳細はこちら\nhttps://techplay.jp/event/86309
 1?utm_medium=referral&utm_source=ics&utm_campaign=ics\n\nこの度、不
 動産テック協会では、不動産会社様と不動産テック企
 業の、ビジネスマッチングを目的とした、「ビジネス
 マッチング部会」を立ち上げました。\n\n前回5月12日に
 開催された第一回では、約60名の方のリアル参加、40名
 の方のオンライン参加を実現し、登壇後は、リアル参
 加の方々による積極的な名刺交換会が開かれました。\
 n登壇中は、皆様、飲み物（アルコール含む）を片手に
 、リラックスした状態で1社20分×3社の、ビジネスマッ
 チングのご提案を聞かれていたのが印象的でした。\n\n
 ビジネスマッチング部会では、以下の内容で開催いた
 します。\n（不動産会社様）\n・自社で必要としている
 不動産DX\n・新規物件プロジェクトにおいて求めている
 、アイデアや製品の提案\n・アクセラレータープログ
 ラムや資本提携相談の持ち込み。\n（不動産テック企
 業様）\n・新商品開発におけるファーストカスタマー
 の創出\n・新機能についての意見交換。\n・自社商品の
 紹介とそれに対しての反応調査\n\n開催はリアル開催を
 原則とし、オンラインでも中継をさせていただきます
 。\n第三回は7月14日（木）18時～19時に開催され、以降
 、毎月第２木曜日に開催いたします。\n会場： 渋谷区
 渋谷2-22-8　名取ビル\nアットビジネスセンター渋谷東
 口駅前　503号室\n\n第三回の登壇予定者：\n三菱地所様
 ：\n・オープンイノベーションに取り組む背景と共創
 事例\n・新たな投資活動「BRICKS FUND TOKYO」が目指し、期
 待すること\nBlueAge様：\n・Z世代マーケティングを通し
 て、5年後を見据えた不動産DX戦略\n・不動産仲介・管
 理会社への協業提案\nSalceforce様：\n・Salesforceがご一緒
 している最新DX事例、共創のご紹介\n・Salesforceが提供
 するビジネスアプリマーケットプレイスAppExchangeのご
 紹介\nライナフ様\n・不動産テック×物流による、新し
 い物件価値のご提案。\n・無料配布によって広がった
 スマートロックの活用についての協業提案。\n\n各社15
 分前後でプレゼンをいただいた後に、名刺交換会とさ
 せていただきます。当日は、少量ではありますがアル
 コールも準備させていただきますので、皆さまの懇親
 の場とさせていただきます。\n\nリアル開催ご参加の方
 ：上記会場にて、17時30分より開場いたします。\nオン
 ライご参加の方　：後日メールにてzoomのURLをご送付い
 たします。\n\n皆様のご参加をお待ちしております！
LOCATION:アットビジネスセンター渋谷東口駅前 503号室 東
 京都渋谷区渋谷2-22-8 5階
URL:https://techplay.jp/event/863091?utm_medium=referral&utm_source=ics&utm
 _campaign=ics
END:VEVENT
END:VCALENDAR
