BEGIN:VCALENDAR
VERSION:2.0
PRODID:-//https://techplay.jp//JP
CALSCALE:GREGORIAN
METHOD:PUBLISH
X-WR-CALDESC:（かもめエンジニアリング）「脱VPN」相談会
 【リアル会場セミナー】 
X-WR-CALNAME:（かもめエンジニアリング）「脱VPN」相談会
 【リアル会場セミナー】 
X-WR-TIMEZONE:Asia/Tokyo
BEGIN:VTIMEZONE
TZID:Asia/Tokyo
BEGIN:STANDARD
DTSTART:19700101T000000
TZOFFSETFROM:+0900
TZOFFSETTO:+0900
TZNAME:JST
END:STANDARD
END:VTIMEZONE
BEGIN:VEVENT
UID:863351@techplay.jp
SUMMARY:（かもめエンジニアリング）「脱VPN」相談会【リ
 アル会場セミナー】 
DTSTART;TZID=Asia/Tokyo:20220713T160000
DTEND;TZID=Asia/Tokyo:20220713T170000
DTSTAMP:20260426T040202Z
CREATED:20220622T060020Z
DESCRIPTION:イベント詳細はこちら\nhttps://techplay.jp/event/86335
 1?utm_medium=referral&utm_source=ics&utm_campaign=ics\n\n本セミナー
 は終了いたしました。\n\nお申込ありがとうございまし
 た。\n\n当セミナーの資料の公開予定はございません。
 ご了承くださいませ。\n\n\n\n\n\n\n\n当お申込ページは 
 かもめエンジニアリング株式会社 経由の方向けの お
 申込みページです。\n\n一般の方はこちらからお申し込
 みください。\n\n注意事項★重要ですので、必ずご確認
 下さい★\n\n・本セミナーはリアル会場で開催します。
 オンライン配信はありません。\n\n　会場：〒104-0032 東
 京都中央区八丁堀２丁目１９−６ ヤサカ八丁堀ビル 3F
 \n\nVPNの問題点\n\n離れた場所から企業ネットワークに
 接続する手段として、VPNは20年以上にわたって主流を
 担ってきました。\n\nしかし、テレワーカーが急増し、
 不正アクセスによる被害も増大した昨今、「帯域が足
 りず、通信が遅い」「社外から社内ネットワークにア
 クセス後、全ての社内システムにアクセスできてしま
 うが問題ないのか？」など、VPNが抱える課題がクロー
 ズアップされています。\n\nこのようなVPNの課題を解決
 する手段として、VPNを使わない新しい社内システムへ
 のアクセス方法「ゼロトラスト・ネットワーク・アク
 セス（ZTNA）」が提唱されています。\n\nVPN⇒ZTNA 移行の
 課題\n\n「しかし、ZTNAを取り入れるには何をどうすれ
 ば良いのか？」\n\n「そもそもZTNAとはどんな仕組みな
 のか、今ひとつわからない」\n\n「脱VPNを実現したいと
 は思っているのだが…」\n\nそんなモヤモヤとした課題
 や悩みを抱えているご担当者も多いことと思います。\
 n\n参加者の、課題・悩みに対して、専門家がその場で
 回答\n\nこの相談会は、かもめエンジニアリングのオフ
 ィスで行います。対面形式で各社の課題や悩みを伺い
 、専門家によるアドバイスやヒアリングなどをご提供
 します。\n\nプログラム\n\n15:30～16:00　受付\n\n16:00～16:0
 5　オープニング\n\n16:05～16:10　参加者自己紹介\n\n16:10
 ～16:15　本日のテーマと進め方について\n\n16:15～16:50　
 相談会\n\n16:50～17:00　クロージング\n\n会場\n\n〒104-0032 
 東京都中央区八丁堀２丁目１９−６ ヤサカ八丁堀ビル
  3F\n\n主催\n\nかもめエンジニアリング株式会社（プラ
 イバシー・ポリシー）\n\n協力\n\n株式会社オープンソ
 ース活用研究所（プライバシー・ポリシー）\n\nマジセ
 ミ株式会社（プライバシー・ポリシー）\n\n当日会場ア
 クセスに関するお問合せ\n\nmktg@kamome-e.com（03-6457-5237）\
 n\nセミナー事務局\n\nマジセミ株式会社（プライバシー
 ・ポリシー）\n\n\n※以下の方について、当社判断によ
 りご参加をご遠慮頂く場合がございます。予めご了承
 下さい。\n\n・講演企業の競合となる商品・サービスを
 提供している企業、同業の企業、及びそのグループ企
 業・関連企業の方\n・個人や個人事業主の方\n・海外か
 ら参加される方\n・日本に活動拠点が無い企業の方\n・
 その他、弊社及び講演企業が不適切と判断した企業・
 個人の方\n\n※申込が多数の場合、弊社抽選にてご参加
 をご遠慮頂く場合がございますので、予めご了承くだ
 さい。\n\n※本コミュニティにてご提示いただいた情報
 、及び、申込時にご記載頂いた内容は、マジセミ株式
 会社にて収集し、マジセミ株式会社／オープンソース
 活用研究所、及び、主催・共催・協賛・協力・講演の
 各企業へ提供します。共催・協賛・協力・講演の各企
 業へは、主催企業を通して提供する場合があります。
 またプライバシーポリシーに定めがある場合は主催・
 共催・協賛・協力・講演の委託先にマジセミ株式会社
 から直接提供する場合があります。ご記入頂いた個人
 情報は、マジセミ株式会社／株式会社オープンソース
 活用研究所及び主催・共催・協賛・協力・講演企業の
 各プライバシーポリシーに従って厳重に管理し、各社
 のサービス、製品、セミナー、イベントなどのご案内
 に使用させて頂き、また各社のメルマガに登録させて
 いただきます。ご記入頂いた個人情報は、法で定める
 場合や各社のプラバシーポリシーに特別な記載がある
 場合を除きご本人の同意を得ることなく第三者へ提供
 いたしません。利用目的遂行のため個人情報の取扱い
 を外部に委託する場合は、委託した個人情報の安全管
 理が図られるように、委託をする各社が定めた基準を
 満たす委託先を選定し、委託先に対して必要かつ適切
 な監督を行います。 お客様の個人情報に関する開示等
 は、お申し出頂いた方がご本人（代理人）であること
 を確認した上で、各社において合理的な期間および範
 囲で対応いたします。開示等の手続き、個人情報の取
 扱いに関するお問い合わせは下記のお問い合わせ窓口
 へご連絡下さい。\n\n〔お問合せ先　及び　個人情報保
 護管理者〕　マジセミ株式会社 個人情報保護管理者　
 連絡先：03-6721-8548
LOCATION:かもめエンジニアリング株式会社 〒104-0032 東京
 都中央区八丁堀２丁目１９−６ ヤサカ八丁堀ビル 3F
URL:https://techplay.jp/event/863351?utm_medium=referral&utm_source=ics&utm
 _campaign=ics
END:VEVENT
END:VCALENDAR
