BEGIN:VCALENDAR
VERSION:2.0
PRODID:-//https://techplay.jp//JP
CALSCALE:GREGORIAN
METHOD:PUBLISH
X-WR-CALDESC:〜参加費無料〜気軽に交流できるもくもく会
 【わいわい会】7月9日(土)＠オンライン プレゼン練習
 会もやります！
X-WR-CALNAME:〜参加費無料〜気軽に交流できるもくもく会
 【わいわい会】7月9日(土)＠オンライン プレゼン練習
 会もやります！
X-WR-TIMEZONE:Asia/Tokyo
BEGIN:VTIMEZONE
TZID:Asia/Tokyo
BEGIN:STANDARD
DTSTART:19700101T000000
TZOFFSETFROM:+0900
TZOFFSETTO:+0900
TZNAME:JST
END:STANDARD
END:VTIMEZONE
BEGIN:VEVENT
UID:863399@techplay.jp
SUMMARY:〜参加費無料〜気軽に交流できるもくもく会【わ
 いわい会】7月9日(土)＠オンライン プレゼン練習会も
 やります！
DTSTART;TZID=Asia/Tokyo:20220709T100000
DTEND;TZID=Asia/Tokyo:20220709T120000
DTSTAMP:20260423T194330Z
CREATED:20220622T131409Z
DESCRIPTION:イベント詳細はこちら\nhttps://techplay.jp/event/86339
 9?utm_medium=referral&utm_source=ics&utm_campaign=ics\n\n交流できる
 自習会！わいわい会とは…\nどこかに集まって、各自
 もくもくと勉強したり作業したり本を読んだりするだ
 けの会 「もくもく会」を雑談・質問もOKにした会のこ
 とです。 今回は、オンライン(ZOOM)で開催します。\n【
 スタートの想い】\nシーン…とし過ぎるより、適度に
 わいわいしながら、 刺激のある環境で作業や仕事を捗
 らせたい。 IT業界でも、横のつながりを持ちたい。 ど
 んな方でも気軽に参加できる場所を作りたい。 という
 想いで始めました。 ですので、勉強でも、仕事でも、
 読書でも、手芸でも、何にでも使ってください。\n【
 こんな方におすすめ】\n「家ではどうも仕事や勉強に
 集中できない、さぼってしまいがち」とか 「他の人が
 作業してるのを見ると自分もやんなきゃなんないよう
 な気がする」とか 「一人でタスクに向かう気の重さを
 人と集まることで紛らわせたい」とか 「わいわい話し
 たいなぁ」「どうせなら、読書ついでに知り合いが増
 えたらいいな」\n今回のわいわい会は「プレゼン練習
 会」を開催します！\n普段からプレゼンを練習したい
 と思っている方や、これを機にチャレンジしてみたい
 方におすすめです♪みんなで一緒に好きなことをプレ
 ゼン見しましょう！※事前予約は不要、参加は自由で
 す！\n【日時】\n7月9日(土) 10:00～12:00 ※途中参加・途
 中退室自由\n【参加費】無料【参加人数】10～15名程※
 他サイトでも募集しているため、こちらのページの参
 加人数と一致しない事があります。\n【場所】オンラ
 イン開催(Zoom)※お申し込みが完了すると、イベントペ
 ージにてZoomのURLとID、パスコードが閲覧できるように
 なります。※Zoomは最新バージョンにアップデートして
 ご利用ください。（古いバージョンではマイクやカメ
 ラで不具合が起きることがあります）\n【参加講師・
 スタッフ】※話しかけてOK！ Excelコース・SEコース・VBA
 コース・Javaコース講師 SQL講座、フリーランスSE、IT業
 界転職経験豊富なメンバーなどなどスキルや仕事につ
 いて質問してもらうのも大歓迎です。※個別で対応中
 や、当日不参加の時もありますので、受付スタッフに
 ご相談ください。\n【持ち物】・ご自分の作業・勉強
 に必要なもの ・飲み物・お菓子等ご自由に\n【注意事
 項】大声で騒ぐ、ナンパ・勧誘行為など、参加者の迷
 惑になると判断した場合は 退室していただく場合がご
 ざいますので、 ご了承ください。☆『＋IT』とは☆SE
 やIT事務職のメンバーで、都内を中心にITスキル講座を
 開催しています。 IT技術の習得によって、収入UPや仕
 事の能率UPの実現する人が増えるように活動していま
 す。 会社や業界関係なく横のつながりを創り、楽しく
 学び合える コミュニティができるといいなと考えてい
 ます。雑談や交流OK、イベント等も同時開催する自習
 会、｢わいわい会｣を毎週開催しています。\nホーム
 ページはこちら https://plus-info-tech.com
LOCATION:オンライン
URL:https://techplay.jp/event/863399?utm_medium=referral&utm_source=ics&utm
 _campaign=ics
END:VEVENT
END:VCALENDAR
