BEGIN:VCALENDAR
VERSION:2.0
PRODID:-//https://techplay.jp//JP
CALSCALE:GREGORIAN
METHOD:PUBLISH
X-WR-CALDESC:GROWI Users Meetup #7
X-WR-CALNAME:GROWI Users Meetup #7
X-WR-TIMEZONE:Asia/Tokyo
BEGIN:VTIMEZONE
TZID:Asia/Tokyo
BEGIN:STANDARD
DTSTART:19700101T000000
TZOFFSETFROM:+0900
TZOFFSETTO:+0900
TZNAME:JST
END:STANDARD
END:VTIMEZONE
BEGIN:VEVENT
UID:863484@techplay.jp
SUMMARY:GROWI Users Meetup #7
DTSTART;TZID=Asia/Tokyo:20220725T190000
DTEND;TZID=Asia/Tokyo:20220725T200000
DTSTAMP:20260421T125308Z
CREATED:20220623T040207Z
DESCRIPTION:イベント詳細はこちら\nhttps://techplay.jp/event/86348
 4?utm_medium=referral&utm_source=ics&utm_campaign=ics\n\nイベント概
 要\nGROWI Users Meetupは、OSSのWikiシステム「GROWI」のユー
 ザー・開発者の交流を目的としたイベントです。GROWI
 の開発元である株式会社WESEEK GROWI開発チームが、本イ
 ベントの企画・運営を行っております。\nGROWIとは？\nG
 ROWIは、Markdown記法でページを記述できるオープンソー
 スのWikiシステムです。エンジニアになじみ深いマーク
 ダウン形式で記述が可能で、柔軟な階層構造での情報
 管理が可能です。\n利用者自身でオンプレミス環境や
 各種クラウドVMに導入でき、社内WikiやオープンWikiとし
 て活用されています。\n今回のイベントの内容\n今回の
 GROWI Users Meetupは特別編！普段GROWIがどのように開発さ
 れているのかを皆さんにお届けするべく、GROWI開発チ
 ームのインターン生と社員のペアプロの様子をお届け
 します！\n※本イベントはconnpassで同時に公開を行って
 おります。\nイベント形式について\n本イベントは、Zoo
 mそしてWESEEKの公式YouTubeアカウントより配信を行いま
 す。(YouTubeではアーカイブの配信も予定しております
 。)\nZoomでご参加の方への参加URL・パスワード、YouTube
 の配信URLは当日通知いたします。\n当日は発表を聞い
 ていただくだけではなく、Slackを使って皆さんとチャ
 ットで交流をしたいと考えております。是非こちらのU
 RLから、GROWIワークスペースの #growi-users-meetup チャンネ
 ルにご参加ください！https://growi-slackin.weseek.co.jp/\nタイ
 ムテーブル(当日一部変更になる可能性もございます)\n
 \n\n\n時間\nタイトル\n\n\n\n\n19:00-19:05\nオープニング ・
 前回のGROWI Users Meetupのおさらい\n\n\n19:05-19:55\nGROWIオー
 プンペアプロ\n\n\n19:55-20:00\nWESEEKからのお知らせ\n\n\n\n
 株式会社WESEEKについて\n株式会社WESEEKは、システム開
 発のプロフェッショナル集団です。\nUIデザインからサ
 ービス運用のためのネットワーク・インフラ構築まで
 、すべて自社で開発を行っています。\n受託開発や自
 社サービス開発など、幅広いプロジェクトに取り組ん
 できました。\n【現在の主な事業】\n1:通信大手企業の
 業務フロー自動化プロジェクト\n2:ソーシャルゲームの
 受託開発\n3:自社発オープンソースプロダクト「GROWI」
 「GROWI.cloud」の開発\nGROWI.cloud\nGROWI.cloudはOSSのGROWIを専
 門的知識がなくても簡単に運用・管理できる、法人・
 個人向けの商用サービスです。\n大手Sier・ISPから中小
 企業・大学などの教育機関まで幅広くご利用いただき
 、さらに個人や大学サークルでもご利用いただいてい
 ます。\n【主な特徴】\n\nテキストも図表もどんどん書
 ける、強力な編集機能\nチーム拡大に迅速に対応でき
 る管理者向け機能を提供\n充実した機能・サポートで
 エンタープライズにも対応\n\n【導入事例記事】\nイン
 ターネットマルチフィード株式会社様\n株式会社HIKKY（
 VR法人HIKKY）様\n一緒に働く仲間を募集しています\n東
 京の高田馬場オフィス、大分にある別府サテライトオ
 フィスにてエンジニアを募集しております。\n中途採
 用だけではなく、インターンシップも積極的に受け入
 れています！\n詳しい募集要項は、弊社HPの採用ページ
 からご確認ください。\nTech Blog\nWESEEKのエンジニアが、
 技術的なTIPSをWESEEK Tech Blogへ定期的に投稿しておりま
 す。\nアンチハラスメントポリシー\n弊社が主催・運営
 をするイベントでは、アンチハラスメントポリシーを
 定めています。\nイベントに参加される場合は、こち
 らの規範を遵守していただきますようお願いいたしま
 す。\nアンチハラスメントポリシー\nまた、下記の目的
 での参加はご遠慮ください。\n・採用、営業目的
LOCATION:オンライン
URL:https://techplay.jp/event/863484?utm_medium=referral&utm_source=ics&utm
 _campaign=ics
END:VEVENT
END:VCALENDAR
