BEGIN:VCALENDAR
VERSION:2.0
PRODID:-//https://techplay.jp//JP
CALSCALE:GREGORIAN
METHOD:PUBLISH
X-WR-CALDESC:【WEB広告基礎】目標設定が鍵！ WEBからのお問
 い合わせを増やすために見直すべき5つのポイント
X-WR-CALNAME:【WEB広告基礎】目標設定が鍵！ WEBからのお問
 い合わせを増やすために見直すべき5つのポイント
X-WR-TIMEZONE:Asia/Tokyo
BEGIN:VTIMEZONE
TZID:Asia/Tokyo
BEGIN:STANDARD
DTSTART:19700101T000000
TZOFFSETFROM:+0900
TZOFFSETTO:+0900
TZNAME:JST
END:STANDARD
END:VTIMEZONE
BEGIN:VEVENT
UID:863490@techplay.jp
SUMMARY:【WEB広告基礎】目標設定が鍵！ WEBからのお問い合
 わせを増やすために見直すべき5つのポイント
DTSTART;TZID=Asia/Tokyo:20220629T160000
DTEND;TZID=Asia/Tokyo:20220629T170000
DTSTAMP:20260419T150120Z
CREATED:20220623T055931Z
DESCRIPTION:イベント詳細はこちら\nhttps://techplay.jp/event/86349
 0?utm_medium=referral&utm_source=ics&utm_campaign=ics\n\nWEB広告によ
 る集客において重要なことは、正しい目標設定をする
 ことです。\nすでにWEB広告運用を行っている担当者で
 も、代理店に運用をお願いしている方「設定したKPI(目
 標)がどのようにKGI（売上）に繋がっていくのか」を理
 解することで、より根本的な売上改善ができる様にな
 ります。\n当セミナーでは\n・WEB広告で売上をあげる為
 の根本的な考え方・KGI・KPIの考え方、立て方・自社に
 適したWEB広告施策の選び方\nについて、実際にアカウ
 ントを運用して改善を行うWEBコンサルタントの視点か
 ら解説します。\nWEB広告の集客で現在の運用状況に課
 題を感じているご担当者様は是非ともご参加ください
 。\n◆WEB広告運用のPDCAサイクル\n1.WEB広告集客における
 正しい目標設定の方法・なぜ目標設定が必要か・KGI・K
 PI設定のポイント\n2.設定目標へむけた方向性の決め方
 （PLAN）・最適なWEB広告の選び方・ロードマップ\n3.実
 行にあたって（DO）・準備するモノと工程\n4.施策の振
 り返りと分析（CHECK）・各指標の評価基準\n5.改善施策
 の立案（ACTION)・検証結果からの次施策の立案・具体的
 な事例\n\n————————————————————
 —————–\n◆セミナープログラム\nセミナータイト
 ル : 【WEB広告基礎】目標設定が鍵！ WEBからのお問い合
 わせを増やすために見直すべき5つのポイント参加費 : 
 無料定員 : 30名会場 : zoom（お申し込み完了メールに受
 講用URLをお送りいたします）\n——————————
 ———————————————–\n———————
 ——————————————————–\n◆講師紹
 介\n株式会社ExKey堀田愛莉\n中小企業・法人中心にリス
 ティング・SNS広告の提案・運用を担当。 前職は大手出
 版社グループで企業ブランディング業務
 に携わり、様々な会社の書籍出版のご案内に従事。担
 当実績業界 : IT通信、税理士法人 など\n【メッセー
 ジ】コロナ禍になり、マーケティングや営業活動に大
 きな変化・影響がある中、 自社のWEB施策の見直しを行
 う企業が増えてきました。最新の運用事例はもちろん
 、「今更聞けない…」と言ったWEB広告の基礎的な情報
 についてもお伝えしたいと思います。 この機会にぜひ
 ご参加ください。\n担当サービス：リスティング広告
 、SNS広告、その他WEB広告媒体
LOCATION:オンライン(zoom)
URL:https://techplay.jp/event/863490?utm_medium=referral&utm_source=ics&utm
 _campaign=ics
END:VEVENT
END:VCALENDAR
