BEGIN:VCALENDAR
VERSION:2.0
PRODID:-//https://techplay.jp//JP
CALSCALE:GREGORIAN
METHOD:PUBLISH
X-WR-CALDESC:第3回　瀬戸内キューブオフ会　2022／8／14（日
 )（2022／8／14 13：00〜）
X-WR-CALNAME:第3回　瀬戸内キューブオフ会　2022／8／14（日
 )（2022／8／14 13：00〜）
X-WR-TIMEZONE:Asia/Tokyo
BEGIN:VTIMEZONE
TZID:Asia/Tokyo
BEGIN:STANDARD
DTSTART:19700101T000000
TZOFFSETFROM:+0900
TZOFFSETTO:+0900
TZNAME:JST
END:STANDARD
END:VTIMEZONE
BEGIN:VEVENT
UID:863744@techplay.jp
SUMMARY:第3回　瀬戸内キューブオフ会　2022／8／14（日)（2
 022／8／14 13：00〜）
DTSTART;TZID=Asia/Tokyo:20220814T130000
DTEND;TZID=Asia/Tokyo:20220814T170000
DTSTAMP:20260423T104713Z
CREATED:20220625T063822Z
DESCRIPTION:イベント詳細はこちら\nhttps://techplay.jp/event/86374
 4?utm_medium=referral&utm_source=ics&utm_campaign=ics\n\n＝＝概要＝
 ＝＝＝＝＝＝＝＝＝＝＝＝＝＝＝＝＝＝＝＝＝＝＝＝
 ＝＝＝＝＝＝＝＝＝＝＝＝＝＝＝＝＝＝＝＝＝＝＝＝
 ＝＝＝\n広島県を中心としたメンバーで開催している
 キューブ会です。キューブをやっている人たちと交流
 したい！ という方、ぜひぜひご参加ください！ キュ
 ーブを揃えられなくても大丈夫です！！年代を問わず
 幅広い世代のキューバーの方たちと交流を深めましょ
 う！！\n＝＝イベント============================================
 ===========\nこのオフ会では計測会を行います。アンケー
 トで計測会への参加希望、希望競技をお答えください
 。\n希望競技はオフ会1週間前に締め切ります。(8月6日2
 3時59分)\n時間の都合上計測会では実施できない競技が
 あります。ご了承ください。\n午前10時から0次会を行
 います。\n参加希望はアンケートからお答えください
 。参加費用は200円です。会場は午後と同じ会場で、0次
 会のみの参加はできません。\n＝＝対象＝＝＝＝＝＝
 ＝＝＝＝＝＝＝＝＝＝＝＝＝＝＝＝＝＝＝＝＝＝＝＝
 ＝＝＝＝＝＝＝＝＝＝＝＝＝＝＝＝＝＝＝＝＝＝\nど
 なたでも参加歓迎ですが、小学生以下の方は保護者同
 伴でお願い致します。\n＝＝参加費＝＝＝＝＝＝＝＝
 ＝＝＝＝＝＝＝＝＝＝＝＝＝＝＝＝＝＝＝＝＝＝＝＝
 ＝＝＝＝＝＝＝＝＝＝＝＝＝＝＝＝＝＝＝\n500円（小
 学生以下は無料ですが、同伴の保護者の方はお一人500
 円お願いします。当日会場にてお支払い頂きます。）\
 n午前中に0次会を行います。参加費用は午後の参加費50
 0円に追加で200円(合計700円)お願いします。\nアンケー
 ト欄の0次会参加希望の枠にお答えください。\n参加費
 は会場使用料、消毒液、除菌シート等の購入費用に当
 てさせて頂きます。\n＝＝会場＝＝＝＝＝＝＝＝＝＝
 ＝＝＝＝＝＝＝＝＝＝＝＝＝＝＝＝＝＝＝＝＝＝＝＝
 ＝＝＝＝＝＝＝＝＝＝＝＝＝＝＝＝＝＝\n広島市西区
 打笹越町１０番２３号\n三篠公民館　3F　研修室1　定
 員：54名(募集人数は25名)\nhttp://www.cf.city.hiroshima.jp/misasa
 -k/\n＝＝日時＝＝＝＝＝＝＝＝＝＝＝＝＝＝＝＝＝＝
 ＝＝＝＝＝＝＝＝＝＝＝＝＝＝＝＝＝＝＝＝＝＝＝＝
 ＝＝＝＝＝＝＝＝＝＝\n2022/8/14(日) 13:00～16:45 \n途中参
 加・途中退室可\n17:00には会場撤収ですので、片付け等
 、お手伝いいただけると助かります。\n＝＝注意事項
 ＝＝＝＝＝＝＝＝＝＝＝＝＝＝＝＝＝＝＝＝＝＝＝＝
 ＝＝＝＝＝＝＝＝＝＝＝＝＝＝＝＝＝＝＝＝＝＝＝＝
 ＝＝\n参加者の皆様には下記ご確認をお願いします。\n
 ・0次会のみの参加はできません。\n・マスクの着用を
 お願いします。\n・当日自宅にて検温をお願いします
 。37.5度以上の発熱等体調が優れない方は参加できませ
 ん。\n・過去2週間以内に外国への訪問歴がある方は参
 加できません。\n・緊急連絡先リストを作成するため
 、アンケートに氏名（ふりがな）と電話番号を記入し
 て下さい。\n・会場施設ではウィルス感染拡大防止対
 策を講じていますが、感染リスクがありますことをご
 理解の上ご参加下さい。\n・国や広島市の方針で開催
 できない可能性があります。また主催者の判断で開催
 しない場合もありますので予めご了承ください。\n・
 開催できない / しない場合は別途ご連絡します。\n＝
 ＝連絡先＝＝＝＝＝＝＝＝＝＝＝＝＝＝＝＝＝＝＝＝
 ＝＝＝＝＝＝＝＝＝＝＝＝＝＝＝＝＝＝＝＝＝＝＝＝
 ＝＝＝＝＝＝＝＝＝\nsturcc2022@gmail.com\n＝＝＝＝＝Twitter
 ＝＝＝＝＝＝＝＝＝＝＝＝＝＝＝＝＝＝＝＝＝＝＝＝
 ＝＝＝＝＝＝＝＝＝＝＝＝＝＝＝＝＝＝＝＝＝＝＝＝\
 n@umeko_cube
LOCATION:三篠公民館 広島県広島市西区打越町１０番２３
 号
URL:https://techplay.jp/event/863744?utm_medium=referral&utm_source=ics&utm
 _campaign=ics
END:VEVENT
END:VCALENDAR
