BEGIN:VCALENDAR
VERSION:2.0
PRODID:-//https://techplay.jp//JP
CALSCALE:GREGORIAN
METHOD:PUBLISH
X-WR-CALDESC:PHPerのための「PHPDoc相談会」PHP TechCafe
X-WR-CALNAME:PHPerのための「PHPDoc相談会」PHP TechCafe
X-WR-TIMEZONE:Asia/Tokyo
BEGIN:VTIMEZONE
TZID:Asia/Tokyo
BEGIN:STANDARD
DTSTART:19700101T000000
TZOFFSETFROM:+0900
TZOFFSETTO:+0900
TZNAME:JST
END:STANDARD
END:VTIMEZONE
BEGIN:VEVENT
UID:863846@techplay.jp
SUMMARY:PHPerのための「PHPDoc相談会」PHP TechCafe
DTSTART;TZID=Asia/Tokyo:20220729T190000
DTEND;TZID=Asia/Tokyo:20220729T210000
DTSTAMP:20260423T071156Z
CREATED:20220627T010207Z
DESCRIPTION:イベント詳細はこちら\nhttps://techplay.jp/event/86384
 6?utm_medium=referral&utm_source=ics&utm_campaign=ics\n\n今回のTechCaf
 eテーマ\nPHPer's NEWS !!\nPHPやWeb技術関連の最新情報・記
 事など、PHPerが聞きたいニュースをピックアップして
 紹介します！！\n"一緒に語り合う枠" の方はもちろん
 、"聞き専枠" の方も、チャットを使って意見交換・情
 報交換をしましょう！\n特集：「PHPDoc相談会」\nPHPDocは
 数が多く、ツールによって対応有無も異なります。そ
 んなPHPDocについて、イベント運営メンバが疑問に思っ
 たことを中心にワイワイ盛り上がりましょう！！\nShowN
 ote\n== 作成中 ==※内容が変更になる場合がありますの
 で、ご了承ください。\n過去の議題一覧\n2022年度\n\n6月
 開催：「PHPerのための「Composer」を語り合う」\n5月開催
 ：「PHPerのための「静的解析」を語り合う」 ShowNote\n\n4
 月開催：「PHPer Kaigi 2022 を振り返る」 ShowNote\n\n3月開催
 ：「Laravel 9 について語る」 ShowNote\n\n2月開催：「PHPer
 のための「Xdebugの活用方法」を語る」 ShowNote\n\n1月開
 催：「2021年のPHP/Laravel振り返り＋2022年」を語る」ShowNo
 te\n\n\n2021年度\n\n12月開催：「PHPerのためのPHP8.1をもっ
 と語り合う」 ShowNote 内容書き起こし\n\n11月開催：「PHP
  カンファレンス 2021を振り返る」 ShowNote\n\n10月開催：
 「Laravel 入門を語り合う」 ShowNote\n\n9月開催：「PHPUnit 
 の始め方について語りあう」 ShowNote 内容書き起こし\n\
 n8月開催：「PHP8.1 の新機能について語り合う」 ShowNote 
 内容書き起こし1 内容書き起こし2\n\n7月開催：「PHPerの
 今とその先を語り合うフォーラム2021」 ShowNote 内容書
 き起こし\n\n6月開催：「PHPUnit について語り合う」 ShowN
 ote\n\n5月開催：「PHPDocについて語り合う」 ShowNote\n\n4月
 開催：「PHP標準コーディングルール（PSR）について語
 り合う」 ShowNote\n\n1月開催：「2020年のPHP/Laravel振り返
 り＋2021年」 ShowNote\n\n\n2020年度\n\n12月開催：「Laravel/PHP
 8/Dockerで開発環境作りを語り合う」 ShowNote\n\n11月開催
 ：「Laravel8を中心に語り合う」 ShowNote\n\n10月開催：「PH
 Pのニュースや記事を語り合う」 ShowNote\n\n9月開催：「
 『PHP8』のニュースや記事を語り合う」 ShowNote\n\n8月開
 催：「PHPのニュースや記事を語り合う」 ShowNote\n\n7月
 開催：「PHPのニュースや記事を語り合う」 ShowNote\n\n6
 月開催：「PHPのニュースや記事を語り合う」 ShowNote\n\n
 \n◆2021年度のPHPTechCafeまとめ記事毎月開催しているPHPer
 のための学習コミュニティ、PHPTechCafe【21年度 まとめ
 】\n過去のイベント風景はこちら（Facebookへのアルバム
 へのリンクです）\nhttps://business.facebook.com/RAKUS.pr/photos/a
 .2704257409863130/2704257419863129/?type=3&theaterhttps://business.facebo
 ok.com/RAKUS.pr/photos/a.2704257409863130/2704257529863118/?type=3&theate
 r\n主催出演者の紹介\n\n\nY-Kanoh\n\n\n2016年新卒でラクス
 へ入社。入社後、配配メール開発チームへ参画し、現
 在はメールディーラーの開発チームに所属。入社と同
 時にPHPを扱い始め、趣味でLaravelやDocker、Vue.jsを触って
 います。キーボードはHHKB。参加者の皆さんとともに、
 自分もPHPerとしてレベルアップできればと思います！\n
 \n\nMasaKu\n\n\n2017年新卒でラクスへ入社。配配メールの
 開発を担当しています。個人でWebサービスを作成した
 り、興味のある技術をあれこれ試すのが趣味です。PHP
 のように、良いものを取り入れ続けるエンジニアにな
 ることが目標です！\n\n\nTakayuki Fujisawa\n\n\nSIerとベンチ
 ャー企業を経て、2015年ラクス入社。PHP開発を始めたの
 は8年前（元Javaエンジニア）FWはCakePHP\, FuelPHP\, Laravel\, 
 Zend Framework\, Ethna（今は亡き）ラクス入社後は楽楽販売
 ・配配メールの開発や、品質管理や技術仕様の標準化
 など多岐に渡るおしごとに従事。現在は楽楽労務の開
 発を担当。初心者の方からツヨツヨの方まで、一緒に
 ワイワイお話しできると嬉しいです。\nTechCafeについて
 \n「TechCafe」は、PHPを軸としてエンジニアと技術が交差
 する憩いの場（カフェ）になることを目指し、WebやPHP
 に関わるITエンジニアがスキルアップのために開発や
 勉強、LTや情報共有などを行うコミュニティです。普
 段は、弊社オフィスに来社頂き、特定のテーマについ
 てディスカッションや、もくもく自習などを行って頂
 いています。\n弊社の社員も参加します。エンジニア
 同士が楽しみながら学習するためのコミュニティです
 。お気軽にご参加ください。\nよろしければ弊社の 開
 発者ブログ もご覧ください。興味を持たれましたらぜ
 ひご参加ください。\n対象者\nPHPを入門後の初級エンジ
 ニア～シニアエンジニア\n\nエンジニア同士の学び・情
 報共有の場をつくり、エキスパートまでの自己成長を
 支援する\n学びの場を一緒に支援して頂けるエキスパ
 ート以上のかたの参加も大歓迎\n\n※入門者向けのスク
 ール系の領域はコミュニティとしては対象外としてい
 ます\n投書箱\nイベントで取り上げて欲しいテーマや、
 イベントの感想、その他ご意見等を募集します！お気
 軽に投稿してください！\n投稿は**こちら**\nSlack\n本コ
 ミュニティ用のSlackチャンネルにご参加頂ければ幸い
 です。\nこちらからご参加ください\n#開催概要\n【日時
 】2022/7/29(金) 19:00～20:30　※10分前から入室可能です！\
 n【会場】オンライン（Zoom）　※Connpassのメッセージ機
 能、およびイベントページ中の「参加者への情報」欄
 にて開催前にURLを通知いたします。\n【参加費】無料\n
 【主催】ラクス\n一緒に語り合う枠\nPHPやWeb開発に関連
 するニュースや記事をピックアップしてディスカッシ
 ョンします。「一言くらいはしゃべるかも」程度でお
 気軽にご参加ください。可能な方のみで結構ですので
 、「顔出し」して頂けると幸いです！\nまた、冒頭で
 簡単にお名前（orニックネーム）と「今こんなことに
 興味があるよ」を共有して頂きます。\n\n\n\n\n語り合う
 方\n\n\n\n\n1\nMasaKuさん\n\n\n2\nY-Kanohさん\n\n\n3\n募集中\n\n\
 n4\n募集中\n\n\n5\n募集中\n\n\n6\n募集中\n\n\n7\n募集中\n\n\n
 \nLT枠（5分）\n発表テーマはPHPに関する内容であれば何
 でも構いません。※「PHPに関する」は厳密な縛りでは
 ありませんので、ご自由に拡大解釈頂いて結構です。\
 n\nご自身の学習内容\n個人で開発したサービス\n開発の
 ノウハウ\n\nなど、知識やノウハウを参加者同士で共有
 し合いましょう。\n※なお、発表者は先着順とさせて
 いただきますので、ご容赦ください。\n\n\n\n\n発表テー
 マ\n発表者\n\n\n\n\n1\nそれ全部エラーメッセージに書い
 てあるよ！（仮）\n77webさん\n\n\n2\n募集中\n募集中\n\n\n3
 \n募集中\n募集中\n\n\n\n※確定次第、更新します\n注意
 事項\n\n発表練習はありませんので、ご自身の発表時間
 前にはZoomへご入室をお願いします。\n事前の資料共有
 は不要です。当日に向けてご準備をお願いします！\n\n
 聞き専枠\n文字通り、聞くのみのご参加です。マイク
 ・カメラOFFでご参加ください。（ホスト側でもコント
 ロールします）\n#タイムテーブル（途中参加OK）\n\n19:0
 0 開始・ご挨拶など\n19:10～ 自己紹介\n19:15～ LT会パー
 ト ※エントリーがあった場合、先着順で発表して頂き
 ます\n19:30ごろ～ ディスカッション開始\n20:20 アンケー
 トのお願い、締めのご挨拶\n20:30 終了\n\n登壇者情報 詳
 細\n一緒に語り合う枠\n後程記載します。\nLT枠\n77webさ
 ん\n出産後に初めて独学でPHPを学んでPHPerになったエン
 ジニア。所属はフリーランス→カルテットコミュニケ
 ーションズ開発部現在はPHPチームのプレイングマネー
 ジャー。副業でmicoworksでもコード書いてます。日本Symf
 onyユーザー会、Symfony5 the Fast Track翻訳チーム。\nラクス
 の利用技術スタック（一部）\n\n開発\n\n使用言語：Java
 、PHP、Swift、Kotlin\nMW：PostgreSQL、Postfix、Apache\nFW・ライ
 ブラリ：Spring Boot、Laravel、Vue.js、jQuery\n開発ツール：ec
 lipse、GitLab、IntelliJ IDEA、Xcode、Android Studio、Flyway、Redmin
 e\nCI・テスト：Selenide、Gradle、JMeter、jUnit、Jenkins\n\n\nイ
 ンフラ\n\n言語：Python\, PHP\nプラットフォーム：オンプ
 レミス\, AWS（EC2、ECS、EKS、RDS、S3、Lambda etc）\n仮想化
 基盤： VMWare\, Nutanix\nIaC： Terraform\, Ansible\n運用・監視
 ：Zabbix、Grafana、Prometheus、ElasticStack\nその他ツール：Git
 、Jenkins、Selenium、Rundeck、Serverspec\n\n\n\n\n注意事項\n\n当
 イベントの内容およびスケジュールは、予告なく変更
 となる場合があります。予めご了承ください。\n他の
 参加者の方の妨げになるような行為は禁止、運営側の
 判断でご退出をお願いする場合があります。\nブログ
 やSNS等で当イベントに関する発信を行う際は、公序良
 俗に反する内容のないよう、ご協力をお願いします。\
 n当イベントはオンライン開催のため、通信状況によっ
 て音声や映像の乱れがある場合がございます。\n配信
 トラブル時のアナウンスはTwitterより行います。\n当日
 のイベント風景を録画させていただいております。内
 容は後日レポート記事やSNS掲載又は、会員限定の動画
 配信される場合がありますのでご了承ください。\n\nエ
 ンジニア中途採用サイト\nラクスでは、エンジニア・
 デザイナーの中途採用を積極的に行っております！ご
 興味ありましたら是非ご確認をお願いします。https://ca
 reer-recruit.rakus.co.jp/career_engineer/\nカジュアル面談\nどの
 職種に応募すれば良いかわからないという方は、カジ
 ュアル面談も随時行っております。以下フォームより
 お申込みください！https://rakus.hubspotpagebuilder.com/visit_eng
 ineer/
LOCATION:オンライン
URL:https://techplay.jp/event/863846?utm_medium=referral&utm_source=ics&utm
 _campaign=ics
END:VEVENT
END:VCALENDAR
