BEGIN:VCALENDAR
VERSION:2.0
PRODID:-//https://techplay.jp//JP
CALSCALE:GREGORIAN
METHOD:PUBLISH
X-WR-CALDESC:「Twitter 実例編」応募したくなるキャンペーン
 のやり方をあれこれ徹底解説！
X-WR-CALNAME:「Twitter 実例編」応募したくなるキャンペーン
 のやり方をあれこれ徹底解説！
X-WR-TIMEZONE:Asia/Tokyo
BEGIN:VTIMEZONE
TZID:Asia/Tokyo
BEGIN:STANDARD
DTSTART:19700101T000000
TZOFFSETFROM:+0900
TZOFFSETTO:+0900
TZNAME:JST
END:STANDARD
END:VTIMEZONE
BEGIN:VEVENT
UID:863947@techplay.jp
SUMMARY:「Twitter 実例編」応募したくなるキャンペーンの
 やり方をあれこれ徹底解説！
DTSTART;TZID=Asia/Tokyo:20220707T140000
DTEND;TZID=Asia/Tokyo:20220707T150000
DTSTAMP:20260426T022313Z
CREATED:20220627T092135Z
DESCRIPTION:イベント詳細はこちら\nhttps://techplay.jp/event/86394
 7?utm_medium=referral&utm_source=ics&utm_campaign=ics\n\n「Twitter 実
 例編」応募したくなるキャンペーンのやり方をあれこ
 れ徹底解説！\nセミナー内容\n最近よく目にする\n【Twit
 ter フォロー&リツイートキャンペーン】\n様々な企業が
 フォロワーを増やしたり、商品の認知向上を狙って開
 催してますよね。\n今回のセミナーでは、Twitter キャン
 ペーンのやり方や効果的に実施するポイントなど、「
 デジタルプロモーション実績 1\,000件以上！」のギフデ
 ジが、事例を交えてご紹介します！\nこんな方におす
 すめ！\n★消費財やサービス企業のプロモーション・
 マーケティング・セールスご担当者様★流通業界、広
 告代理店のご担当者様\n\n純粋にキャンペーンを開催し
 てみたい！\nデジタルキャンペーン(SNS)に興味をお持ち
 の方\n成果を出すキャンペーンのポイントを知りたい
 ！\nキャンペーンはコストが見合わないと感じている
 方\n\n少しでもご興味のある方はお気軽にご参加くださ
 い〜\n以下の内容も個別相談で承っております\n\nその
 場で、デジタルギフト/デジタルコードが抽選で当たる
 キャンペーン\nマイページ(ポイント累積型)キャンペー
 ン\nID、シリアルコードキャンペーン\nデジタルキャン
 ペーンの不正対策\nアンケート分析のマーケティング
 活用(クロス集計/回答フィルタ分析\n\nギフデジ デジタ
 ルキャンペーン事例\n●Twitter フォロー&リツイートキ
 ャンペーン　→即時抽選でデジタルコードを使うこと
 で成果をだせます。　→フォロワー100人から25\,000人超
 え(弊社実績)\n●QRコードキャンペーン　　→QRコード
 キャンペーン生成　　→可変QRコードのバリアブル印
 刷\n●レシート(画像解析)キャンペーン　　→マストバ
 イキャンペーン　　即時判定、即時配信キャンペーン
 実績あり　　【条件例】　　　「特定商品」の購買す
 ること　　　「合計金額」が指定金額以上であること\
 n→マイページ(ポイント累積型)キャンペーン　　累積
 型にすることで複数回の購入や顧客単価UPが見込めま
 す。\n●ID、シリアルコードキャンペーン　　→ ECサイ
 ト等の会員登録キャンペーン　　→ キャンペーンサイ
 ト連携　　　 [SNSログイン] (LINE連携\, Twitter連携 など
 も可能です)\n【不正対策】キャンペーン1\,000件以上　
 デジタルコード配信550万件以上の実績で、不正対策ソ
 リューションをご用意しております。\n参加方法\n参加
 希望の方はご覧になっているTECH PLAYイベントページよ
 り下記情報をご入力の上、参加申し込みをお願いいた
 します。\n▶︎会社名▶︎部署名▶︎お名前▶︎メー
 ルアドレス▶︎電話番号▶︎アンケート\n予約が完了
 となりましたら、後ほど別途ウェビナーのリンク先URL
 をお送りいたします。\n※必要情報が記入されていな
 い場合、また弊社が不適切と判断した場合など、参加
 をお断りする場合がございます、予めご了承ください
 。\n皆様のご参加を心よりお待ちしております。
LOCATION:オンライン
URL:https://techplay.jp/event/863947?utm_medium=referral&utm_source=ics&utm
 _campaign=ics
END:VEVENT
END:VCALENDAR
