BEGIN:VCALENDAR
VERSION:2.0
PRODID:-//https://techplay.jp//JP
CALSCALE:GREGORIAN
METHOD:PUBLISH
X-WR-CALDESC:※登壇者変更あり※【ラクスDev Team Talk】中核
 人材と創る急成長プロダクト組織
X-WR-CALNAME:※登壇者変更あり※【ラクスDev Team Talk】中核
 人材と創る急成長プロダクト組織
X-WR-TIMEZONE:Asia/Tokyo
BEGIN:VTIMEZONE
TZID:Asia/Tokyo
BEGIN:STANDARD
DTSTART:19700101T000000
TZOFFSETFROM:+0900
TZOFFSETTO:+0900
TZNAME:JST
END:STANDARD
END:VTIMEZONE
BEGIN:VEVENT
UID:863949@techplay.jp
SUMMARY:※登壇者変更あり※【ラクスDev Team Talk】中核人材
 と創る急成長プロダクト組織
DTSTART;TZID=Asia/Tokyo:20220725T190000
DTEND;TZID=Asia/Tokyo:20220725T200000
DTSTAMP:20260423T071149Z
CREATED:20220627T093020Z
DESCRIPTION:イベント詳細はこちら\nhttps://techplay.jp/event/86394
 9?utm_medium=referral&utm_source=ics&utm_campaign=ics\n\n※登壇者変
 更のお知らせとお詫び※大変申し訳ございませんが、
 諸般の事情により、楽楽明細開発部長 高橋の登壇が中
 止となりました。当日は楽楽明細のチーム作り取り組
 み事例を技術広報２名よりご紹介いたします。\n急成
 長を実現するチームづくりをエンジニアリングマネー
 ジャーが語ります！\nラクスでは、ビジネスの業務効
 率化や付加価値向上を支援するSaaSを多数提供しており
 、延べ80\,000社のお客様にご利用いただいています。\n
 今回のテーマは急成長中「楽楽明細」が現在進行形で
 取り組むチームづくり。導入件数年間170%成長のサービ
 ス開発を支える取り組みとは？エンジニアリングマネ
 ージャーと試行錯誤や今後の展望をお話します。\nこ
 んなことをお話します\n\nプロダクト紹介\n開発体制／
 チーム紹介\n開発プロセス\nプロダクト紹介と機能開発
 事例\n事例紹介：「楽楽明細」のチームづくり\n\n組織
 拡大による課題と体制強化の取り組み\n新規プロダク
 トリリースに伴う組織再編\nアーキテクチャと開発プ
 ロセスの改善\n育成・オンボーディング\n\n\n\nこんな方
 におススメ\n\nサーバサイドエンジニア、Webエンジニア
 の方\nエンジニア組織マネジメント、チームづくりに
 興味のある方\n\n※ご参考：ラクスの技術スタック、開
 発プロセス等\n言語：Java\, PHP\, Go\, Python\, Node.jsフレー
 ムワーク: Spring Boot\, Laravel 等フロントエンド： TypeScrip
 t\, React/Redux\, Vue.jsインフラ：オンプレミス\, AWS\, Docker\
 , k8s開発プロセス：アジャイル（大規模スクラム LeSS等
 ）、ウォーターフォールコードレビュー：Pull Request ベ
 ース（GitLabのMergeRequest）CI\,テスト：GitLab CI\, Jenkins\, gr
 adle\, Selenium/Selenide\n申込方法\n\nお申込期日：2022/7/25(月
 ) 18:00迄\n\nこちらのボタンよりご登録ください\n開催概
 要\n\n日時: 2022/7/25(月) 19:00-20:00\n\nZoomへの入室は10分前
 からとなります。\n\n\n会場: オンライン（Zoom）\n\nメッ
 セージでも事前にZoomURLを通知いたします。\n\n\n参加費
 : 無料\n\n※イベント参加人数が少ない場合など、中止
 とする場合がございますのでご了承ください。\nタイ
 ムスケジュール\n\n\n\n時間\n内容\n\n\n\n\n19:00 ～ 19:10\nオ
 ープニング・社員自己紹介・会社紹介\n\n\n19:10 ～ 19:35\
 n事例紹介：楽楽明細チームづくりの取り組み\n\n\n19:35 
 ～ 19:50\nクロストーク／参加者の皆様からのQ&A\n\n\n19:50
  〜 20:00\nクロージング\n\n\n～20:00\n終了予定\n\n\n\n当社
 参加メンバー\n\n米田 慎太郎 / 技術広報2020年ラクス入
 社IT出版や人材企業で新規事業開発、マーケティング
 、経営企画・内部統制やセールス組織のマネジメント
 を経験。現在は技術広報として、イベントやテックブ
 ログの企画運営を担当。\n菊池 伸匡 / 技術広報2021年ラ
 クス入社HR Techプロダクトのオフショア開発PLやIT企業
 の人事等を経験。開発本部の技術広報として、エンジ
 ニア・デザイナー向けのイベント企画運営を担当。\n\n
 \nこちらもご覧ください\n【5分でわかる】開発本部紹
 介資料主催の技術イベント一覧テックブログ\n注意事
 項\n\n当イベントの内容およびスケジュールは、予告な
 く変更となる場合があります。予めご了承ください。\
 n他の参加者の方の妨げになるような行為は禁止、運営
 側の判断でご退出をお願いする場合があります。\nブ
 ログやSNSなどで当イベントに関する発信を行う際には
 、公序良俗に反する内容のないよう、ご協力をお願い
 します。\n当イベントはオンライン開催のため、通信
 状況によって音声や映像の乱れがある場合がございま
 す。\nイベント風景を録画しておりますが、運営改善
 以外には用いません。皆様の映像は録画されませんの
 でご安心ください。\n配信トラブル時のアナウンスはTw
 itterより行います。\n
LOCATION:オンライン
URL:https://techplay.jp/event/863949?utm_medium=referral&utm_source=ics&utm
 _campaign=ics
END:VEVENT
END:VCALENDAR
