BEGIN:VCALENDAR
VERSION:2.0
PRODID:-//https://techplay.jp//JP
CALSCALE:GREGORIAN
METHOD:PUBLISH
X-WR-CALDESC:【Accenture Tech Talk Vol.10】Accentureが考えるエンタ
 ープライズアーキテクチャの方向性
X-WR-CALNAME:【Accenture Tech Talk Vol.10】Accentureが考えるエンタ
 ープライズアーキテクチャの方向性
X-WR-TIMEZONE:Asia/Tokyo
BEGIN:VTIMEZONE
TZID:Asia/Tokyo
BEGIN:STANDARD
DTSTART:19700101T000000
TZOFFSETFROM:+0900
TZOFFSETTO:+0900
TZNAME:JST
END:STANDARD
END:VTIMEZONE
BEGIN:VEVENT
UID:864202@techplay.jp
SUMMARY:【Accenture Tech Talk Vol.10】Accentureが考えるエンター
 プライズアーキテクチャの方向性
DTSTART;TZID=Asia/Tokyo:20220714T190000
DTEND;TZID=Asia/Tokyo:20220714T203000
DTSTAMP:20260419T153119Z
CREATED:20220629T100348Z
DESCRIPTION:イベント詳細はこちら\nhttps://techplay.jp/event/86420
 2?utm_medium=referral&utm_source=ics&utm_campaign=ics\n\n★Accenture Te
 ch Talk『部門・領域説明会』第10弾！★\n今回はテクノ
 ロジーコンサルティング本部クロスプラットフォーム
 ファンクションが担当いたします。 当グループは業務
 を軸とする３つのチームと、技術を軸とする１つのチ
 ームから組成され\, 2020年に立ち上げられた新組織にな
 ります。業界・ソリューション横断にて、業務コンサ
 ルの知見と 様々なテクノロジーを組み合わせ、お客様
 の中核ビジネスの構造変革とさらなる成長支援を行う
 ことをミッションとしております\n■説明会概要当日
 は当グループよりManaging Director４名が登壇し、ざっく
 ばらんなパネルディスカッションを通じてエンタープ
 ライズアーキテクチャの方向性についてお話させてい
 ただきます。\nタイムスケジュール\n\n\n\n日時\n内容\n\n
 \n\n\n19:00- 19:05\nオープニング/Accenture Tech Talkについて
 の概要\n\n\n19:05- 19:15\n登壇者自己紹介\n\n\n19:30- 20:15\nパ
 ネルディスカッション\n\n\n20:15- 20:30\nQ&A\n\n\n\n※参加人
 数に応じて内容を変更する場合がございます。\n参加
 対象\n下記、いずれかのご経験、ご志向をお持ちの方
 。・クロスプラットフォームファンクションの取り組
 みにご興味をお持ちの方・システムエンジニアのご経
 験・ITコンサルタントのご経験・プロジェクトマネー
 ジャーのご経験・システムアーキテクトのご経験\n場
 所\nオンライン\n参加費\n無料\n注意事項\n欠席される場
 合は、お手数ですが速やかにキャンセル処理をお願い
 致します。無断キャンセルや欠席が続く場合、次回以
 降の参加をお断りさせていただく場合がございます。
LOCATION:オンライン
URL:https://techplay.jp/event/864202?utm_medium=referral&utm_source=ics&utm
 _campaign=ics
END:VEVENT
END:VCALENDAR
