BEGIN:VCALENDAR
VERSION:2.0
PRODID:-//https://techplay.jp//JP
CALSCALE:GREGORIAN
METHOD:PUBLISH
X-WR-CALDESC:「QRを読み取って応募 実例編」応募したくな
 るキャンペーンのやり方をあれこれ徹底解説！
X-WR-CALNAME:「QRを読み取って応募 実例編」応募したくな
 るキャンペーンのやり方をあれこれ徹底解説！
X-WR-TIMEZONE:Asia/Tokyo
BEGIN:VTIMEZONE
TZID:Asia/Tokyo
BEGIN:STANDARD
DTSTART:19700101T000000
TZOFFSETFROM:+0900
TZOFFSETTO:+0900
TZNAME:JST
END:STANDARD
END:VTIMEZONE
BEGIN:VEVENT
UID:864350@techplay.jp
SUMMARY:「QRを読み取って応募 実例編」応募したくなるキ
 ャンペーンのやり方をあれこれ徹底解説！
DTSTART;TZID=Asia/Tokyo:20220721T140000
DTEND;TZID=Asia/Tokyo:20220721T150000
DTSTAMP:20260426T022330Z
CREATED:20220630T080011Z
DESCRIPTION:イベント詳細はこちら\nhttps://techplay.jp/event/86435
 0?utm_medium=referral&utm_source=ics&utm_campaign=ics\n\n「QRを読み
 取って応募 実例編」応募したくなるキャンペーンのや
 り方をあれこれ徹底解説！\nセミナー内容\nコンビニや
 スーパーなどでよく目にする\n【QRを読み取って応募す
 るキャンペーン】\nペットボトルのラベルに記載され
 たQRコードをスマホで読み取って応募するアレです！\n
 今回のセミナーでは、そんなQRを読み取って応募する
 キャンペーンについて、やり方や仕組み、効果的に実
 施するポイントなど、「デジタルプロモーション実績 
 1\,000件以上！」のギフデジが、事例を交えてご紹介し
 ます！\nこんな方におすすめ！\n★消費財やサービス企
 業のプロモーション・マーケティング・セールスご担
 当者様★流通業界、広告代理店のご担当者様\n\n純粋に
 キャンペーンを開催してみたい！\nデジタルキャンペ
 ーン(Web)に興味をお持ちの方\nQRコード/可変QRコードに
 興味をお持ちの方\n成果を出すキャンペーンのポイン
 トを知りたい！\nキャンペーンはコストが見合わない
 と感じている方\n\n少しでもご興味のある方はお気軽に
 ご参加ください〜\n以下の内容も個別相談で承ってお
 ります\n\nその場で、デジタルギフト/デジタルコード
 が抽選で当たるキャンペーン\nSNS（Twitter・Instagram・LINE
 など）を使ったキャンペーン\nマイページ(ポイント累
 積型)キャンペーン\nレシートで応募するキャンペーン\
 nID、シリアルコードキャンペーン\nデジタルキャンペ
 ーンの不正対策\nアンケート分析のマーケティング活
 用(クロス集計/回答フィルタ分析\n\nギフデジ デジタル
 キャンペーン事例\n●Twitter フォロー&リツイートキャ
 ンペーン　→即時抽選でデジタルコードを使うことで
 成果をだせます。　→フォロワー100人から25\,000人超え
 (弊社実績)\n●QRコードキャンペーン　　→QRコードキ
 ャンペーン生成　　→可変QRコードのバリアブル印刷\n
 ●レシート(画像解析)キャンペーン　　→マストバイ
 キャンペーン　　即時判定、即時配信キャンペーン実
 績あり　　【条件例】　　　「特定商品」の購買する
 こと　　　「合計金額」が指定金額以上であること\n
 →マイページ(ポイント累積型)キャンペーン　　累積
 型にすることで複数回の購入や顧客単価UPが見込めま
 す。\n●ID、シリアルコードキャンペーン　　→ ECサイ
 ト等の会員登録キャンペーン　　→ キャンペーンサイ
 ト連携　　　 [SNSログイン] (LINE連携\, Twitter連携 など
 も可能です)\n【不正対策】キャンペーン1\,000件以上　
 デジタルコード配信550万件以上の実績で、不正対策ソ
 リューションをご用意しております。\n参加方法\n参加
 希望の方はご覧になっているTECH PLAYイベントページよ
 り下記情報をご入力の上、参加申し込みをお願いいた
 します。\n▶︎会社名▶︎部署名▶︎お名前▶︎メー
 ルアドレス▶︎電話番号▶︎アンケート\n予約が完了
 となりましたら、後ほど別途ウェビナーのリンク先URL
 をお送りいたします。\n※必要情報が記入されていな
 い場合、また弊社が不適切と判断した場合など、参加
 をお断りする場合がございます、予めご了承ください
 。\n皆様のご参加を心よりお待ちしております。
LOCATION:オンライン
URL:https://techplay.jp/event/864350?utm_medium=referral&utm_source=ics&utm
 _campaign=ics
END:VEVENT
END:VCALENDAR
