BEGIN:VCALENDAR
VERSION:2.0
PRODID:-//https://techplay.jp//JP
CALSCALE:GREGORIAN
METHOD:PUBLISH
X-WR-CALDESC:「量子コンピュータによる機械学習」読書会 6
 3
X-WR-CALNAME:「量子コンピュータによる機械学習」読書会 6
 3
X-WR-TIMEZONE:Asia/Tokyo
BEGIN:VTIMEZONE
TZID:Asia/Tokyo
BEGIN:STANDARD
DTSTART:19700101T000000
TZOFFSETFROM:+0900
TZOFFSETTO:+0900
TZNAME:JST
END:STANDARD
END:VTIMEZONE
BEGIN:VEVENT
UID:864960@techplay.jp
SUMMARY:「量子コンピュータによる機械学習」読書会 63
DTSTART;TZID=Asia/Tokyo:20220711T210000
DTEND;TZID=Asia/Tokyo:20220711T220000
DTSTAMP:20260422T004256Z
CREATED:20220704T141735Z
DESCRIPTION:イベント詳細はこちら\nhttps://techplay.jp/event/86496
 0?utm_medium=referral&utm_source=ics&utm_campaign=ics\n\n 概要 \n近年
 、素因数分解や探索問題など、いくつかの問題を従来
 のコンピュータよりも少ない計算量で解ける量子コン
 ピュータや情報論的な安全性をもつ量子暗号等によっ
 て量子情報科学が社会的にも注目されております。一
 方、ディープラーニングの登場によって始まった第三
 次AIブームは現在も続いており、日常生活のいたると
 ころで人工知能は利用されています。従来のコンピュ
 ータの代わりに量子コンピュータを使って、より効率
 的に機械学習ができないかというのは自然な考えです
 。今回は量子コンピュータを用いた教師付き学習につ
 いて、基本原理をしっかりと理解することを目指しま
 す。\n2章と3章で量子コンピュータの基礎と機械学習の
 基礎を学習しました。これから新たに参加される場合
 は、量子情報と通常の機械学習についてある程度知っ
 ていることが前提になります。\nテキスト\n共立出版か
 ら発行されている「量子コンピュータによる機械学習
 」　https://www.kyoritsu-pub.co.jp/bookdetail/9784320124622　を使い
 ます。\nこの本は「Supervised Learning with Quantum Computers」\n
 https://www.springer.com/gp/book/9783319964232\nの日本語訳です。\
 n2021年11月15日追記\n原著の英語版では第二版が出版さ
 れました。\nhttps://link.springer.com/book/10.1007/978-3-030-83098-4
 \n第二版の日本語訳は今のところは出版されていませ
 ん。\n初版と第二版とでは本の構成が大幅に異なるた
 め、第35回からは第二版の構成に従って読んでいきま
 す。\nただし読者の方で日本語の初版お持ちの方は、
 適宜初版の該当場所を示しますので英語版を持ってい
 なくてもよいように配慮いたします。\n\n今回の内容\n
 引き続き7.1節のHHLアルゴリズムを使った機械学習につ
 いてみていきます。今回はホップフィールド模型につ
 いての話がメインになります。\n\n 進め方\nこの読書会
 はオンラインでスカイプを用いて開催します。\n開始
 時刻になったら、主催者がこの読書会のスカイプの音
 声通話を開始します。\n基本的には主催者が教科書の
 該当範囲の説明をする、数式がある場合はその計算に
 ついて解説をします。そして参加者は適宜、質問して
 議論をして理解を深めるという形を想定しています。
 なお洗練された講義とはほど遠いと思いますので、参
 加される場合はその点ご了承ください。\n\n毎週月曜日
 の21:00~22:00の開催を想定しています。\n\n\n参加方法\n参
 加する方はconnpassで参加申し込みをお願いします。申
 し込み後、「参加者への情報」においてこの読書会の
 スカイプに参加するためのリンクが表示されます。そ
 のリンクをクリックしてスカイプに参加してください
 。録画視聴を希望される場合でも録画は参加者への情
 報欄に記載のSkypeのグループチャット上に保存されま
 すので、開催前に参加登録をお願いします。他のイベ
 ントと重なって参加申し込みできずにリンクが分から
 ない場合はslackで前日までに個人メッセージを送って
 くださればリンクを個別にお送りいたします。\n\n注意
 点\n今回読む本はブルーバックスのような啓蒙書では
 ありません。教養番組のように分かりやすいグラフィ
 ックで手軽に理解したいという方・数式を使わずに理
 解したいという方には向いていません。量子情報や通
 常の機械学習については基礎が教科書でも2章、3章で
 解説されていましたが、4章以降から参加される場合は
 基礎知識についてはある程度あることが前提です。ま
 た大学学部1年生レベルの線形代数や初等的な解析学の
 知識は必要です。\nまた読み終わるまでに1年くらいの
 相当な時間がかかると思います。短期間で読み終えた
 いという方には向いておりません。\n\nスカイプの通話
 は通信容量やプライバシー等の問題からビデオはオフ
 で参加してください。またマイクも質問するとき以外
 は雑音を減らすためにオフに設定してください。\n\n 
 その他\n地震(目安として震度5強以上)、大規模停電、
 通信障害などでやむを得ず予告なしに中止する場合が
 ございます。ご了承ください。\nまた、迷惑行為、ハ
 ラスメント行為は禁止です。もし被害にあった場合は
 主催者までご報告下さい。迷惑行為を行った場合は今
 後の勉強会参加をお断りさせていただきます。
LOCATION:オンライン オンライン
URL:https://techplay.jp/event/864960?utm_medium=referral&utm_source=ics&utm
 _campaign=ics
END:VEVENT
END:VCALENDAR
