BEGIN:VCALENDAR
VERSION:2.0
PRODID:-//https://techplay.jp//JP
CALSCALE:GREGORIAN
METHOD:PUBLISH
X-WR-CALDESC:プロジェクトマネージャーの仕事紹介／カジ
 ュアル説明会
X-WR-CALNAME:プロジェクトマネージャーの仕事紹介／カジ
 ュアル説明会
X-WR-TIMEZONE:Asia/Tokyo
BEGIN:VTIMEZONE
TZID:Asia/Tokyo
BEGIN:STANDARD
DTSTART:19700101T000000
TZOFFSETFROM:+0900
TZOFFSETTO:+0900
TZNAME:JST
END:STANDARD
END:VTIMEZONE
BEGIN:VEVENT
UID:865011@techplay.jp
SUMMARY:プロジェクトマネージャーの仕事紹介／カジュア
 ル説明会
DTSTART;TZID=Asia/Tokyo:20220729T121500
DTEND;TZID=Asia/Tokyo:20220729T124500
DTSTAMP:20260424T003607Z
CREATED:20220705T014307Z
DESCRIPTION:イベント詳細はこちら\nhttps://techplay.jp/event/86501
 1?utm_medium=referral&utm_source=ics&utm_campaign=ics\n\nイベント概
 要\nラクスでは、ビジネスの業務効率化や付加価値向
 上を支援するSaaSを多数開発しており、延べ80\,000社の
 お客様にご利用いただいています。\n今回はラクスの
 プロジェクトマネージャーのキャリアにご興味をお持
 ちの方向けに、組織体制、開発事例、業務内容、キャ
 リアパスなどを気楽にご紹介するイベントです。\n導
 入社数急成長中のクラウド帳票発行サービス「楽楽明
 細」の開発事例を中心にお話する予定です。スクラム
 開発、オフショア活用、プロダクトマネジメント強化
 にも積極的に取り組むチームです。\n\n\nラクスのプロ
 ダクト一覧\n\n\n楽楽明細プロジェクトマネージャー紹
 介\n\n\nこんなことをお話します\n\n会社紹介/組織紹介\n
 チーム体制と開発プロセス\n開発事例/技術スタック\n
 キャリアパス\n募集ポジション/選考フロー\n\nこんな方
 におススメ\n\nプロジェクトマネージャーのキャリアに
 ご興味のある方\nラクスの開発チームの体制、技術ス
 タック、働き方について知りたい方\nラクスの選考に
 興味がありポジションについて聞きたい方\n\nお申込は
 こちら\n\nお申込期日：2022/7/29(金) 11:00迄\nTechPlay画面 
 「イベントに申し込む」 よりご登録ください\n\n※ご
 参考 ラクスの技術スタック（一部）\n\n言語：Java\, PHP\
 , Go\, Python\, Node.js\, Kotlin\, Swift\nフレームワーク: Spring B
 oot\, Laravel 等\nフロントエンド： TypeScript\, React/Redux\, Vu
 e.js\nインフラ：オンプレミス\, AWS\, Docker\, k8s\n開発プ
 ロセス：アジャイル（大規模スクラム LeSS等）、ウォ
 ーターフォール\nコードレビュー：Pull Request ベース（G
 itLabのMergeRequest）\nCI\,テスト：GitLab CI\, Jenkins\, gradle\, S
 elenium/Selenide※ 技術構成はプロダクトにより異なりま
 す。\n\n開催概要\n\n日時: 2022/7/29(金) 12:15-12:45\n会場: オ
 ンライン（Zoom）\n\nメッセージにて開催前にZoomURLを通
 知いたします。\nZoomへの入室は5分前からとなります。
 \n\n\n参加費: 無料\n\n※イベント参加人数が少ない場合
 など、内容変更や中止とする場合がございますのでご
 了承ください。\nタイムスケジュール\n\n\n\n時間\n内容\
 n\n\n\n\n12:15 ～ 12:20\n会社紹介\n\n\n12:20 ～ 12:40\n事例紹介
 （チーム体制・開発プロセス・機能開発事例・オフシ
 ョア etc）Q&A\n\n\n12:40 〜 12:45\nキャリア情報・アンケー
 ト\n\n\n12:45\n終了\n\n\n\n当社参加メンバー\n\nプロジェク
 トマネージャー 登壇調整中！\n菊池伸匡 / 技術広報HR T
 echプロダクトのオフショア開発PL（フィリピン）等を
 経験。受託開発、スタートアップ等でHRを経験したの
 ち、2021年ラクス入社。社会人大学で情報学（機械学習
 ）を専攻しました。\n結城萌子 / 技術広報2022年ラクス
 入社新卒から約7年、総合出版社の広報担当を経験。現
 在は技術広報として技術・デザインイベント企画運営
 や開発組織のメディア担当。\n\nこちらもご覧ください
 \n【5分でわかる】開発本部紹介資料主催の技術イベン
 ト一覧テックブログエンジニアチーム紹介サイト\n注
 意事項\n\n当イベントの内容およびスケジュールは、予
 告なく変更となる場合があります。予めご了承くださ
 い。\n他の参加者の方の妨げになるような行為は禁止
 、運営側の判断でご退出をお願いする場合があります
 。\nブログやSNSなどで当イベントに関する発信を行う
 際には、公序良俗に反する内容のないよう、ご協力を
 お願いします。\n当イベントはオンライン開催のため
 、通信状況によって音声や映像の乱れがある場合がご
 ざいます。\nイベント風景を録画しておりますが、運
 営改善以外には用いません。皆様の映像は録画されま
 せんのでご安心ください。\n配信トラブル時のアナウ
 ンスはTwitterより行います。\n
LOCATION:オンライン
URL:https://techplay.jp/event/865011?utm_medium=referral&utm_source=ics&utm
 _campaign=ics
END:VEVENT
END:VCALENDAR
