BEGIN:VCALENDAR
VERSION:2.0
PRODID:-//https://techplay.jp//JP
CALSCALE:GREGORIAN
METHOD:PUBLISH
X-WR-CALDESC:ITエンジニアも経営スキルを身につけよう 第2
 回
X-WR-CALNAME:ITエンジニアも経営スキルを身につけよう 第2
 回
X-WR-TIMEZONE:Asia/Tokyo
BEGIN:VTIMEZONE
TZID:Asia/Tokyo
BEGIN:STANDARD
DTSTART:19700101T000000
TZOFFSETFROM:+0900
TZOFFSETTO:+0900
TZNAME:JST
END:STANDARD
END:VTIMEZONE
BEGIN:VEVENT
UID:865067@techplay.jp
SUMMARY:ITエンジニアも経営スキルを身につけよう 第2回
DTSTART;TZID=Asia/Tokyo:20220713T180000
DTEND;TZID=Asia/Tokyo:20220713T190000
DTSTAMP:20260424T124421Z
CREATED:20220705T062001Z
DESCRIPTION:イベント詳細はこちら\nhttps://techplay.jp/event/86506
 7?utm_medium=referral&utm_source=ics&utm_campaign=ics\n\nセッション
 概要\n第1回：ITエンジニアが経営を学ぶ第一歩につい
 ての概要や学習後どのように視点が広がったかを中心
 にお話します(6/29済)\n第2回：企業活動をどう捉えるか
 、学習科目の概要や学び方を中心にお話します\n第3回
 ：経営スキルを日常業務のどういう場面で使ったか例
 を交えてお話します\n参加者のスキルレベル (講義内容
 を理解するために必要な知識)\n経営スキルにご興味の
 ある方、必要知識は不要です\n難易度(初学者向け/経験
 者向け)\n初学者向け\n講師\n鈴木 裕之\n日本アイ・ビー
 ・エム株式会社\nテクノロジー事業本部\nカスタマーサ
 クセスマネージャー
LOCATION:オンライン オンライン
URL:https://techplay.jp/event/865067?utm_medium=referral&utm_source=ics&utm
 _campaign=ics
END:VEVENT
END:VCALENDAR
