BEGIN:VCALENDAR
VERSION:2.0
PRODID:-//https://techplay.jp//JP
CALSCALE:GREGORIAN
METHOD:PUBLISH
X-WR-CALDESC:こんなことまでわかっちゃう！？競合分析を
 自社のマーケティング施策に活かす方法
X-WR-CALNAME:こんなことまでわかっちゃう！？競合分析を
 自社のマーケティング施策に活かす方法
X-WR-TIMEZONE:Asia/Tokyo
BEGIN:VTIMEZONE
TZID:Asia/Tokyo
BEGIN:STANDARD
DTSTART:19700101T000000
TZOFFSETFROM:+0900
TZOFFSETTO:+0900
TZNAME:JST
END:STANDARD
END:VTIMEZONE
BEGIN:VEVENT
UID:865178@techplay.jp
SUMMARY:こんなことまでわかっちゃう！？競合分析を自社
 のマーケティング施策に活かす方法
DTSTART;TZID=Asia/Tokyo:20220721T130000
DTEND;TZID=Asia/Tokyo:20220721T140000
DTSTAMP:20260420T212611Z
CREATED:20220706T010300Z
DESCRIPTION:イベント詳細はこちら\nhttps://techplay.jp/event/86517
 8?utm_medium=referral&utm_source=ics&utm_campaign=ics\n\nこんなこと
 までわかっちゃう！？競合分析を自社のマーケティン
 グ施策に活かす方法\nセミナー概要（当ウェビナーで
 得られること）\n多くの企業では、売上の増加をKPIと
 して設定し、競合他社と日々しのぎを削っているかと
 思います。競合に打ち勝つプランニングを行う際、競
 合分析は欠かせないものと言えるでしょう。では、ど
 のように競合分析を行えば良いのでしょうか？\n当ウ
 ェビナーにご参加いただくと、\n・よりKPIを達成しや
 すいプランニングのために必要な視点・競合のマーケ
 ティング活動を把握するにあたり、どんな項目をチェ
 ックすれば良いのか・競合のマーケティング施策や流
 入数・流入経路の確認方法\nなどがわかります。\n今回
 、弊社取締役・上級ウェブ解析士であるシニアコンサ
 ルタントが過去15年以上のコンサルティングの経験を
 基に、貴社のビジネスの成果に繋げるための競合調査
 の方法をお伝えします。\n「どのように競合調査を行
 えば良いのかわからない」「競合調査時に重要になる
 項目や数値がわからない」とお悩みのご担当者さまに
 おすすめです。\nこんな方におすすめ\nWEB担当者を任さ
 れたけど...\n・競合調査の方法がわからない・競合調
 査時にどんな数値を把握すれば良いのかわからない・
 競合調査を行う際に活用できるツールがあれば知りた
 い\n目次\n・WEBマーケティング施策をプランニングする
 際の視点\n・競合のマーケティング活動チェック項目\n
 ・競合のマーケティング活動を把握する\n・ポイント
 のおさらい\n\nセンタードについて\nセンタードは、WEB
 コンサルタントが専門知見を持って、『ビジネスを成
 功に導く』サポートをします。また、制作からプロモ
 ーションまで『一気通貫』で対応します。\n施策ロー
 ドマップに則り、各戦術を実行・検証・改善立案し、
 継続的にWEBサイト改善（LP含む）や流入施策最適化を
 図り続けます。WEBの売上の作り方に関してお困りのこ
 とがございましたら、お気軽にご相談くださいませ。
LOCATION:オンライン（ZOOM）
URL:https://techplay.jp/event/865178?utm_medium=referral&utm_source=ics&utm
 _campaign=ics
END:VEVENT
END:VCALENDAR
