BEGIN:VCALENDAR
VERSION:2.0
PRODID:-//https://techplay.jp//JP
CALSCALE:GREGORIAN
METHOD:PUBLISH
X-WR-CALDESC:ミャンマーにおけるIT・DX/非IT人財の動向
X-WR-CALNAME:ミャンマーにおけるIT・DX/非IT人財の動向
X-WR-TIMEZONE:Asia/Tokyo
BEGIN:VTIMEZONE
TZID:Asia/Tokyo
BEGIN:STANDARD
DTSTART:19700101T000000
TZOFFSETFROM:+0900
TZOFFSETTO:+0900
TZNAME:JST
END:STANDARD
END:VTIMEZONE
BEGIN:VEVENT
UID:865263@techplay.jp
SUMMARY:ミャンマーにおけるIT・DX/非IT人財の動向
DTSTART;TZID=Asia/Tokyo:20220712T150000
DTEND;TZID=Asia/Tokyo:20220712T160000
DTSTAMP:20260419T231148Z
CREATED:20220706T074522Z
DESCRIPTION:イベント詳細はこちら\nhttps://techplay.jp/event/86526
 3?utm_medium=referral&utm_source=ics&utm_campaign=ics\n\nミャンマー
 現地から最新情報発信！セミナー〜 ミャンマーへの渡
 航や現地状況に関する最新情報 〜\n概要\n当社代表取
 締役社長の岩永がミャンマーを初めて訪れたのは、今
 から16年前の2006年の秋でした。当初IT人財にターゲッ
 トを定めて創業し、今日に至りましたが、コロナ禍に
 入るところからグローバル化社会そして日本のマーケ
 ットはDX含め大きく変化しました。今回はそのマーケ
 ットの動向を見据えて、ミャンマーの人財活用のヒン
 トやノウハウをご紹介します。\n海外人材採用をご検
 討中の企業様及び海外人材採用にご興味があられる企
 業様におすすめの無料ウェビナーです。\nご参加お待
 ちしております。\n\nプログラム\n15:00～開始15:00～講演
 15:50～質疑応答＆アンケート16:00　終了※ 当日予告な
 く内容が変更になる場合がございます。予めご了承く
 ださい。\n登壇者\n岩永 智之 （いわなが　ともゆき
 ）グローバルイノベーションコンサルティング株式会
 社 代表取締役社長 \n1984年　日本IBM入社 \n2005年　中
 部地区日系IT会社で海外部門の責任者として就任 \n2006
 年　ミャンマーでのビジネス開始 \n2011年 　GICグル
 ープを立ち上げ現在に至る \n専門はIT全般/海外進出(JI
 CA/JETRO関連含む)、 \nミャンマーからのIT・特定技能を
 含む人材サービス全般 \n\nDaisy Thang （ディージータン
 ）グローバルイノベーションコンサルティング株式会
 社　課長\n2010年　来日\n2014年　日本の大学卒業\n2014年
 　日本の金融機関入社\n2018年　GIC入社\nミャンマーIT人
 材採用・現地教育支援、\nミャンマーでの日系企業の
 海外進出支援等担当\n\nハッシュタグ\n#ミャンマーにお
 けるIT・DX/非IT人財の動向\n注意事項\n\n欠席される場合
 は、お手数ですが速やかにキャンセル処理をお願い致
 します。\n
LOCATION:オンライン
URL:https://techplay.jp/event/865263?utm_medium=referral&utm_source=ics&utm
 _campaign=ics
END:VEVENT
END:VCALENDAR
