BEGIN:VCALENDAR
VERSION:2.0
PRODID:-//https://techplay.jp//JP
CALSCALE:GREGORIAN
METHOD:PUBLISH
X-WR-CALDESC:【ハイブリッド開催】「DX・AI推進のための知
 財・法務を解説」～基本を理解し留意点を学ぶ～ 2022/7
 /14（木）開催 AIB協会セミナー
X-WR-CALNAME:【ハイブリッド開催】「DX・AI推進のための知
 財・法務を解説」～基本を理解し留意点を学ぶ～ 2022/7
 /14（木）開催 AIB協会セミナー
X-WR-TIMEZONE:Asia/Tokyo
BEGIN:VTIMEZONE
TZID:Asia/Tokyo
BEGIN:STANDARD
DTSTART:19700101T000000
TZOFFSETFROM:+0900
TZOFFSETTO:+0900
TZNAME:JST
END:STANDARD
END:VTIMEZONE
BEGIN:VEVENT
UID:865264@techplay.jp
SUMMARY:【ハイブリッド開催】「DX・AI推進のための知財・
 法務を解説」～基本を理解し留意点を学ぶ～ 2022/7/14（
 木）開催 AIB協会セミナー
DTSTART;TZID=Asia/Tokyo:20220707T090000
DTEND;TZID=Asia/Tokyo:20220711T120000
DTSTAMP:20260423T141034Z
CREATED:20220706T074953Z
DESCRIPTION:イベント詳細はこちら\nhttps://techplay.jp/event/86526
 4?utm_medium=referral&utm_source=ics&utm_campaign=ics\n\n「DX・AI推進
 のための知財・法務を解説」～基本を理解し留意点を
 学ぶ～\n概要\n　AIB協会ではDXの推進、AIプロジェクト
 の推進にあたって法務的、知財的に必要な基礎知識に
 ついて専門家（弁護士・弁理士）を招いて解説を頂き
 ます。この分野でビジネスを行う経営者の方、技術者
 の方など是非ご参加ください。\nタイムスケジュール
 １：AIB協会 「アンケートから見える現在のDXとAIビジ
 ネスの状況」  (14:00 – 14:10)\n２：「DX・AI推進の法務・
 知財知識」～専門家に聞く～２－１： （知財）「AI開
 発契約における知財上の留意点」　～学習済みモデル
 は誰のモノ？～　by 磯野国際特許商標事務所(75分)\n講
 師： 弁理士法人 磯野国際特許商標事務所代表社員　 A
 IB協会理事　弁理士　町田能章（まちだ　よしゆき）
 先生\n２－２：****（法務）「改正個人情報保護法、GDPR
 及び中国個人情報保護法の解説」by 渥美坂井法律事務
 所・外国法共同事業（75分）講師：渥美坂井法律事務
 所・外国法共同事業パートナー　弁護士　AIB協会理事
 　松岡史朗（まつおか　ふみあき）先生\n参加対象\n\n
 データサイエンティスト\nDX・AIビジネスの経営者・管
 理者・\n\n参加費\n（会員）オンライン・会場参加共に
 無料（非会員）オンライン参加：11\,000円（7月11日中に
 AIB協会の銀行口座にお振り込みください）　　お振り
 込み方法などはこちら（→）**（非会員）**会場参加：
 22\,000円（当日会場でお支払いください）　　大変有効
 な情報を個別にも入手できますので、是非会場にお越
 しください。● 無料招待について：（説明のページが
 開きます）　以下の方はセミナーの無料招待枠が利用
 できます。　　初回のお申込である方、かつ、登壇者
 、理事、運営委員の紹介がある方\nセミナー詳細・お
 申し込みはこちらから（→）\nハッシュタグ\n#techplayjp\
 n注意事項\n\nリクルーティング、勧誘など、採用目的
 でのイベント参加はお断りしております。\nキャンセ
 ル待ち・補欠・落選の方はご参加いただくことが出来
 ませんのでご了承ください。\n欠席される場合は、お
 手数ですが速やかにキャンセル処理をお願い致します
 。\n無断キャンセルや欠席が続く場合、次回以降の参
 加をお断りさせていただく場合がございます。\n
LOCATION:市ケ谷健保会館・会議室（市ケ谷） 東京都新宿
 区市谷仲之町4-39
URL:https://techplay.jp/event/865264?utm_medium=referral&utm_source=ics&utm
 _campaign=ics
END:VEVENT
END:VCALENDAR
