BEGIN:VCALENDAR
VERSION:2.0
PRODID:-//https://techplay.jp//JP
CALSCALE:GREGORIAN
METHOD:PUBLISH
X-WR-CALDESC:YouTube無料★毎週水曜日はプログラミング登竜
 門でHTMLを学ぼう#2(解説bySTLしらかわ)
X-WR-CALNAME:YouTube無料★毎週水曜日はプログラミング登竜
 門でHTMLを学ぼう#2(解説bySTLしらかわ)
X-WR-TIMEZONE:Asia/Tokyo
BEGIN:VTIMEZONE
TZID:Asia/Tokyo
BEGIN:STANDARD
DTSTART:19700101T000000
TZOFFSETFROM:+0900
TZOFFSETTO:+0900
TZNAME:JST
END:STANDARD
END:VTIMEZONE
BEGIN:VEVENT
UID:865508@techplay.jp
SUMMARY:YouTube無料★毎週水曜日はプログラミング登竜門で
 HTMLを学ぼう#2(解説bySTLしらかわ)
DTSTART;TZID=Asia/Tokyo:20220713T180000
DTEND;TZID=Asia/Tokyo:20220713T183000
DTSTAMP:20260424T234116Z
CREATED:20220708T062007Z
DESCRIPTION:イベント詳細はこちら\nhttps://techplay.jp/event/86550
 8?utm_medium=referral&utm_source=ics&utm_campaign=ics\n\nイベント概
 要\nSTL プログラミング登竜門は、誰でも未経験や学び
 直しの挑戦ができる「プログラミング学習オンラインW
 ebコース」です。\n最銀の技術で「プログラミングをや
 ってみたい」という思いのある方々を全力でサポート
 いたします。\nこのたび、プログラミングの基礎を「
 独学」で身につけたい方、まずは無料で「体験」して
 進めたい方など\n誰でも気軽に無料でプログラミング
 を体験できるコースの開設を記念してイベントを開催
 いたします。  \nより多くのみなさんにご利用いただけ
 るよう、まずは双方向の解説付きでコーディングを体
 験頂ければと思います。\n初めて学ばれる方も丁寧に
 ガイドいたしますので、お気軽にご参加お待ちしてい
 ます！\n講師\nメンターしらかわ  \nプログラミング登
 竜門のメンターです。\n独立系大手SI企業で金融・公共
 に関するITシステム開発に従事したのち、現在は独立
 してITシステムの開発や技術提供を行っています。  \n
 ※ 日頃から大手SIer向けの技術研修や有償セミナーを
 提供しているメンターがライブ配信で分かりやすく解
 説いたします！\n対象者\nプログラミング初学者で「プ
 ログラミングの基礎」を学んでみたい方\nまずは「プ
 ログラミングとはどんなものかを体験したい」（その
 うえで学習方法やスキル習得を決めたい）という方\n
 プログラミング初学者で「独学で学びたい」が不明点
 などが多く質問してみたい方  \nこのイベントで学べる
 こと\nこのイベントは完全初学者向けです。\nこのイベ
 ントでは、Webページを作るために必要な技術について
 学べます。\nプログラムを書いたことがない、HTMLやCSS
 を知らない方でもご参加いただけます。  \n※ 独学で
 の学習を行っている方は「この単語のメジャーな読み
 方が分からない」「特定のHTML要素の具体的な利用シー
 ンが分からない」など、検索しても分からない疑問も
 あるかと思います。\nプロに気軽に質問できる貴重な
 機会ですので、不明点や曖昧な点の解消にもお役立て
 ください。\nタイムスケジュール\n\n\n\n時間\n内容\n\n\n\
 n\n18:00〜18:05\nご案内\n\n\n18:05〜18:25\nプログラミング学
 習（ライブコーディング）\n\n\n18:25〜18:30\n質疑応答\n\n
 \n\nお申込み方法\n画面右側「このイベントに申し込む
 」ボタンよりお申し込みください。\nご準備\nインター
 ネットに接続できる「パソコン」もしくは「キーボー
 ド付きのタブレット」をご準備ください。  \nSTLプログ
 ラミング登竜門の目的\nデジタルに関心があるけれど
 踏み出せないでいるみなさんの”プログラミングデビ
 ュー”を応援します。学ぶ手段やスクールは数多く存
 在するのに挫折者が非常に多い現状から、より”持続
 的な実践前提の「本気の学び」”をしっかりとサポー
 トできるコースを提供するため【プログラミング登竜
 門】を立ち上げました。みなさんのそれぞれの夢に向
 かった大事な”一歩”を全力応援いたします。\nhttps://
 social-tech-lab.com/
LOCATION:Youtube オンライン
URL:https://techplay.jp/event/865508?utm_medium=referral&utm_source=ics&utm
 _campaign=ics
END:VEVENT
END:VCALENDAR
