BEGIN:VCALENDAR
VERSION:2.0
PRODID:-//https://techplay.jp//JP
CALSCALE:GREGORIAN
METHOD:PUBLISH
X-WR-CALDESC:損しない！LINE公式アカウント 有料プランで集
 客・売上アップセミナー
X-WR-CALNAME:損しない！LINE公式アカウント 有料プランで集
 客・売上アップセミナー
X-WR-TIMEZONE:Asia/Tokyo
BEGIN:VTIMEZONE
TZID:Asia/Tokyo
BEGIN:STANDARD
DTSTART:19700101T000000
TZOFFSETFROM:+0900
TZOFFSETTO:+0900
TZNAME:JST
END:STANDARD
END:VTIMEZONE
BEGIN:VEVENT
UID:865888@techplay.jp
SUMMARY:損しない！LINE公式アカウント 有料プランで集客
 ・売上アップセミナー
DTSTART;TZID=Asia/Tokyo:20220720T150000
DTEND;TZID=Asia/Tokyo:20220720T160000
DTSTAMP:20260421T071503Z
CREATED:20220712T044902Z
DESCRIPTION:イベント詳細はこちら\nhttps://techplay.jp/event/86588
 8?utm_medium=referral&utm_source=ics&utm_campaign=ics\n\n損しない！L
 INE公式アカウント 有料プランで集客・売上アップセミ
 ナー\n概要\n恒例となっております、パルディアLINE公
 式アカウント活用セミナー、7月回のご案内です！「LIN
 E公式アカウントは高い！」と無料でLINE公式アカウン
 トをお使いの方いらっしゃいませんか？LINEで売上を伸
 ばす1番のコツは、実は有料プランです。費用対効果を
 もとにした売上を伸ばす活用方法をたっぷりとご紹介
 いたします。\n講演内容\n□LINE公式アカウントに有料
 化が必要なわけ□売上が上がる配信とは？□小売・飲
 食店での実際の事例\nURL(HPトピックス)：https://www.paldia.
 co.jp/archives/2038\nLINEの窓口.com：https://line-madoguchi.com/\n参
 加費\n無料\n注意事項\n\nリクルーティング、勧誘など
 、採用目的でのイベント参加はお断りしております。\
 nキャンセル待ち・補欠・落選の方はご参加いただくこ
 とが出来ませんのでご了承ください。\n欠席される場
 合は、お手数ですが速やかにキャンセル処理をお願い
 致します。\n無断キャンセルや欠席が続く場合、次回
 以降の参加をお断りさせていただく場合がございます
 。\n
LOCATION:オンライン
URL:https://techplay.jp/event/865888?utm_medium=referral&utm_source=ics&utm
 _campaign=ics
END:VEVENT
END:VCALENDAR
