BEGIN:VCALENDAR
VERSION:2.0
PRODID:-//https://techplay.jp//JP
CALSCALE:GREGORIAN
METHOD:PUBLISH
X-WR-CALDESC:【共催セミナー】 業務DXとセキュリティ強化
 を実現！ ～「柔軟な働き方」提供に今必要なこととは
 ～
X-WR-CALNAME:【共催セミナー】 業務DXとセキュリティ強化
 を実現！ ～「柔軟な働き方」提供に今必要なこととは
 ～
X-WR-TIMEZONE:Asia/Tokyo
BEGIN:VTIMEZONE
TZID:Asia/Tokyo
BEGIN:STANDARD
DTSTART:19700101T000000
TZOFFSETFROM:+0900
TZOFFSETTO:+0900
TZNAME:JST
END:STANDARD
END:VTIMEZONE
BEGIN:VEVENT
UID:865890@techplay.jp
SUMMARY:【共催セミナー】 業務DXとセキュリティ強化を実
 現！ ～「柔軟な働き方」提供に今必要なこととは～
DTSTART;TZID=Asia/Tokyo:20220728T140000
DTEND;TZID=Asia/Tokyo:20220728T143000
DTSTAMP:20260419T133919Z
CREATED:20220712T052409Z
DESCRIPTION:イベント詳細はこちら\nhttps://techplay.jp/event/86589
 0?utm_medium=referral&utm_source=ics&utm_campaign=ics\n\n業務DXとセ
 キュリティ強化を実現！～「柔軟な働き方」提供に今
 必要なこととは～\n開催概要\n　長期化する新型コロナ
 ウイルスの影響の中、各企業は今後どのように経営を
 進めていくか、「企業としての個性」が問われる時代
 になってきました。業務効率化に必須なサービスの導
 入と、効果の最大化を進めていくには「柔軟な働き方
 」の整備と活用がカギになります。当セミナーでは柔
 軟な働き方を実現するのに欠かせない、「一人ひとり
 の働き方に合わせた環境の整備」の課題と、その解決
 方法をご紹介いたします。\n実施概要\n■実施日時2022
 年7月28日(木) 14:00～14:30■実施方法ウェビナー（前日に
 アクセスURLをご案内します）■参加方法申し込み後、
 セミナー事務局より参加先のURLをご案内します。※申
 込締切は7月27日(水)13:00までとさせていただきます。■
 セッション内容①レコモット セッション・スピーカー
 株式会社レコモット ビジネスデベロップメントチーム
 田仲 俊介・セッションタイトルモバイル端末のBYOD活
 用で業務スピードを加速・セッション内容本セッショ
 ンではデータを端末に残さないセキュアなリモートア
 クセスツール『moconavi』の活用で業務のスピードを加
 速する方法をご紹介いたします。②エイトレッド セッ
 ション・スピーカー株式会社エイトレッド マーケティ
 ング部 課長黒田 純平 氏・セッションタイトル社内文
 書のペーパーレス化 内部統制も強化するDXワークフロ
 ーとは。・セッション内容DXを推進するワークフロー
 システムと内部統制の重要性についてご紹介させてい
 ただきます。※講演内容は都合により変更がございま
 す。\n参加対象\n・ICT活用やデジタル化、DXのプロジェ
 クトをご担当されている方・働き方改革をご担当され
 ている方・総務、管理部門の方\n参加費\n無料\n注意事
 項\n\nリクルーティング、勧誘など、採用目的でのイベ
 ント参加はお断りしております。\n
LOCATION:オンライン
URL:https://techplay.jp/event/865890?utm_medium=referral&utm_source=ics&utm
 _campaign=ics
END:VEVENT
END:VCALENDAR
