BEGIN:VCALENDAR
VERSION:2.0
PRODID:-//https://techplay.jp//JP
CALSCALE:GREGORIAN
METHOD:PUBLISH
X-WR-CALDESC:【2社共同開催】Cookieレス時代におけるWeb広告
 の最適解とは？〜全webマーケターに贈る1st Party広告解
 説〜
X-WR-CALNAME:【2社共同開催】Cookieレス時代におけるWeb広告
 の最適解とは？〜全webマーケターに贈る1st Party広告解
 説〜
X-WR-TIMEZONE:Asia/Tokyo
BEGIN:VTIMEZONE
TZID:Asia/Tokyo
BEGIN:STANDARD
DTSTART:19700101T000000
TZOFFSETFROM:+0900
TZOFFSETTO:+0900
TZNAME:JST
END:STANDARD
END:VTIMEZONE
BEGIN:VEVENT
UID:865947@techplay.jp
SUMMARY:【2社共同開催】Cookieレス時代におけるWeb広告の最
 適解とは？〜全webマーケターに贈る1st Party広告解説〜
DTSTART;TZID=Asia/Tokyo:20220726T130000
DTEND;TZID=Asia/Tokyo:20220726T140000
DTSTAMP:20260420T093949Z
CREATED:20220712T085238Z
DESCRIPTION:イベント詳細はこちら\nhttps://techplay.jp/event/86594
 7?utm_medium=referral&utm_source=ics&utm_campaign=ics\n\nWEB広告代理
 店の「ExKey」とデータマーケティング会社の「KIYONO」
 が共同開催\n◆セミナー内容\n昨今Cookie規制がWeb広告運
 用に与える影響は日増しに大きくなっており、「正確
 なコンバージョン計測が行えない」「リターゲティン
 グ広告・リマーケティング広告が回らない」等、広告
 運用の現場におけるインパクトは増大しております。\
 n2023年にはGoogle ChromeでのCookie規制も予定されており、2
 023年はWeb広告運用にとって激動の1年になると予想され
 ております。このようなCookie規制の影響はWeb広告を扱
 う多くの企業を対象としており、この状況に対策を打
 たなければ広告を起点にした売上が下がってしまう危
 機に直面してしまいます。しかしこのような情勢にも
 かかわらず、Web広告における明確なCookieレス対策が提
 示されていないように感じます。\n今回のセミナーで
 は、このWeb広告におけるCookieレス対策の最適解をご紹
 介させていただきます。「そもそもCookieとは何か？」
 「Cookie規制がもたらす影響とは？」「解決策である1stP
 arty広告とは？」等、今Webマーケター様が求めているコ
 ンテンツについて丁寧に解説してまいります。\n▼見
 所●Cookie規制の歴史／影響／現況●Web広告におけるCook
 ie規制対策●1st Party広告のメリット／デメリット\n▼対
 象となる方●広告／マーケティング／DX推進／経営戦
 略部門の方（BtoB・BtoC問わず）●広告宣伝費のWeb広告
 比率が高い企業様●Cookie規制について学び直したい方\
 n《アジェンダ》1.セミナー主催会社・講師紹介2.Cookie
 とは3.3rdパーティーCookie規制について4.Cookie規制により
 何が起こる？5.各社の対応6.Cookieレス時代への対応7.ア
 ドレッサブル広告の課題8.MAGNET for Ads(サービス紹介)9.
 最後に\n《補足事項》※本セミナーは法人のお客様対
 象のセミナーとなっております。個人のお客様からの
 お申し込みは受け付けておりません。※ご登壇企業様
 及び同様のサービスを提供されている企業の関係者様
 からのお申し込みはご遠慮いただいております。\n◆
 登壇者プロフィール\n\n株式会社ExKey\n堀田 愛莉\n中小
 企業を中心にリスティング・SNS広告の提案・運用を担
 当。前職は大手出版社グループで企業ブラン
 ディング業務に携わり、様々な会社の書籍出版の
 ご案内に従事。担当実績業界 : IT通信、税理士法人、
 美容クリニック など\n【メッセージ】\nWEBマーケテ
 ィングや営業活動に大きな変化・影響がある中、 \n自
 社のWEB施策の見直しを行う企業が増えてきました。\n
 最新の運用事例はもちろん、「今更聞けない…」と言
 った\nWEB広告の基礎的な情報についてもお伝えしたい
 と思います。\n\n\n株式会社KIYONO\n橋本 匠平\n顧客デー
 タ統合基盤「MAGNET for Ads」の事業責任者を担当。企業
 の顧客データを活用したデジタルマーケティングの戦
 略設計、マーケティングツールの導入支援・運用支援
 に従事。アドテク及び顧客データ基盤に関する幅広い
 ノウハウを用い、SMBからエンタープライズまで大小問
 わず企業様をご支援。業界 : ドラッグストア、ディベ
 ロッパー、メーカー など\n【メッセージ】\nCookie規制
 によりWEB広告を取り巻く環境は大きく変わってきてお
 り、広告運用は過渡期を迎えております。\nWeb広告に
 おける明確なCookie規制対策が提示されていない今、あ
 らゆる広告主様・広告代理店様が打てる最適解を今回
 のセミナーでお伝えできればと思います。\nポストCooki
 e時代でも広告効果を最大化させたい広告主様や広告代
 理店様、そもそも「Cookieとは？」に関して改めて知っ
 ておきたいマーケター様は奮ってご参加ください。\n
 担当サービス：WEB広告、CDP、GA4、GTM、DWH、SFA、BI、EC/HP
 \n\n\n◆主催会社プロフィール\n株式会社ExKey\n2016年11月
 の創業以来、WEB広告運用、SEO/MEO対策、WEB制作等、あら
 ゆるWEBマーケティングのノウハウを駆使して、クライ
 アント様の経営課題に対するソリューションを提供し
 ております。経営数字まで入り込んだWEBマーケティン
 グの支援を得意とし、マーケティング戦略立案〜実行
 〜分析、改善まで全て1社完結で行っており、現在まで
 上場企業を始めとしたのべ1\,000社以上のクライアント
 様の売上改善を行って参りました。\n本社所在地：東
 京都港区南青山3-1-3 スプライン青山東急ビル5F\n事業内
 容：WEBマーケティング支援事業\n　　　　　・WEB広告
 運用代行\n　　　　　・SEO対策\n　　　　　・MEO対策\n
 　　　　　・LP制作/LPO対策\nURL：https://exkey.jp/\n\n株式
 会社KIYONO\n2017年1月の設立以降、WEB広告運用に始まり、
 CDP/MA等のインプリ、コンサル、運用支援などデータマ
 ーケティング全体のご支援を推進し、2019年には日本オ
 ラクルより最優秀パートナー表彰されるなど、WEB広告/
 CDP/MA導入におけるリーディングカンパニーです。また
 、2020年8月には住友商事株式会社の100パーセント連結
 子会社であるSCデジタルメディア株式会社から出資を
 受けたことでより強固な体制と、多数のお客様のCDP/MA
 導入で培ったノウハウをもとに「MAGNET for ads*」を活用
 したOne to Oneマーケティングを推進しています。\n本社
 所在地：東京都渋谷区千駄ヶ谷3-8-7-3F\n事業内容：「MAG
 NET」などを活用したデータマーケティング事業\nURL：ht
 tps://kiyono-co.jp/\n
LOCATION:オンライン(zoom)
URL:https://techplay.jp/event/865947?utm_medium=referral&utm_source=ics&utm
 _campaign=ics
END:VEVENT
END:VCALENDAR
