BEGIN:VCALENDAR
VERSION:2.0
PRODID:-//https://techplay.jp//JP
CALSCALE:GREGORIAN
METHOD:PUBLISH
X-WR-CALDESC:【リード獲得からリード育成までのワンスト
 ップセミナー】 コンテンツマーケティング×Web接客×
 メルマガで成果を出す方法
X-WR-CALNAME:【リード獲得からリード育成までのワンスト
 ップセミナー】 コンテンツマーケティング×Web接客×
 メルマガで成果を出す方法
X-WR-TIMEZONE:Asia/Tokyo
BEGIN:VTIMEZONE
TZID:Asia/Tokyo
BEGIN:STANDARD
DTSTART:19700101T000000
TZOFFSETFROM:+0900
TZOFFSETTO:+0900
TZNAME:JST
END:STANDARD
END:VTIMEZONE
BEGIN:VEVENT
UID:865950@techplay.jp
SUMMARY:【リード獲得からリード育成までのワンストップ
 セミナー】 コンテンツマーケティング×Web接客×メル
 マガで成果を出す方法
DTSTART;TZID=Asia/Tokyo:20220802T140000
DTEND;TZID=Asia/Tokyo:20220802T150000
DTSTAMP:20260420T110539Z
CREATED:20220712T102906Z
DESCRIPTION:イベント詳細はこちら\nhttps://techplay.jp/event/86595
 0?utm_medium=referral&utm_source=ics&utm_campaign=ics\n\nサイトエン
 ジン、グルービーモバイル、ラクスライトクラウドが
 コンテンツ、Web接客、メルマガを活用したリード獲得
 からリード育成までのノウハウを60分でご紹介します
 ！また、セミナー後半に質疑応答の時間を設けていま
 す。セミナー中の疑問をその場で解消できます！\n<主
 な対象者>・Webサイトを活用してリード数を増やしたい
 方・既存リードを活用したい方・リード育成で商談に
 つなげたい方・Webサイトのコンバージョン率を高めた
 い方・マーケティング担当者様\n<タイムテーブル>14:00-
 14:05	挨拶・概要説明14:05-14:20	第1部：サイトエンジン株
 式会社14:20-14:35	第2部：グルービーモバイル株式会社14:
 35-14:50	第3部：株式会社ラクスライトクラウド14:50-15:00	
 第4部：Q&A\n<登壇者>・サイトエンジン株式会社　Webマ
 ーケター：荒井 皓平・グルービーモバイル株式会社　
 マーケティングチーム/営業グループ　リーダー：土屋
  勝稔・株式会社ラクスライトクラウド　Webマーケティ
 ング　リーダー：森神 佑希\n【第1部 サイトエンジン
 株式会社】\n<セミナータイトル>コンテンツを使ってリ
 ード獲得につながる集客をしよう！\n<概要>多くの企業
 がWebサイトを所有していますが、Webサイトを効果的に
 活用し、売上を伸ばしている企業は多くありません。
 本セミナーではWebサイトからリード獲得するための第
 一歩であるコンテンツによる集客ノウハウをお伝えし
 ます。\n<セミナーで学べること>・Webサイトからリード
 獲得するための考え方・サイトへの流入数を増やす方
 法・継続的なコンテンツ投稿で成果を出す方法\n【第2
 部 グルービーモバイル株式会社】\n<セミナータイトル
 >Webサイトのパーソナライズでお申込み数を大幅アップ
 ！\n<概要>集客によるサイト訪問数を増やすことと同様
 に申込み率を向上させることも、とても重要です！コ
 ストパフォーマンスよく申込み率を向上させる事がで
 きるツール「TETORI」をご紹介させて頂きます。また、
 業種毎の成功事例もこのセミナー限定でご紹介させて
 頂きます。\n<セミナーで学べること>・CVアップに重要
 な事・WEBサイトのパーソナラナイズとは？・成功事例
 ・効果的ツール、【TETORI】の紹介\n【第3部 株式会社ラ
 クスライトクラウド】\n<セミナータイトル>申込数3倍
 ！？ 売上・申込みに繋がる「メルマガ」を作成する方
 法\n<概要>オンライン化の影響で、リード獲得に力を入
 れている企業が増えています。しかしながら、獲得し
 たリードの活用方法がわからないと悩んでいる人が多
 いのも事実。本セミナーでは獲得したリードを育成し
 、売上につなげるためのメルマガノウハウをお伝えし
 ます。\n<セミナーで学べること>・”今”メルマガ配信
 をするべき理由・顧客育成に必要なコンテンツとは？
 ・読まれるメルマガの作成方法
LOCATION:オンライン
URL:https://techplay.jp/event/865950?utm_medium=referral&utm_source=ics&utm
 _campaign=ics
END:VEVENT
END:VCALENDAR
