BEGIN:VCALENDAR
VERSION:2.0
PRODID:-//https://techplay.jp//JP
CALSCALE:GREGORIAN
METHOD:PUBLISH
X-WR-CALDESC:＼WordPress実践講座／　Part9
X-WR-CALNAME:＼WordPress実践講座／　Part9
X-WR-TIMEZONE:Asia/Tokyo
BEGIN:VTIMEZONE
TZID:Asia/Tokyo
BEGIN:STANDARD
DTSTART:19700101T000000
TZOFFSETFROM:+0900
TZOFFSETTO:+0900
TZNAME:JST
END:STANDARD
END:VTIMEZONE
BEGIN:VEVENT
UID:865970@techplay.jp
SUMMARY:＼WordPress実践講座／　Part9
DTSTART;TZID=Asia/Tokyo:20220714T103000
DTEND;TZID=Asia/Tokyo:20220714T120000
DTSTAMP:20260425T133820Z
CREATED:20220712T140018Z
DESCRIPTION:イベント詳細はこちら\nhttps://techplay.jp/event/86597
 0?utm_medium=referral&utm_source=ics&utm_campaign=ics\n\n＝＝＝＝＝
 ＝＝＝＝＝＝＝＝＝＝＝＝＝＝＝＝＝\n　　＼WordPress
 実践編／\n　　　　　Part9\n＝＝＝＝＝＝＝＝＝＝＝＝
 ＝＝＝＝＝＝＝＝＝＝\n\n\n開催日時：\n\n\n7/14（木） 10
 :30-12:00\n\n\n開催方法：\n\n\nオンラインZOOM\n後日メール
 にてお送りいたします。\n\n\n内容\n\n\nWordPressの講座を\
 nワークショップ形式で行います。\n\n（ワークショッ
 プとは、参加者個々が考え、お互い協力し合い、\n与
 えられたテーマを元に展開するスタイルの会議や共同
 作業のことです）\n\n今回の主なテーマは\n\n【WordPress
 実践】\nワードプレスの構築\n今後やりたい勉強につい
 て\n\n\n条　件：\nHTML cssの知識が多少ある方\n\n参加費
 用\n\n\n1回のみ受講 1\,000円\nお申し込みフォーム\nhttps:/
 /forms.gle/kbefN6RxpUEqybWH7\n\nNnairoコミュニティメンバー無
 料\n詳しくはこちらをごらんください。\n※加入する場
 合はコミュティの趣旨を良く読んでからご参加くださ
 い\nhttps://community.camp-fire.jp/projects/view/415131\nお気軽にコ
 メントください。\n\n\n講　師：\n\n\n小倉浩靖（おぐら
 ・ひろやす）\n1985年ITエンジニア派遣会社に就職、PCに
 よる地図製作システムを開発。\n2002年地図データエン
 トリーの会社を創設。\n2014年全株式譲渡、社長を辞任
 。2020年6月同社を退職し、翌7月にITとキャリア支援を
 主な事業とするプレイワークラボ設立、現在に至る\nPL
 AYWORKLAB代表\nhttps://playwork-lab.jp/profile/\n日本キャリア・
 カウンセリング学会理事\nキャリアコンサルタント\nEMC
 A認定EAPメンタルヘルスカウンセラー\n\n\n必要なもの\n\
 n\nパソコン（Wi-Fi対応）\nエディター\n\n\n事前準備\n\n\n
 ①zoomがはじめての方は\n事前ダウンロードお願いしま
 す。\nhttps://zoom.us/download\n\n\nお問合せ先\n\n\nお気軽に
 お問い合わせください。\n070-6976-2475\nメール：c-ide@cloud
 ot.co.jp
LOCATION:オンライン
URL:https://techplay.jp/event/865970?utm_medium=referral&utm_source=ics&utm
 _campaign=ics
END:VEVENT
END:VCALENDAR
