BEGIN:VCALENDAR
VERSION:2.0
PRODID:-//https://techplay.jp//JP
CALSCALE:GREGORIAN
METHOD:PUBLISH
X-WR-CALDESC:【doda】機械学習を始めたいエンジニアのため
 の入門セミナー｜独学からの転職事情も教えます【無
 料】
X-WR-CALNAME:【doda】機械学習を始めたいエンジニアのため
 の入門セミナー｜独学からの転職事情も教えます【無
 料】
X-WR-TIMEZONE:Asia/Tokyo
BEGIN:VTIMEZONE
TZID:Asia/Tokyo
BEGIN:STANDARD
DTSTART:19700101T000000
TZOFFSETFROM:+0900
TZOFFSETTO:+0900
TZNAME:JST
END:STANDARD
END:VTIMEZONE
BEGIN:VEVENT
UID:866626@techplay.jp
SUMMARY:【doda】機械学習を始めたいエンジニアのための入
 門セミナー｜独学からの転職事情も教えます【無料】
DTSTART;TZID=Asia/Tokyo:20220907T190000
DTEND;TZID=Asia/Tokyo:20220907T203000
DTSTAMP:20260422T200226Z
CREATED:20220719T055711Z
DESCRIPTION:イベント詳細はこちら\nhttps://techplay.jp/event/86662
 6?utm_medium=referral&utm_source=ics&utm_campaign=ics\n\n■セミナー
 概要\n近年、関心の高まっている機械学習。しかしそ
 の反面、初心者にとっては難易度が高く、何からどう
 勉強すればよいか、迷っている方も多いと思います。
 そこで本セミナーでは、豊富な研修実績を持つキカガ
 ク社の講師にご登壇いただき、機械学習の基礎をわか
 りやすく解説します。\nさらに、「学んだスキルを活
 かしてどうビジネスに活用するのか」をテーマに、日
 々転職支援を行うdodaの現役キャリアアドバイザーが機
 械学習求人の件数や、独学でもOKな求人の探し方、独
 学から転職するための学習方法、面接対策などをお伝
 えします。機械学習のスキルを身につけ、業務で活用
 していきたいとお考えの方は、ぜひご活用ください。\
 n■参加対象\n何らかのプログラミング言語での開発経
 験をお持ちの方\n■タイムスケジュール\n\n\n\n時間\n内
 容\n\n\n\n\n18:50\n受付開始（18:50よりオンライン接続可能
 ）\n\n\n19:00\nセミナー開始、概要説明\n\n\n19:05〜\n機械
 学習を学び始めるための基礎解説：キカガク社✓機械
 学習の活用事例と技術概要✓Python、機械学習、画像処
 理、自然言語処理のおすすめの学習法✓QAタイム\n\n\n20
 :05〜\n独学から転職につなげるためのポイント：dodaキ
 ャリアアドバイザー✓機械学習求人の市場感✓独学OK
 求人の探し方✓独学からの転職を目指す場合の選考対
 策\n\n\n20:25〜\n振り返りまとめ、終了\n\n\n\n※ 当日予告
 なく時間配分・内容が変更になる可能性がございます
 。\n■開催概要\n開催日時：9月7日（水）19：00～20：30
 　※申し込み締切：2022年9月4日（日）23:59\n＜お申し込
 みはこちら＞\n※「参加申込ページへ」ボタンをクリ
 ック後、dodaサイトからお申し込みください。※本イベ
 ントへの参加にはdoda会員登録が必要となります。※参
 加費無料。但しインターネットに接続するための通信
 料金は参加者負担となります。\n＝＝＝＝＝＝＝＝＝
 ＝＝＝＝＝＝＝＝＝＝＝＝＝＝＝＝doda転職オンライン
 予備校では、ほかにもご自身の転職状況に合わせたプ
 ログラムを多数用意しております！\n▼よくあるご質
 問遅刻、欠席される場合の事前連絡は不要です。※そ
 のほかdodaイベントに関する「よくある質問」はこちら
 \n登壇者\n\n神部 信生（かんべ　しのぶ）\n株式会社キ
 カガク　セールス＆マーケティング部兼機械学習講師\
 n登壇者略歴\n前職では小売業にて経理労務全般を担当
 。その後キカガクに入社し、機械学習・ディープラー
 ニングの技術講師・AIのビジネス活用講師を経て、セ
 ールス＆マーケティング部へ。現在は法人研修・プロ
 グラミングスクール事業のマーケティング担当。\n保
 有資格：G検定\n\n\n\n木下 涼（きのした　りょう）\n株
 式会社キカガク　AIエンジニア/データサイエンティス
 ト/コンテンツ開発リーダー\n登壇者略歴\n大学院の人
 工知能研修室を経てキカガクへ。PBL 研修・実データ研
 修の設計及び登壇や機械学習受託開発等数多くの案件
 を担当。またコンテンツのコース設計・作成責任者で
 もある。受講生との共同研究・学会発表を実施したり
 等、豊富な専門知識と教育のバックグラウンドから、
 すべての受講生を活躍に導く。\n保有資格：G検定、E資
 格、データサイエンティスト検定リテラシーレベル、A
 I実装検定S級\n\n\n遠藤　勇太（えんどう　ゆうた）\nパ
 ーソルキャリア株式会社　キャリアアドバイザー（ア
 プリケーションエンジニア・ITコンサルタント担当）\n
 登壇者略歴\ndodaキャリアアドバイザー（アプリケーシ
 ョンエンジニア／ITコンサルタント担当）\n前職ではフ
 リーランスエンジニアを中心にネット系企業への転職
 支援を行う。その後、パーソルキャリアに入社。\n採
 用企業のシステム環境や技術的な強みを把握しており
 、技術に関する希望条件やキャリアの方向性にマッチ
 する求人紹介を通じてサポート。\n\n\n使用するツール\
 nオンラインビデオツール\n※参加者には、開催日前日
 までにパーソルキャリア_dodaセミナー／イベント運営
 事務局から参加方法の詳細説明とイベント参加用のURL
 をメールでお送りします。\nハッシュタグ\n#techplayjp　#
 doda\n注意事項\n・本イベントへの参加にはdoda会員登録
 が必要となります。「お申し込み」ボタンをクリック
 し、登録フォームに必要事項を入力していただくと、d
 oda会員登録および本イベントへの申し込みが完了とな
 ります。参加可否および当日の詳細については、パー
 ソルキャリア_dodaセミナー／イベント運営事務局から
 開催日前日までにご連絡します。・本イベントは、参
 加者自身のWeb環境から参加できる「オンラインセミナ
 ー」です。・本イベントでは、第三者が提供するオン
 ラインビデオツールを利用します。参加者は、当該ツ
 ールの利用にあたり、当該ツールの提供元が定める利
 用規約が適用されることに同意の上、本イベントに参
 加するものとします。・参加者の通信環境により、オ
 ンラインビデオツールの再ログインが必要になること
 や、画面がフリーズし、ご参加いただけない場合もあ
 ります。・参加者は、参加者が本イベントにおいて行
 った発言（オンラインビデオツールを利用して参加者
 が投稿したチャットなどのテキストも含む）に係る著
 作権について、当社に対し、世界的、非独占的、無償
 、サブライセンス可能かつ譲渡可能な使用、複製、配
 布、公衆送信、改変、編集、二次的著作物の作成、表
 示および実行（宣伝告知等に利用することを含みます
 が、これに限りません）に関するライセンスを付与す
 るものとします。また、かかる使用に際して、参加者
 は著作者人格権を行使しないものとします。・本イベ
 ントの録画・録音・撮影、および資料の二次利用、詳
 細内容のSNSへの投稿は固くお断りします。無断利用が
 発覚した場合、著作権・肖像権侵害として対処させて
 いただくことがあります。\n個人情報について\n参加者
 の個人情報は、【個人情報の取り扱いについて】に基
 づき利用します。詳細は、【個人情報の取り扱いにつ
 いて】をご一読ください。
LOCATION:オンライン
URL:https://techplay.jp/event/866626?utm_medium=referral&utm_source=ics&utm
 _campaign=ics
END:VEVENT
END:VCALENDAR
