BEGIN:VCALENDAR
VERSION:2.0
PRODID:-//https://techplay.jp//JP
CALSCALE:GREGORIAN
METHOD:PUBLISH
X-WR-CALDESC:PPAPに代わる安全な送信は当たり前！見落とし
 がちな本当に必要な対策とは！
X-WR-CALNAME:PPAPに代わる安全な送信は当たり前！見落とし
 がちな本当に必要な対策とは！
X-WR-TIMEZONE:Asia/Tokyo
BEGIN:VTIMEZONE
TZID:Asia/Tokyo
BEGIN:STANDARD
DTSTART:19700101T000000
TZOFFSETFROM:+0900
TZOFFSETTO:+0900
TZNAME:JST
END:STANDARD
END:VTIMEZONE
BEGIN:VEVENT
UID:866679@techplay.jp
SUMMARY:PPAPに代わる安全な送信は当たり前！見落としがち
 な本当に必要な対策とは！
DTSTART;TZID=Asia/Tokyo:20220726T150000
DTEND;TZID=Asia/Tokyo:20220726T153000
DTSTAMP:20260421T042204Z
CREATED:20220719T073710Z
DESCRIPTION:イベント詳細はこちら\nhttps://techplay.jp/event/86667
 9?utm_medium=referral&utm_source=ics&utm_campaign=ics\n\n【特別割引
 キャンペーンあり】\nPPAPに代わる安全な送信は当たり
 前！\n見落としがちな本当に必要な対策とは！\n\n概要\
 n昨今、多くの企業様でPPAPの受信拒否が相次いで報告
 されております。今後、さらに受信拒否をされる企業
 様が増えてくることを予想し、送信の代替策を検討さ
 れている企業様が多くいますが、受信時のPPAP対策はす
 でに実施しているのでしょうか？ 意外と見落としがち
 な部分であり、昨今話題のEMOTET感染の起因は、パスワ
 ード付きZipファイル、 いわゆるPPAPの手法を使った新
 たな感染が多数報告されております。\n今回のセミナ
 ーでは、受信時の危険性・被害事例等も加え、 100円か
 らできる送信も受信も安全にファイルを授受するため
 のPPAP対策をご紹介いたします。\nセミナープログラム\
 n受信時の危険性・被害事例等も加え、 100円からでき
 る送信も受信も安全にファイルを授受するためのPPAP対
 策をご紹介いたします。\n\n昨今のPPAP利用状況・EMOTET
 の動向\n新たなEMOTET感染経路と被害事例\n多くの企業が
 PPAPを廃止する理由\n見逃しがちな受信PPAP対策\n安全で
 簡単な送受信方法\n質疑応答\n\nこんな方におすすめ！\
 n\nPPAPを受信拒否された経験がある方\n業務上PPAPをご利
 用中の方\nこれからPPAP廃止をご検討中の方\n受信時のPP
 AP対策が未着手の方\nEMOTET対策をご検討中の方\nIT/情報
 システム/社内セキュリティご担当者様\n\n参加費\n無料
 \n注意事項\n\n競合他社様、参加対象以外の企業様から
 のお申し込みは、お断りさせていただく場合がござい
 ます。\nリクルーティング、勧誘など、採用目的での
 イベント参加はお断りしております。\n無断キャンセ
 ルや欠席が続く場合、次回以降の参加をお断りさせて
 いただく場合がございます。\n
LOCATION:ビデオウェビナー「Zoom」
URL:https://techplay.jp/event/866679?utm_medium=referral&utm_source=ics&utm
 _campaign=ics
END:VEVENT
END:VCALENDAR
