BEGIN:VCALENDAR
VERSION:2.0
PRODID:-//https://techplay.jp//JP
CALSCALE:GREGORIAN
METHOD:PUBLISH
X-WR-CALDESC:BYODで始めるハイブリッドワークー導入編ー　
 　　　　　　　　　　　　　　　　 　　　　　　～社
 員も会社も喜ぶ2台持ち不要！～
X-WR-CALNAME:BYODで始めるハイブリッドワークー導入編ー　
 　　　　　　　　　　　　　　　　 　　　　　　～社
 員も会社も喜ぶ2台持ち不要！～
X-WR-TIMEZONE:Asia/Tokyo
BEGIN:VTIMEZONE
TZID:Asia/Tokyo
BEGIN:STANDARD
DTSTART:19700101T000000
TZOFFSETFROM:+0900
TZOFFSETTO:+0900
TZNAME:JST
END:STANDARD
END:VTIMEZONE
BEGIN:VEVENT
UID:866885@techplay.jp
SUMMARY:BYODで始めるハイブリッドワークー導入編ー　　　
 　　　　　　　　　　　　　　 　　　　　　～社員も
 会社も喜ぶ2台持ち不要！～
DTSTART;TZID=Asia/Tokyo:20220817T110000
DTEND;TZID=Asia/Tokyo:20220817T114000
DTSTAMP:20260422T040935Z
CREATED:20220721T013856Z
DESCRIPTION:イベント詳細はこちら\nhttps://techplay.jp/event/86688
 5?utm_medium=referral&utm_source=ics&utm_campaign=ics\n\nBYODで始める
 ハイブリッドワークー導入編ー                    
                              ～社員も会社も喜ぶ2
 台持ち不要！～\n開催概要\nアフターコロナの働き方は
 「ハイブリッドワーク=リアルオフィスとデジタルワー
 クスペース」の併用が多くの企業でデファクトになっ
 ていくと思われます。そのような時代では改めてBYODの
 メリットが高まると思います。本セミナーでは、BYODの
 導入のポイントをご紹介いたします。\n実施概要\n■実
 施日時2022年8月17日(水) 11:00～11:40■実施方法ウェビナ
 ー（前日にアクセスURLをご案内します）■参加方法申
 し込み後、セミナー事務局より参加先のURLをご案内し
 ます。※申込締切は8月16日（火）13:00までとさせてい
 ただきます。■セッション内容調整中\n参加対象\n・BYO
 Dでハイブリッドワーク導入を検討している方・BYODに
 切り替えたいが何から始めたら良いか悩んでいる方・
 社員に負荷をかけないでBYODを導入したい方\n参加費\n
 無料\n注意事項\n\nリクルーティング、勧誘など、採用
 目的でのイベント参加はお断りしております。\n
LOCATION:オンライン
URL:https://techplay.jp/event/866885?utm_medium=referral&utm_source=ics&utm
 _campaign=ics
END:VEVENT
END:VCALENDAR
