BEGIN:VCALENDAR
VERSION:2.0
PRODID:-//https://techplay.jp//JP
CALSCALE:GREGORIAN
METHOD:PUBLISH
X-WR-CALDESC:【GA4無料ウェビナー】30分でサクッとわかる！
 Googleアナリティクス4
X-WR-CALNAME:【GA4無料ウェビナー】30分でサクッとわかる！
 Googleアナリティクス4
X-WR-TIMEZONE:Asia/Tokyo
BEGIN:VTIMEZONE
TZID:Asia/Tokyo
BEGIN:STANDARD
DTSTART:19700101T000000
TZOFFSETFROM:+0900
TZOFFSETTO:+0900
TZNAME:JST
END:STANDARD
END:VTIMEZONE
BEGIN:VEVENT
UID:866947@techplay.jp
SUMMARY:【GA4無料ウェビナー】30分でサクッとわかる！Googl
 eアナリティクス4
DTSTART;TZID=Asia/Tokyo:20220727T140000
DTEND;TZID=Asia/Tokyo:20220727T143000
DTSTAMP:20260422T202441Z
CREATED:20220721T071626Z
DESCRIPTION:イベント詳細はこちら\nhttps://techplay.jp/event/86694
 7?utm_medium=referral&utm_source=ics&utm_campaign=ics\n\n7/27開催　30
 分でサクッと分かる！Googleアナリティクス4(GA4)ウェビ
 ナー\n概要\n忙しいマーケテイング担当者にはGoogleアナ
 リティクス4の情報を正しく集めるのは大変です。\n一
 方で「既存のGoogleアナリティクスと何が違うのか？」
 「Googleアナリティクス4を扱う際の注意事項」など、基
 本的な情報は押さえておかなくては、将来的に既存のG
 oogleアナリティクスが使えなくなってしまう可能性も
 あるので、いざというときに慌ててしまいます。\nそ
 こで、いざGoogleアナリティクス4の運用を開始するとき
 に困らないよう、重要なポイントに絞ってGoogleアナリ
 ティクス4について解説します！\n\nセミナーはこんな
 方におすすめ\n\nWebサイト担当者\nデジタルマーケティ
 ング事業者\nGoogleアナリティクス4を導入検討中の方\nGo
 ogleアナリティクス4を導入したけど、よくわからない
 方\nGoogleアナリティクス4について勉強したい方\n\n参加
 費\n無料\nハッシュタグ\n#techplayjp #Googleアナリティク
 ス #ナイル #ウェビナー #GA4
LOCATION:オンライン
URL:https://techplay.jp/event/866947?utm_medium=referral&utm_source=ics&utm
 _campaign=ics
END:VEVENT
END:VCALENDAR
