BEGIN:VCALENDAR
VERSION:2.0
PRODID:-//https://techplay.jp//JP
CALSCALE:GREGORIAN
METHOD:PUBLISH
X-WR-CALDESC:【無料SEOウェビナー】SEO内製化の進め方
X-WR-CALNAME:【無料SEOウェビナー】SEO内製化の進め方
X-WR-TIMEZONE:Asia/Tokyo
BEGIN:VTIMEZONE
TZID:Asia/Tokyo
BEGIN:STANDARD
DTSTART:19700101T000000
TZOFFSETFROM:+0900
TZOFFSETTO:+0900
TZNAME:JST
END:STANDARD
END:VTIMEZONE
BEGIN:VEVENT
UID:866951@techplay.jp
SUMMARY:【無料SEOウェビナー】SEO内製化の進め方
DTSTART;TZID=Asia/Tokyo:20220803T150000
DTEND;TZID=Asia/Tokyo:20220803T153000
DTSTAMP:20260425T191709Z
CREATED:20220721T073259Z
DESCRIPTION:イベント詳細はこちら\nhttps://techplay.jp/event/86695
 1?utm_medium=referral&utm_source=ics&utm_campaign=ics\n\n8/3開催！ SEO
 内製化の進め方ウェビナー\n概要\nSEOコンサルティング
 の会社を導入している多くの企業のご担当者さまの中
 に、**本当は内製化したい・・・**という方もいらっし
 ゃるのではないでしょうか？\nナイルでは、実はイン
 ハウス化支援も行っており、取り組みは最短半年～、
 採用・教育体制づくりで長い企業さまだと4年ほどかけ
 てインハウス化を実現しています。（ナイルのSEOコン
 サルタント、編集者、アナリストのノウハウをお客様
 にインストールし、実際に数字成果を出しながらコン
 サル卒業されています）\nそこで、現在SEOコンサルを
 導入しているけれど、本当はインハウス化したい企業
 のご担当者さま向けに、30分でインハウスSEOを実現す
 るポイント、もしインハウスSEOが難しい場合はセミイ
 ンハウスを実現していく考え方を共有します。\n登壇
 者\n\n青木 創平（あおき そうへい）\nナイル株式会社 
 デジタルマーケティング事業部マーケター/SEOコンサル
 タント\nナイルのSEO相談室：https://www.seohacks.net/\n1994年
 東京生まれ。大規模データベース型サイトなどの技術
 的に複雑なSEOのプロジェクトや、BtoBのサービスサイト
 におけるオウンドメディアマーケティングなどを担当
 。2021年からはSEO研究所を立ち上げ、より成果に貢献す
 るSEOを追求している。\nセミナーはこんな方におすす
 め\n\nSEOに悩んでいる方\nSEOを外部委託している方\nSEO
 を自社で対策したい方\nWebサイトを運営している方\nデ
 ジタルマーケティングの知見を広げたい方\n\n参加費\n
 無料\nハッシュタグ\n#techplayjp #デジタルマーケティン
 グ #SEO
LOCATION:オンライン
URL:https://techplay.jp/event/866951?utm_medium=referral&utm_source=ics&utm
 _campaign=ics
END:VEVENT
END:VCALENDAR
