BEGIN:VCALENDAR
VERSION:2.0
PRODID:-//https://techplay.jp//JP
CALSCALE:GREGORIAN
METHOD:PUBLISH
X-WR-CALDESC:【SEOで狙うべきキーワードが分かる】ツール
 不要で実践できるSERP分析法
X-WR-CALNAME:【SEOで狙うべきキーワードが分かる】ツール
 不要で実践できるSERP分析法
X-WR-TIMEZONE:Asia/Tokyo
BEGIN:VTIMEZONE
TZID:Asia/Tokyo
BEGIN:STANDARD
DTSTART:19700101T000000
TZOFFSETFROM:+0900
TZOFFSETTO:+0900
TZNAME:JST
END:STANDARD
END:VTIMEZONE
BEGIN:VEVENT
UID:867034@techplay.jp
SUMMARY:【SEOで狙うべきキーワードが分かる】ツール不要
 で実践できるSERP分析法
DTSTART;TZID=Asia/Tokyo:20220818T130000
DTEND;TZID=Asia/Tokyo:20220818T140000
DTSTAMP:20260422T202528Z
CREATED:20220722T012744Z
DESCRIPTION:イベント詳細はこちら\nhttps://techplay.jp/event/86703
 4?utm_medium=referral&utm_source=ics&utm_campaign=ics\n\n【SEOで狙う
 べきキーワードが分かる】ツール不要で実践できるSERP
 分析法\nセミナー詳細\n\nSEOで狙うべきキーワードが分
 かる\nSEO対策において最も重要であるキーワード選定
 ですが、どんなキーワードで対策をすればいいのか分
 からないというお悩みをお持ちではないでしょうか。\
 nSEOでは単純に検索ボリュームの大きいキーワードを狙
 えば良いという訳ではなく、自社のサービスにマッチ
 し、検索上位を狙えるキーワードを選定する必要があ
 ります。\n検索ボリュームからキーワードを選定する
 のが難しい場合や、よりビジネスにマッチしたキーワ
 ードを選定する手法になっておりますので、是非ご参
 加ください。\nこんな方におすすめ\n・SEOのキーワード
 を選定する時の考え方が分からない・検索ボリューム
 が大きいキーワードは競合が強すぎて上位を狙えない
 ・自社のターゲットとするユーザーが調べるキーワー
 ドが分からない\n参加者の声\n\n\nセミナーの特徴\n①ツ
 ール不要！ブラウザだけで実践できるキーワード選定\
 n本セミナーで解説するキーワード選定の手法は検索結
 果からユーザーの検索意図を分析し、ビジネスにマッ
 チしたキーワードを選定する方法です。ツール不要で
 分析を実践いただけます！\n②リアルな検索結果を元
 に分析演習\nセミナーの後半では実際のデータを元に
 した演習問題も用意しております。実践ですぐに役立
 つ、SEOキーワードの選定手法です。\nセミナーカリキ
 ュラム\n①SERP分析とは？②SERP分析：SERPの指向性③SERP
 分析：SERP分析例④演習問題　SERP分析に挑戦！⑤SERP分
 析とは。⑥試験問題\n※講演内容は予告なく変更され
 る場合がございます。予めご了承くださいますようお
 願いします。※競合にあたる企業の方の申し込みはお
 断りをさせて頂いております。ご了承ください\n参加
 対象\n\n広告・マーケティング・広報に関わっている方
 \nWeb制作担当者\nWEBマスター・サイト管理者・デザイナ
 ー\n\n参加費\n無料\n開催概要\nこちらのセミナーはzoom
 セミナーとなっております。開催日時が近づきました
 らzoomセミナー用の参加URLを送付させていただきます。
 \n※参加URLが配信されていない場合はお手数ですがシ
 ンメトリックセミナー事務局(seminar@symmetric.co.jp)までご
 連絡ください。\n注意事項\n\nリクルーティング、勧誘
 など、採用目的でのイベント参加はお断りしておりま
 す。\n欠席される場合は、お手数ですが速やかにキャ
 ンセル処理をお願い致します。\n無断キャンセルや欠
 席が続く場合、次回以降の参加をお断りさせていただ
 く場合がございます。\n\n主催社について\n株式会社シ
 ンメトリック(https://www.symmetric.co.jp)\nシンメトリックは
 、アクセス解析・SEO対策の専門家として、Googleアナリ
 ティクスやサーチコンソールのデータを可視化し、サ
 イトの課題点の発見、改善案の策定を支援するツール
 やサービスを提供しています。\nプロフェッショナルSE
 O分析ツール『アナトミー』(https://siteanatomy.com/)\nプロ
 フェッショナルが行う高度なSEO分析を、直観的な操作
 で視覚化するツールです。専門家でも、時間のかかる
 検索ワードの一覧資料や、ユーザー動線の説明資料作
 成の労力を大幅に短縮することができます。また、こ
 れからSEOを自社で対策しようとする企業にとっては、
 アナトミー習得をすることで、専門家並みの分析をす
 ぐに開始できるため、人材育成の時間を大幅に節約す
 ることが可能となります。\nWebマーケティング内製化
 支援サービス「REBUILD WEB-MKTG-SITE」(https://www.dx.symmetric.co
 .jp/)\nサイト制作から改善まで、SEO対策の専門家がトー
 タルサポート改善施策を素早く反映できるWebマーケテ
 ィングに最適なサイトへ最短１ヶ月でリニューアル。
 ノーコードツール『Wix』の導入とスキルトランスファ
 ーによりWebマーケティング業務の内製化を支援します
 。
LOCATION:https://siteanatomy.com/lp-serp-seminar
URL:https://techplay.jp/event/867034?utm_medium=referral&utm_source=ics&utm
 _campaign=ics
END:VEVENT
END:VCALENDAR
