BEGIN:VCALENDAR
VERSION:2.0
PRODID:-//https://techplay.jp//JP
CALSCALE:GREGORIAN
METHOD:PUBLISH
X-WR-CALDESC:港区グローバルオープンイノベーションセミ
 ナー～ポストコロナで本格化するグローバルオープン
 イノベーション～
X-WR-CALNAME:港区グローバルオープンイノベーションセミ
 ナー～ポストコロナで本格化するグローバルオープン
 イノベーション～
X-WR-TIMEZONE:Asia/Tokyo
BEGIN:VTIMEZONE
TZID:Asia/Tokyo
BEGIN:STANDARD
DTSTART:19700101T000000
TZOFFSETFROM:+0900
TZOFFSETTO:+0900
TZNAME:JST
END:STANDARD
END:VTIMEZONE
BEGIN:VEVENT
UID:867060@techplay.jp
SUMMARY:港区グローバルオープンイノベーションセミナー
 ～ポストコロナで本格化するグローバルオープンイノ
 ベーション～
DTSTART;TZID=Asia/Tokyo:20220803T133000
DTEND;TZID=Asia/Tokyo:20220803T180000
DTSTAMP:20260424T185328Z
CREATED:20220722T053259Z
DESCRIPTION:イベント詳細はこちら\nhttps://techplay.jp/event/86706
 0?utm_medium=referral&utm_source=ics&utm_campaign=ics\n\n港区グロー
 バルオープンイノベーションセミナー～ポストコロナ
 で本格化するグローバルオープンイノベーション～\n
 概要\n「スタートアップ創出元年」と政策定義された20
 22年、海外におけるスタートアップ・キャンパスの躍
 進、海外交流が再開しつつある状況、急激な円安等、
 全世界の情勢がリアルタイムに変化する中、スタート
 アップの事業成長モデルの変革や企業の新たな海外連
 携ビジネスの可能性を開拓するキーワードとして「グ
 ローバルオープンイノベーションの本格化」が注目さ
 れています。\n本セミナーでは、国内外スタートアッ
 プの先端的な取組モデルや海外共創エコシステムの変
 化、今だからこそグローバル展開が大切な理由につい
 てグローバルオープンイノベーションを推進している
 先駆者に実体験を踏まえて語っていただきます。\n港
 区立産業振興センターでは最新の情報や技術を提供す
 る「未来発展型の産業振興拠点」としてグローバルオ
 ープンイノベーションを推進しています。ぜひご参加
 くださいませ。\nタイムスケジュール\n\n\n\n時間\n内容\
 n\n\n\n\n13:00〜\n受付開始\n\n\n13:30〜14:00\n日本のスタート
 アップの国外展開/日本企業の国外スタートアップとの
 連携〜フランスVivatechnologyやシンガポールSlingshotから
 最新潮流を考える〜Agorize Japan 株式会社　Japan COO　吉
 田　錦弘氏\n\n\n14:00〜14:30\n国内外のスタートアップエ
 コシステムの最新動向CIC Japan合同会社　CIC Tokyoゼネラ
 ル・マネージャー　名倉　勝氏\n\n\n14:30〜15:00\nコロナ
 禍で投資を増やし続けるイスラエルスタートアップか
 ら日本企業が学ぶことAniwo Co.\, Ltd　代表取締役　松山
 　英嗣氏\n\n\n15:00〜15:10\n休憩\n\n\n15:10〜15:40\nグローバ
 ル展開のリアルとサステナビリティファーストな取組
 みから考える事業開発株式会社ユーグレナ　素材海外
 事業部　海外営業課　岩﨑　秀貴氏\n\n\n15:40〜16:10\nポ
 ストコロナにおける日本のスタートアップのグローバ
 ル展開についてフォースタートアップス株式会社　ア
 クセラレーション本部　執行役員　中村　優太氏\n\n\n1
 6:10〜16:40\n海外展示会の活用と、海外アクセラレータ
 ーの活用によるグローバル展開の可能性独立行政法人
 日本貿易振興機構（JETRO）　スタートアップ支援課　
 亀多　瞭介氏\n\n\n\n※終了後、懇親会※ 当日予告なく
 時間配分・内容が変更になる可能性がございます。\n
 開催概要\n開催日時：2022年8月3日(水)　13:30～16:40 （開
 場13:00）※終了後同一会場にて交流会を開催参加費：
 無料定員：60名場所：港区立産業振興センター　小ホ
 ール東京都港区芝5丁目36番4号　札の辻スクエア11F（最
 寄駅：JR田町駅三田口（西口）から徒歩4分、都営三田
 線三田駅A3出口から徒歩4分またはA4出口から徒歩3分主
 催：株式会社キャンパスクリエイト（港区立産業振興
 センター 指定管理者：みなと・キャンパス・リログル
 ープ内）\n【申し込み方法】申込みサイトより必要事
 項をご記入ください。https://coubic.com/campus/877875\n注意事
 項\n\n会場に来る際はマスクの着用をお願いいたします
 。\n発熱や体調不良の際はご参加をお控えください。\n
 当日は主催者側で写真や動画撮影を行う可能性があり
 ます。また、写真・動画についてはイベント終了後、
 メディアなどに掲載される場合がありますので、あら
 かじめご了承ください。顔が映らないよう配慮は行い
 ますが、掲載NGの場合は事前にお声がけください。\n新
 型コロナウィルスの感染拡大及び、緊急事態宣言の発
 令に応じて開催概要が変更になる可能性がございます
 。\n\n
LOCATION:港区立産業振興センター　小ホール（11階） 東京
 都港区芝5丁目36番4号　札の辻スクエア
URL:https://techplay.jp/event/867060?utm_medium=referral&utm_source=ics&utm
 _campaign=ics
END:VEVENT
END:VCALENDAR
