BEGIN:VCALENDAR
VERSION:2.0
PRODID:-//https://techplay.jp//JP
CALSCALE:GREGORIAN
METHOD:PUBLISH
X-WR-CALDESC:【BtoB製造業向け】DNP x INTRIX x Contentserv 3社共催
 Webセミナー "PIM最新トレンドから見る デジタル資産の
 戦略的活用"
X-WR-CALNAME:【BtoB製造業向け】DNP x INTRIX x Contentserv 3社共催
 Webセミナー "PIM最新トレンドから見る デジタル資産の
 戦略的活用"
X-WR-TIMEZONE:Asia/Tokyo
BEGIN:VTIMEZONE
TZID:Asia/Tokyo
BEGIN:STANDARD
DTSTART:19700101T000000
TZOFFSETFROM:+0900
TZOFFSETTO:+0900
TZNAME:JST
END:STANDARD
END:VTIMEZONE
BEGIN:VEVENT
UID:867133@techplay.jp
SUMMARY:【BtoB製造業向け】DNP x INTRIX x Contentserv 3社共催Web
 セミナー "PIM最新トレンドから見る デジタル資産の戦
 略的活用"
DTSTART;TZID=Asia/Tokyo:20220825T140000
DTEND;TZID=Asia/Tokyo:20220825T153000
DTSTAMP:20260424T182423Z
CREATED:20220722T095206Z
DESCRIPTION:イベント詳細はこちら\nhttps://techplay.jp/event/86713
 3?utm_medium=referral&utm_source=ics&utm_campaign=ics\n\nBtoB製造や部
 材機器メーカーなど製造を主業とする多くの企業では
 、管理すべき商品情報が膨大である上に、部材の組合
 せや仕様といった商品を構成する要素が複雑であるた
 め、商品情報の管理に多大な業務課題を抱えています
 。さらに急激なデジタル化が進む昨今、データをただ
 一元管理するだけでなく、営業活動やマーケティング
 で活用しやすい状態にしておくことが重要です。\n本
 セミナーでは、PIMにおける最新トレンドをひもときな
 がら、これからの製造業における商品情報管理の在り
 方と、デジタル資産である商品データの効果的な活用
 方法についてパネルディスカッション中心に分かりや
 すく解説します。\n○開催概要\n開催日時：2022年8月25
 日(木) 14:00～15:30開催場所：GotoWebinarによるオンライン
 動画配信参加費：無料申込：7月28日より申込受付を開
 始予定共催：株式会社Contentserv、大日本印刷株式会社
 、イントリックス株式会社※本セミナーは企業・法人
 向けセミナーです。同業者・個人の方のお申込みはお
 断りすることがございます。\n○プログラム\n・14:00~14:
 05 ご挨拶・登壇者紹介・14:05~14:45 PIMの最新トレンド・1
 4:50~15:20 営業・マーケティングでのPIM活用例・15:20~15:30
  質疑応答\n○スピーカー\n・イントリックス株式会社
 　取締役/CTO　猪目 大輔 氏\n・大日本印刷株式会社　
 情報イノベーション事業部　DXセンター　ハイブリッ
 ドマーケティング本部　リーダー　高松 陵介 氏\n・株
 式会社Contentserv　代表取締役　渡辺 信明\n\nハッシュタ
 グ\n#techplayjp\n注意事項\n\nリクルーティング、勧誘など
 、採用目的でのイベント参加はお断りしております。\
 nキャンセル待ち・補欠・落選の方はご参加いただくこ
 とが出来ませんのでご了承ください。\n欠席される場
 合は、お手数ですが速やかにキャンセル処理をお願い
 致します。\n無断キャンセルや欠席が続く場合、次回
 以降の参加をお断りさせていただく場合がございます
 。\n
LOCATION:オンライン
URL:https://techplay.jp/event/867133?utm_medium=referral&utm_source=ics&utm
 _campaign=ics
END:VEVENT
END:VCALENDAR
