BEGIN:VCALENDAR
VERSION:2.0
PRODID:-//https://techplay.jp//JP
CALSCALE:GREGORIAN
METHOD:PUBLISH
X-WR-CALDESC:アクセンチュアのモバイルにおけるモダンフ
 ロントエンド技術の仕組み化と専門性
X-WR-CALNAME:アクセンチュアのモバイルにおけるモダンフ
 ロントエンド技術の仕組み化と専門性
X-WR-TIMEZONE:Asia/Tokyo
BEGIN:VTIMEZONE
TZID:Asia/Tokyo
BEGIN:STANDARD
DTSTART:19700101T000000
TZOFFSETFROM:+0900
TZOFFSETTO:+0900
TZNAME:JST
END:STANDARD
END:VTIMEZONE
BEGIN:VEVENT
UID:867572@techplay.jp
SUMMARY:アクセンチュアのモバイルにおけるモダンフロン
 トエンド技術の仕組み化と専門性
DTSTART;TZID=Asia/Tokyo:20220914T190000
DTEND;TZID=Asia/Tokyo:20220914T203000
DTSTAMP:20260420T105944Z
CREATED:20220726T085524Z
DESCRIPTION:イベント詳細はこちら\nhttps://techplay.jp/event/86757
 2?utm_medium=referral&utm_source=ics&utm_campaign=ics\n\n概要\nアク
 センチュア関西オフィス 主催\nDX戦略やCXサービスを実
 現するタッチポイントとしてモバイルテクノロジーは
 欠かせないものであり、そのデザインやUX体験を高レ
 ベルで実現することが求められています。iOS/Androidネ
 イティブ技術やReact/Vue.jsなどのモダンWeb技術をコンサ
 ル組織に広範囲に適用する仕組みについて我々の取り
 組みをご紹介いたします。\nテーマにご興味ある方は
 もちろん、アクセンチュアについてご興味ある方々も
 お気軽にご参加下さい。\nタイムスケジュール\n\n\n\n\n
 時間\n内容\n\n\n\n\n19:00～19:05\nオープニング\n\n\n19:05～19
 :35\nメイントーク：アソシエイト・ディレクター佐藤
 よりフロント技術、サーバレス、デザインシステム、
 実プロジェクトのご紹介\n\n\n19:35～20:05\n現場社員2名を
 交えたパネルディスカッション\n\n\n20:05～20:30\nQ&A：登
 壇者３名へ随時質問を受け付けまして、ご回答いたし
 ます\n\n\n\n※ 当日予告なく時間配分・内容が変更にな
 る可能性がございます。\n参加対象\n・コンサルティン
 グ／ITサービス業界に興味のある方・何らかのIT経験を
 お持ちの方\n参加費\n無料\n参加方法\nこちらのオンラ
 イン勉強会は 「Microsoft Teams」 を使用して実施致しま
 す。\nイベントページ（オンライン配信情報）に参加UR
 Lを記載しておりますのでご確認をお願いいたします。
 \n※参加用URLは申込頂いた方に、本ページ上にて表示
 されます。\n注意事項\n\n欠席される場合は、お手数で
 すが速やかにキャンセル処理をお願い致します。\n無
 断キャンセルや欠席が続く場合、次回以降の参加をお
 断りさせていただく場合がございます。\n
LOCATION:Microsoft Teams 会議
URL:https://techplay.jp/event/867572?utm_medium=referral&utm_source=ics&utm
 _campaign=ics
END:VEVENT
END:VCALENDAR
