BEGIN:VCALENDAR
VERSION:2.0
PRODID:-//https://techplay.jp//JP
CALSCALE:GREGORIAN
METHOD:PUBLISH
X-WR-CALDESC:TechRaido‐SHOPLISTのFlutter開発の裏側‐CTOと現場
 メンバーと直接話せるMeetup！！
X-WR-CALNAME:TechRaido‐SHOPLISTのFlutter開発の裏側‐CTOと現場
 メンバーと直接話せるMeetup！！
X-WR-TIMEZONE:Asia/Tokyo
BEGIN:VTIMEZONE
TZID:Asia/Tokyo
BEGIN:STANDARD
DTSTART:19700101T000000
TZOFFSETFROM:+0900
TZOFFSETTO:+0900
TZNAME:JST
END:STANDARD
END:VTIMEZONE
BEGIN:VEVENT
UID:867596@techplay.jp
SUMMARY:TechRaido‐SHOPLISTのFlutter開発の裏側‐CTOと現場メン
 バーと直接話せるMeetup！！
DTSTART;TZID=Asia/Tokyo:20220803T190000
DTEND;TZID=Asia/Tokyo:20220803T200000
DTSTAMP:20260421T212855Z
CREATED:20220726T113942Z
DESCRIPTION:イベント詳細はこちら\nhttps://techplay.jp/event/86759
 6?utm_medium=referral&utm_source=ics&utm_campaign=ics\n\nTechRaido‐SHOP
 LISTのFlutter開発の裏側‐\nCTOと現場メンバーと直接話せ
 るMeetup\n概要\nTECHHILLS（テックヒルズ）に参加いただい
 た方限定イベントです。\nテックヒルズではお話する
 ことができなかった、裏話や現場メンバーが経験した
 実体験をもとにフランクにお話をする会です！クルー
 ズでどのように技術選定を進めたのか？○○のような
 問題はなかったのか？どういうポイントで開発を進め
 たのか？などテックヒルズで回答できなかった質問や
 、疑問点を参加者の方と語り合う会です！是非当日は
 お酒を片手に参加してください！＾＾\nタイムスケジ
 ュール\n\n\n\n時間\nタイトル\n内容\n\n\n\n\n19:00〜\nオー
 プニング\nイベント概要説明登壇者自己紹介\n\n\n19:05〜
 19:35\nパネルディスカッション\nCTOと現場メンバーがFlut
 ter開発の事例や苦労話をお話します。\n\n\n19:35〜19:55\n
 座談会\n参加者の方からの質問に回答致します。\n\n\n19
 :55〜20:00\nクロージング\nアンケート\n\n\n\n※ 当日予告
 なく時間配分・内容が変更になる可能性がございます
 。\n登壇者\n\n鈴木 優一\nクルーズ株式会社執行役員 最
 高技術責任者 / CTO\n登壇者略歴：1983年生まれ。2008年に
 モバイルコンテンツプロバイダに入社後、マーケティ
 ング部門、システム開発部門でシステム企画・プロジ
 ェクトマネジメント業務に従事、2012年クルーズ株式会
 社に入社。入社後は技術統括部門の責任者として全社
 の開発平準化や採用技術選定、アーキテクト業務に従
 事のほか、品質管理部門やCS部門、人材育成部門の運
 営に携わる。2015年に執行役員就任。現在は最高技術責
 任者CTOとして、グループのIT技術・セキュリティ分野
 全般を担当する。\n\n追加登壇者　coming soon...\n参加対
 象\n\nテックヒルズ参加者\n\n参加費\n無料\nハッシュタ
 グ\n#TechRaido\n注意事項\n\n少人数で開催するので参加を
 辞退する場合は、詳細ページより申込のキャンセルを
 お願い致します。\n配信映像や音声は各自の通信環境
 に依存します。なるべく通信環境の良い状態で視聴く
 ださい。\n\n
LOCATION:オンライン
URL:https://techplay.jp/event/867596?utm_medium=referral&utm_source=ics&utm
 _campaign=ics
END:VEVENT
END:VCALENDAR
