BEGIN:VCALENDAR
VERSION:2.0
PRODID:-//https://techplay.jp//JP
CALSCALE:GREGORIAN
METHOD:PUBLISH
X-WR-CALDESC:【8/10（水）無料ウェビナー】 30分でわかる！ 
 WEBサイトの品質チェックの自動化で ガバナンス課題を
 解消し改善効率を上げる方法
X-WR-CALNAME:【8/10（水）無料ウェビナー】 30分でわかる！ 
 WEBサイトの品質チェックの自動化で ガバナンス課題を
 解消し改善効率を上げる方法
X-WR-TIMEZONE:Asia/Tokyo
BEGIN:VTIMEZONE
TZID:Asia/Tokyo
BEGIN:STANDARD
DTSTART:19700101T000000
TZOFFSETFROM:+0900
TZOFFSETTO:+0900
TZNAME:JST
END:STANDARD
END:VTIMEZONE
BEGIN:VEVENT
UID:868012@techplay.jp
SUMMARY:【8/10（水）無料ウェビナー】 30分でわかる！ WEB
 サイトの品質チェックの自動化で ガバナンス課題を解
 消し改善効率を上げる方法
DTSTART;TZID=Asia/Tokyo:20220810T130000
DTEND;TZID=Asia/Tokyo:20220810T140000
DTSTAMP:20260420T080210Z
CREATED:20220729T091029Z
DESCRIPTION:イベント詳細はこちら\nhttps://techplay.jp/event/86801
 2?utm_medium=referral&utm_source=ics&utm_campaign=ics\n\nウェビナー
 詳細： https://www.ex-ture.com/lp/seminar/\n■概要WEBサイトは
 企業の顔として、顧客への印象に大きな影響を与える
 重要な資産ですが、その管理には事業部や関連会社と
 の連携不足から、思い通りにいかないケースが多々ご
 ざいます。 また、原因としては他にも技術的なもの
 からリソース不足など、さまざまな課題が担当者の頭
 を悩ませています。 今回のウェビナーでは、このよ
 うなサイト管理にまつわる課題に対して効率的な対処
 方法を事例を交えて解説し、WEBサイト管理の課題を乗
 り越え、顧客から支持されるサイトにする仕組みの作
 り方をご紹介いたします。\n■****こんな方におすすめ
 ・大規模サイトを運営しておりガバナンスがきかせら
 れていない・サイト表記の統一性が、情報が増えるに
 つれて保たれなくなっている・サイト管理が属人化し
 、会社組織として管理できていない・アクセシビリテ
 ィに配慮したWEBサイトにしたい\n■こんなことが学べ
 る・陥りやすいサイト品質管理の不足によるトラブル
 ケース・サイト管理の労務にかかる膨大な時間から解
 放される方法・担当業務によって隔てられた部門間連
 携を円滑にする方法・顧客満足度を高め、ブランド力
 を支えられるサイトにする方法\n■開催情報イベント
 名 ： 30分でわかる！WEBサイト品質チェックの自動化で
 ガバナンス課題を解消し改善効率を上げる方法\n開催
 日時　 ： 8月10日(水) 13:00～13:40開催方法　 ： オンラ
 イン参加費　　 ： 無料定員　　　 ： 30名主催　　　 
 ： エクスチュア株式会社申込方法    ： 特設サイト
 より予約申込特設サイト ： https://www.ex-ture.com/lp/seminar/
LOCATION:オンライン
URL:https://techplay.jp/event/868012?utm_medium=referral&utm_source=ics&utm
 _campaign=ics
END:VEVENT
END:VCALENDAR
