BEGIN:VCALENDAR
VERSION:2.0
PRODID:-//https://techplay.jp//JP
CALSCALE:GREGORIAN
METHOD:PUBLISH
X-WR-CALDESC:【オンラインでのリード獲得を最適化！】 リ
 スティング広告×コンテンツマーケティングで成果を
 出す方法をゼロから徹底解説！
X-WR-CALNAME:【オンラインでのリード獲得を最適化！】 リ
 スティング広告×コンテンツマーケティングで成果を
 出す方法をゼロから徹底解説！
X-WR-TIMEZONE:Asia/Tokyo
BEGIN:VTIMEZONE
TZID:Asia/Tokyo
BEGIN:STANDARD
DTSTART:19700101T000000
TZOFFSETFROM:+0900
TZOFFSETTO:+0900
TZNAME:JST
END:STANDARD
END:VTIMEZONE
BEGIN:VEVENT
UID:868279@techplay.jp
SUMMARY:【オンラインでのリード獲得を最適化！】 リステ
 ィング広告×コンテンツマーケティングで成果を出す
 方法をゼロから徹底解説！
DTSTART;TZID=Asia/Tokyo:20220824T140000
DTEND;TZID=Asia/Tokyo:20220824T150000
DTSTAMP:20260420T191501Z
CREATED:20220801T025710Z
DESCRIPTION:イベント詳細はこちら\nhttps://techplay.jp/event/86827
 9?utm_medium=referral&utm_source=ics&utm_campaign=ics\n\nサイトエン
 ジン株式会社と株式会社グラッドキューブがコンテン
 ツマーケティングとリスティング広告を駆使したリー
 ド獲得ノウハウを60分でご紹介いたします！また、セ
 ミナー後半に質疑応答の時間を設けています。セミナ
 ー中の疑問をその場で解消できます！\n【主な対象者
 】\n\nCV（お問い合わせ）を意識した集客を行いたい方\
 n短期と中長期の両方で成果を出したい方\nWebサイトを
 活用してリード獲得したい方\n現状のWebマーケティン
 グ施策に課題をお持ちの方\n\n【セミナーで学べること
 】\n\nリスティング広告で成果を出すためのポイント\n
 リードを獲得するためのコンテンツ作成法\n集客から
 リード獲得までの一気通貫施策\nWebから成果を伸ばす
 ための考え方とコツ\n\n【第1部 株式会社グラッドキュ
 ーブ】\n<セミナータイトル>【新任担当者も即実践でき
 る】リスティング広告で成果を伸ばす秘訣を伝授\n<概
 要>デジタルマーケティング最初の一歩ともいえる「リ
 スティング広告」は、あらゆる書籍等でもその手法が
 展開されています。 しかし実際に配信してみると、入
 札の設定やアプローチ方法がこれでいいのかと悩んで
 いる担当者も多いのではないでしょうか。 本セミナー
 では、新任担当者でもすぐに実践できる秘訣を基礎か
 らしっかり解説していきます。 \n【第2部 サイトエン
 ジン株式会社】\n<セミナータイトル>Webサイトに訪問し
 た方をコンテンツの力でCVまでつなげる方法\n<概要>多
 くの企業がリスティング広告などの集客施策に注力し
 、認知拡大やWebサイトへのアクセス数増加を実現させ
 ています。しかし、Webサイトに訪れてもらうだけでは
 リード獲得やその後の受注には繋がりません。本セミ
 ナーではWebサイトに訪問した方をCVまでつなげてリー
 ド獲得を行う方法をご紹介します。\n\n【タイムテーブ
 ル】\n14:00-14:05	挨拶・概要説明14:05-14:30	第一部：株式
 会社グラッドキューブ14:30-14:55	第二部：サイトエンジ
 ン株式会社14:55-15:00	第三部：Q&A\n【登壇者】\n\n株式会
 社グラッドキューブ　マーケティングソリューション
 事業部：西川 諒\nサイトエンジン株式会社　Webマーケ
 ター：荒井 皓平\n\n\n\n
LOCATION:オンライン
URL:https://techplay.jp/event/868279?utm_medium=referral&utm_source=ics&utm
 _campaign=ics
END:VEVENT
END:VCALENDAR
