BEGIN:VCALENDAR
VERSION:2.0
PRODID:-//https://techplay.jp//JP
CALSCALE:GREGORIAN
METHOD:PUBLISH
X-WR-CALDESC:【事例で学ぶ】失敗しない！BtoB向けMAツール
 導入の勘所 ～マーケティングオートメーションによる
 商談獲得で欠かせない○○とは？～
X-WR-CALNAME:【事例で学ぶ】失敗しない！BtoB向けMAツール
 導入の勘所 ～マーケティングオートメーションによる
 商談獲得で欠かせない○○とは？～
X-WR-TIMEZONE:Asia/Tokyo
BEGIN:VTIMEZONE
TZID:Asia/Tokyo
BEGIN:STANDARD
DTSTART:19700101T000000
TZOFFSETFROM:+0900
TZOFFSETTO:+0900
TZNAME:JST
END:STANDARD
END:VTIMEZONE
BEGIN:VEVENT
UID:868487@techplay.jp
SUMMARY:【事例で学ぶ】失敗しない！BtoB向けMAツール導入
 の勘所 ～マーケティングオートメーションによる商談
 獲得で欠かせない○○とは？～
DTSTART;TZID=Asia/Tokyo:20220824T140000
DTEND;TZID=Asia/Tokyo:20220824T144000
DTSTAMP:20260420T140157Z
CREATED:20220802T061413Z
DESCRIPTION:イベント詳細はこちら\nhttps://techplay.jp/event/86848
 7?utm_medium=referral&utm_source=ics&utm_campaign=ics\n\n【事例で学
 ぶ】失敗しない！BtoB向けMAツール導入の勘所\nMAでの商
 談獲得で欠かせない○○とは？営業DX事例紹介セミナ
 ー\n概要\nオンライン上での顧客コミュニケーションの
 重要性が増した昨今、企業が見込み顧客を獲得するた
 めの取り組みとして「マーケティングオートメーショ
 ン(MAツール)」への注目が高まっています。MAツールは
 、ユーザーの行動履歴に合わせたオンラインセールス
 を自動化・効率化することで、見込み顧客の獲得や売
 上拡大に貢献するテクノロジーです。\n一方で、「思
 ったよりもシナリオ設計が難しい」「メルマガ配信機
 能しか使えていない」「運用改善にまで手が回らない
 」など、導入前後の利用イメージにギャップがあり、
 せっかく導入したMAツールの利活用に課題を抱えてい
 るケースも少なくありません。\nそこで本セミナーで
 は、国内で1\,000社以上に導入されている国内MAツール
 ベンダー「SATORI様」をゲストにお招きして、MA事例紹
 介を中心としたWebセミナーを開催します。MAツール活
 用で商談化率が8倍になった成功事例に加えて、導入前
 は想定していなかった意外な「落とし穴」や「検討ポ
 イント」など、MA導入に関するリアルな話をお届けし
 ます。\nこれからMA導入を検討している方はもちろん、
 既にMAを導入している方にも活用いただける内容とな
 っています。場所を選ばないオンライン開催となりま
 すので、ぜひお気軽にご参加ください！\nこんなお悩
 みを解決できます\n\n情報収集：マーケティング活動に
 おける「MAツール」の役割がわかる\nノウハウ：多種多
 様なMAツールの「選び方」や「検討ポイント」がわか
 る\n事例紹介：自社における「MAツール導入後の未来」
 を具体的にイメージできる\n\nタイムスケジュール\n【
 事例で学ぶ】失敗しない！BtoB向けMAツール導入の勘所
 ～マーケティングオートメーションによる商談獲得で
 欠かせない○○とは？～\n\n\n\n時間\n内容\n\n\n\n\n14:00〜
 14:20\nSATORI株式会社講演\n\n\n14:20〜14:35\nバディマーケテ
 ィング株式会社講演\n\n\n14:35〜14:40\n質疑応答\n\n\n\n※ 
 プログラムは予告なく変更となる場合がございます。\
 n登壇者\n\n川畑 恵美\nSATORI株式会社　営業部営業企画
 グループ\n日本大学芸術学部卒業。写真業に携わった
 のちスタートアップ企業へ転職。WEBデザイン・マーケ
 ティング部門にてセミナー運営事業全般を経験後、SATO
 RI参画。\n現在は、パートナー支援を中心に営業企画グ
 ループにて全社の売り上げ達成をミッションとしてい
 る。\n\n\n\n竹内 純\nバディマーケティング株式会社　
 代表取締役社長\nIT業界でエンジニア職を経験後、ソフ
 トウェア製品のBtoBマーケティングに従事。\n現在はバ
 ディマーケティング株式会社の代表として、マーケテ
 ィングに関するコンサルティングやMAツールを活用し
 た営業支援・業務効率化、デジタルマーケティングの
 伴走型サービスを提供。\n\n参加対象\n\nデジタルマー
 ケティングや営業強化への取り組みを検討中の方\n見
 込み顧客獲得に成功したMAツールの導入事例を知りた
 い方\nMAツール導入前には見落としがちな課題を事前に
 把握したい方\n\n　　※同業社様のご参加はご遠慮いた
 だく場合がございます。\n参加費\n無料\n主催\nバディ
 マーケティング株式会社\n共催\nSATORI株式会社\n注意事
 項\n\nセミナー開催前に視聴用URLをご案内いたします。
 \n欠席される場合は、お手数ですが速やかにキャンセ
 ル処理をお願い致します。\n\n個人情報保護方針につい
 て\n今回ご提供いただく個人情報は、バディマーケテ
 ィング株式会社と共催企業が取り扱い、各社のプライ
 バシーポリシーに基づき厳重に管理いたします。・バ
 ディマーケティング株式会社・SATORI株式会社
LOCATION:オンライン
URL:https://techplay.jp/event/868487?utm_medium=referral&utm_source=ics&utm
 _campaign=ics
END:VEVENT
END:VCALENDAR
