BEGIN:VCALENDAR
VERSION:2.0
PRODID:-//https://techplay.jp//JP
CALSCALE:GREGORIAN
METHOD:PUBLISH
X-WR-CALDESC:【人流アナリティクス™リリース記念セミナ
 ー】人流データ活用の成功事例と基礎知識を解説
X-WR-CALNAME:【人流アナリティクス™リリース記念セミナ
 ー】人流データ活用の成功事例と基礎知識を解説
X-WR-TIMEZONE:Asia/Tokyo
BEGIN:VTIMEZONE
TZID:Asia/Tokyo
BEGIN:STANDARD
DTSTART:19700101T000000
TZOFFSETFROM:+0900
TZOFFSETTO:+0900
TZNAME:JST
END:STANDARD
END:VTIMEZONE
BEGIN:VEVENT
UID:868597@techplay.jp
SUMMARY:【人流アナリティクス™リリース記念セミナー】
 人流データ活用の成功事例と基礎知識を解説
DTSTART;TZID=Asia/Tokyo:20220809T160000
DTEND;TZID=Asia/Tokyo:20220809T170000
DTSTAMP:20260422T213426Z
CREATED:20220803T053816Z
DESCRIPTION:イベント詳細はこちら\nhttps://techplay.jp/event/86859
 7?utm_medium=referral&utm_source=ics&utm_campaign=ics\n\n【出店計画
 、販促企画と効果測定、イベントや屋外広告の分析、
 競合対策、街の賑わい分析や不動産、株価分析に人流
 データを低コストで活用】　\n\n本セミナーは「人流」
 を見える化する クロスロケーションの新サービス「人
 流アナリティクス™」のリリース記念セミナーです。
 自社サービスのマーケティングに人流データを活用す
 るための活用方法や人流分析をはじめて学ぶ方にも安
 心して参加いただけるように分かりやすく内容を解説
 していきます。\n新型コロナウィルスの影響によりテ
 レビなどで頻繁に取り上げられることが増えた人流デ
 ータですが、実際のビジネスにおいては出店計画など
 に活用されるマーケティングの分野や、イベント・屋
 外広告における広告の効果測定として人の流れを分析
 することに利用されたり、街や観光地の人出変化の分
 析、その他にも都市計画、ヘッジファンドでの株価予
 測など幅広い分野で活用が始まっています。\nしかし
 、多くの企業にとって人流データは、未知のデータと
 されていることもあり、その多くの理由は自社のビジ
 ネスにどのように役立つかのイメージがわかないとい
 う声を聞きます。また、導入コストに多額の費用が発
 生したり分析の難易度を懸念して検討に踏み切れない
 企業も多く存在します。\n本セミナーでは、幅広い分
 野で有用な人流データを、コストや分析の難しさを気
 にしないですぐに利用開始できる新サービス「人流ア
 ナリティクス™」のご紹介と共に、実際のビジネスで
 の活用事例を詳しくご説明いたします。\n\n開催概要\n
 日　時：	2022年8月9日（火）　時　間　16：00 ～ 17：00
 定　員： 30名参加費：	無料開催方法： オンライン（Zo
 omウェビナー）\nこんな方におすすめ\n\n人流データに
 ついて詳しく知りたい方\n人流データを活用したビジ
 ネスヒントを探している方\n観光地、地域や商店街な
 どの活性化での人流データに興味がある方\n企業業績
 分析に人流データを活用されたい方\n企業のマーケテ
 ィング、販売促進部門の方\n\n\nSESSION.01　16:00 -16:30\n人
 流の見える化を早く、簡単に、安価で実現 人流アナリ
 ティクスのご紹介新サービス「人流アナリティクス™
 」について詳しくご紹介いたします。\n\nSESSION.02　16:30
  -17:00\n「人流が見えればビジネスが変わる」実際のビ
 ジネスでの活用事例実際のビジネスでの活用事例　販
 売促進、屋外広告分析、出店時の分析、観光地の分析
 、商店街の分析などの事例ご紹介いたします。\n注意
 事項\n\nご登録のメールアドレスは、貴法人ドメインの
 メールアドレスをご入力ください。\nフリーメールア
 ドレスでのお申し込みはお断りさせていただいており
 ます。\nセミナーの概要は当日変更になることがござ
 います。\n同業他社さまのご参加はお断りさせていた
 だいております。お申込みの際には当社の判断により
 セミナーの参加をお断りさせていただく場合がござい
 ます。ご理解のほどお願い申し上げます。\n
LOCATION:オンライン（Zoom）
URL:https://techplay.jp/event/868597?utm_medium=referral&utm_source=ics&utm
 _campaign=ics
END:VEVENT
END:VCALENDAR
