BEGIN:VCALENDAR
VERSION:2.0
PRODID:-//https://techplay.jp//JP
CALSCALE:GREGORIAN
METHOD:PUBLISH
X-WR-CALDESC:【受付中】Leica　BLK360(点群スキャナー) オンラ
 イン製品説明会　～最小・最軽量の次世代スキャナー
 ～（無料）
X-WR-CALNAME:【受付中】Leica　BLK360(点群スキャナー) オンラ
 イン製品説明会　～最小・最軽量の次世代スキャナー
 ～（無料）
X-WR-TIMEZONE:Asia/Tokyo
BEGIN:VTIMEZONE
TZID:Asia/Tokyo
BEGIN:STANDARD
DTSTART:19700101T000000
TZOFFSETFROM:+0900
TZOFFSETTO:+0900
TZNAME:JST
END:STANDARD
END:VTIMEZONE
BEGIN:VEVENT
UID:869134@techplay.jp
SUMMARY:【受付中】Leica　BLK360(点群スキャナー) オンライ
 ン製品説明会　～最小・最軽量の次世代スキャナー～
 （無料）
DTSTART;TZID=Asia/Tokyo:20220817T130000
DTEND;TZID=Asia/Tokyo:20220817T140000
DTSTAMP:20260421T090404Z
CREATED:20220808T005942Z
DESCRIPTION:イベント詳細はこちら\nhttps://techplay.jp/event/86913
 4?utm_medium=referral&utm_source=ics&utm_campaign=ics\n\nLeica"BLK360"ス
 キャナー オンライン製品説明会\n～特殊な高精度設計
 アプリケーション向けの3Dリアリティキャプチャ～\nVR
 データ作成時に使用される日光下および屋外対応の最
 小・最軽量の次世代スキャナーカメラはライカ社のBLK3
 60です。\nこのVRデータ作成用（点群をスキャンしデー
 タ化する）のカメラは大きなスペースや主に屋外スペ
 ースのスキャン、および最高の精度が必要なアプリケ
 ーションに最適です。\n数多く点群データのスキャン
 を作成してきた経験豊かなカメラマンもこのBLK360の有
 用性を実感しています。それがいったいどのようなこ
 となのかをご紹介します。\n\nLeica"BLK360"スキャナーが
 どのような商品なのか説明します。\n本説明会は、Zoom
 ウェビナーのオンラインで行います。\n\nLeica"BLK360"ス
 キャナーとはどのような製品なのか\nLeica"BLK360"スキャ
 ナーの特徴、活用方法\n他社スキャナーとの比較につ
 いて\nLeica"BLK360"スキャナーカメラドの契約、その他サ
 ポートについて\n\n\nタイムスケジュール\n13:00-13:05・は
 じめに　～Leica"BLK360"スキャナーの特徴について～　　
 　登壇者：有限会社リビングCG　代表取締役　関\n13:05-
 13:35　～他のスキャナーとの性能比較および特徴につ
 いて～　　　登壇者： 有限会社リビングCG　岡田氏　
 　　13:35-13:50　　～Leica"BLK360"の実例について～　検証
 報告　　　登壇者：　（未定）\n13:50-13:55・"BLK360"スキ
 ャナー購入、その他サポートについて\n13:55-14:00・質疑
 応答\n※ 当日予告なく時間配分・内容が変更になる可
 能性がございます。\n\nウェブサイト\nBLK360 G2 イメージ
 ングレーザースキャナー\n第4回Materportオンラインイベ
 ント　～BLK360　概要とアドバンテージ～（Youtube動画）
 開催日：2021年6月17日（木）13:00-15:00タイトル：BLK360　
 概要とアドバンテージ講演者：ライカジオシステムズ
 株式会社　赤池正臣氏\nライカ ジオシステムズ株式会
 社\n登壇者\n有限会社リビングCG　代表取締役　岡田篤
 史\n\n有限会社リビングCG　代表取締役　関良平\n\n有限
 会社リビングCG　会社概要\n「Cloudalize」「Lumion」「Matte
 rport」「MKplayer360＋」の販売代理店。BIMに貢献する企業
 。\nウェブサイトはこちらからhttps://livingcg.jp/\n会社概
 要社名：有限会社リビングCG代表取締役：関　良平所
 在地：〒105-0003　東京都港区西新橋2-33-4　プレイアデ
 虎ノ門801電話番号：03-5404-3466メールアドレス：info＠liv
 ingcg.jp\n\n参加対象\n\n事業でVR展開を希望している方\n
 高性能スキャナーをご検討中の方\n屋外でのVRデータを
 作成希望の方\n２台目のスキャナーをご検討中の方\n太
 陽の下のデータスキャン、広範囲、高い天井のデータ
 スキャンが必要な方\n\n参加費\n無料\nハッシュタグ\n#te
 chplayjp\n注意事項\n\nキャンセル待ち・補欠・落選の方
 はご参加いただくことが出来ませんのでご了承くださ
 い。\n欠席される場合は、お手数ですが速やかにキャ
 ンセル処理をお願い致します。\n無断キャンセルや欠
 席が続く場合、次回以降の参加をお断りさせていただ
 く場合がございます。\n
LOCATION:オンライン
URL:https://techplay.jp/event/869134?utm_medium=referral&utm_source=ics&utm
 _campaign=ics
END:VEVENT
END:VCALENDAR
