BEGIN:VCALENDAR
VERSION:2.0
PRODID:-//https://techplay.jp//JP
CALSCALE:GREGORIAN
METHOD:PUBLISH
X-WR-CALDESC:8/30(火) 17:00- 4年間のチャレンジで見えたデジ
 タル人材育成ステップの作り方
X-WR-CALNAME:8/30(火) 17:00- 4年間のチャレンジで見えたデジ
 タル人材育成ステップの作り方
X-WR-TIMEZONE:Asia/Tokyo
BEGIN:VTIMEZONE
TZID:Asia/Tokyo
BEGIN:STANDARD
DTSTART:19700101T000000
TZOFFSETFROM:+0900
TZOFFSETTO:+0900
TZNAME:JST
END:STANDARD
END:VTIMEZONE
BEGIN:VEVENT
UID:869461@techplay.jp
SUMMARY:8/30(火) 17:00- 4年間のチャレンジで見えたデジタル
 人材育成ステップの作り方
DTSTART;TZID=Asia/Tokyo:20220830T170000
DTEND;TZID=Asia/Tokyo:20220830T180000
DTSTAMP:20260421T111402Z
CREATED:20220810T031644Z
DESCRIPTION:イベント詳細はこちら\nhttps://techplay.jp/event/86946
 1?utm_medium=referral&utm_source=ics&utm_campaign=ics\n\nプログラム
 概要\n社会全体でDX推進が求められる中、多くの企業が
 DX/AIをキーワードにデジタル人材育成に取り組み始め
 ています。しかし、「人材育成の重要性が社内で理解
 されない」「とりあえずAIの資格を取ってみたが、そ
 の先どうして良いか分からない」といった声も多く、
 中長期のケーパビリティ獲得に向けた明確な人材スキ
 ルの定義や教育方針を立てた上での教育を推進できて
 いる企業は決して多くありません。本講演では、デジ
 タル人材育成に関して先進的な取り組みを続けている
 伊藤忠テクノソリューションズ株式会社の荻野様をゲ
 ストに招き、4年間のデジタル人材育成の内容と、実施
 して見えてきた育成の企画・設計・推進のポイントに
 ついて、ご紹介いただきます。\n\nタイムスケジュール
 \n17:00-17:05　冒頭挨拶\n17:05-17:35　講演\n17:35-17:45　パネ
 ルディスカッション\n17:45-17:55　質疑応答\n17:55-18:00　
 告知、アンケート\n\nスピーカー\n伊藤忠テクノソリュ
 ーションズ株式会社エキスパートエンジニア /  荻野 
 圭介氏\n・日本OSS推進フォーラム　（ビックデータ部
 会）一般会員（2015年～）・データサイエンティスト協
 会　一般会員（2018年～）・日本ディープラーニング協
 会 G検定（2019年＃1）1998年　某社にエンジニアとして
 就職2006年　現職の伊藤忠テクノソリューションズに転
 職2017年　社内にて事業GのAI人材育成WGを立ち上げる\n
 スキルアップAI株式会社 代表取締役 / 田原 眞一\n東京
 大学大学院新領域創成科学研究科修了。新卒でエンジ
 ニアとプロジェクトマネジャーを経験後、リクルート
 にて数多くのAI案件に携わる。2017年に『スキルアップA
 I』を開始し、企業へのAI教育サービスの提供、コンサ
 ルティングを実施。著書に「徹底攻略 ディープラーニ
 ングG検定 ジェネラリスト問題集」。JDLAの人材育成委
 員も務める。\n日時\n2022年8月30日(火)　17:00-18:00 ( 参加
 費：無料 )\n開催場所\nZoom         ※ご参加者には開
 催前日に、参加URLをご連絡します。\n※開催前日にZoomU
 RLをお申込みいただきましたメールアドレスへご連絡
 させていただきます。メールが届かない方は、当日12
 時迄に info@skillupai.com へお問い合わせください。\n注
 意事項\n※本セミナーは企業様限定のセミナーとなり
 ます。\n※本セミナーの途中入退室は自由です。\n※一
 部プログラムに変更が生じる場合がございます。\n※
 競合他社様のご参加は、ご遠慮いただいておりますの
 で、ご了承ください。\n【ご協力のお願い】\n・申込後
 のキャンセルについては、前日までにご連絡ください
 。\n個人情報の取扱いについて\n申し込み時にご提供い
 ただいた情報は、イベント受付管理や各種ご案内（サ
 ービス・イベント等）に利用させていただきます。プ
 ライバシーポリシーhttps://www.skillupai.com/privacy/\nご入力
 いただいた個人情報等を当社が業務提携・業務委託す
 る伊藤忠テクノソリューションズ株式会社に開示し、
 これを共同利用する場合があります。共同利用する場
 合の個人情報等の利用目的は、当該提携業務・委託業
 務を円滑に遂行するためであり、同利用に際して当該
 第三者に提供する個人情報等の範囲は、同業務遂行に
 必要な範囲とさせていただきます。共同利用される個
 人情報等に関しましても、弊社プライバシーポリシー
 第14条1項に規定される個人情報管理責任者において責
 任を持って管理させていただくのと共に、お問い合わ
 せにつきましては、同条第2項に規定する 連絡先宛て
 にいただきますようお願い致します。伊藤忠テクノソ
 リューションズ株式会社プライバシーポリシーhttps://ww
 w.ctc-g.co.jp/utility/security_policy.html\n運営団体\nスキルアッ
 プAI\nhttps://www.skillupai.com/
LOCATION:Zoom
URL:https://techplay.jp/event/869461?utm_medium=referral&utm_source=ics&utm
 _campaign=ics
END:VEVENT
END:VCALENDAR
