BEGIN:VCALENDAR
VERSION:2.0
PRODID:-//https://techplay.jp//JP
CALSCALE:GREGORIAN
METHOD:PUBLISH
X-WR-CALDESC:ワークフローから考えるデジタル化推進のコ
 ツ【ファーストDX】
X-WR-CALNAME:ワークフローから考えるデジタル化推進のコ
 ツ【ファーストDX】
X-WR-TIMEZONE:Asia/Tokyo
BEGIN:VTIMEZONE
TZID:Asia/Tokyo
BEGIN:STANDARD
DTSTART:19700101T000000
TZOFFSETFROM:+0900
TZOFFSETTO:+0900
TZNAME:JST
END:STANDARD
END:VTIMEZONE
BEGIN:VEVENT
UID:869511@techplay.jp
SUMMARY:ワークフローから考えるデジタル化推進のコツ【
 ファーストDX】
DTSTART;TZID=Asia/Tokyo:20220915T140000
DTEND;TZID=Asia/Tokyo:20220915T150000
DTSTAMP:20260422T025534Z
CREATED:20220810T104814Z
DESCRIPTION:イベント詳細はこちら\nhttps://techplay.jp/event/86951
 1?utm_medium=referral&utm_source=ics&utm_campaign=ics\n\nワークフロ
 ーから考えるデジタル化推進のコツ～ファーストDX～\n
 概要\nDXを見据え、電子化やデジタル化を推進する企業
 様も増えているかと思います。その中でも特に、コロ
 ナ禍でのリモートワークの推進において、「紙帳票の
 回覧やハンコが必要となるため出社をしている」「決
 裁ルートが長い」など申請・承認業務の課題が顕在化
 してきたのではないでしょうか。\n本セミナーでは、DX
 ・業務改革スペシャリストであるArinosとワークフロー
 のリーディングカンパニーであるエイトレッド社より
 、ワークフローから考えるデジタル化推進のコツをご
 紹介いたします！\nこのような方にオススメ\n\n各種申
 請や承認業務を電子化したい\n電子帳簿保存法の対応
 にあたりワークフローの見直しをはかっている\n社外
 との電子化は進んでいるが、社内業務のデジタル化は
 進んでいない\n\n\nセミナー詳細\n【第一部】業務フロ
 ーの可視化から始めるデジタル化推進のポイント＜株
 式会社Arinos＞　DXを進めるにあたり「何をどのように
 デジタル化すべきか」の検討ステップが則していない
 と　失敗する傾向にあります。ファーストDXとして、
 既存の業務フローと現状課題から解決策として　デジ
 タル化を検討することが大切です。　本セミナーでは
 、業務フローの可視化から始めるファーストDX推進の
 ポイントをご紹介いたします。\n【第二部】ワークフ
 ローから始めるファーストDXとは？＜株式会社エイト
 レッド＞　コロナ禍が続く中で、企業のデジタル化、D
 Xが急速に進んでいるように見えますが、　本当の意味
 でのDXに成功している企業は実は多くないのが実情で
 す。　本セミナーでは、なぜワークフローが企業が最
 初に手掛けるべきファーストDXなのか、　またどのよ
 うな効果があるのかについてご紹介をさせていただき
 ます。　具体的な解決策としてエイトレッドのご提供
 するワークフローサービスのご紹介をさせていただき
 ます。\n開催日時\n■日時：2022年9月15日（木）14:00～15:
 00■会場：オンライン（お申し込み後、参加用のURLを
 お送りいたします）■参加費：無料\n注意事項\n※同業
 他社、個人事業主、フリーランスの方にはご参加をご
 遠慮いただく場合がございますことご了承ください。
 ※お申込みいただく際は、Gmailなどのフリーメールア
 ドレス、携帯メールアドレスのご登録はご遠慮くださ
 い。
LOCATION:オンライン
URL:https://techplay.jp/event/869511?utm_medium=referral&utm_source=ics&utm
 _campaign=ics
END:VEVENT
END:VCALENDAR
