BEGIN:VCALENDAR
VERSION:2.0
PRODID:-//https://techplay.jp//JP
CALSCALE:GREGORIAN
METHOD:PUBLISH
X-WR-CALDESC:【EC業界のお悩み解消】  RPA活用で業務の手間
 を改善した事例とは？！
X-WR-CALNAME:【EC業界のお悩み解消】  RPA活用で業務の手間
 を改善した事例とは？！
X-WR-TIMEZONE:Asia/Tokyo
BEGIN:VTIMEZONE
TZID:Asia/Tokyo
BEGIN:STANDARD
DTSTART:19700101T000000
TZOFFSETFROM:+0900
TZOFFSETTO:+0900
TZNAME:JST
END:STANDARD
END:VTIMEZONE
BEGIN:VEVENT
UID:870064@techplay.jp
SUMMARY:【EC業界のお悩み解消】  RPA活用で業務の手間を改
 善した事例とは？！
DTSTART;TZID=Asia/Tokyo:20220825T170000
DTEND;TZID=Asia/Tokyo:20220825T173000
DTSTAMP:20260422T184601Z
CREATED:20220816T103553Z
DESCRIPTION:イベント詳細はこちら\nhttps://techplay.jp/event/87006
 4?utm_medium=referral&utm_source=ics&utm_campaign=ics\n\nタイトル\n
 【EC業界のお悩み解消】 RPA活用で業務の手間を改善し
 た事例とは？！\n概要\nECにおける運用業務は店舗数や
 商品数、注文件数などが増えるにつれて業務工数も増
 えていきます。ネットショップの一元管理システムな
 どの登場により、効率化できる運用業務は増えました
 が、ECの現場は企業ごとに異なる要素があるため、未
 だに繰り返し発生する定型業務から人の手が離れられ
 ないことが多いようです。\n本セミナーでは、多くの
 企業様のお悩みをRPA（robop）で解決してきた知見をも
 とに、EC業界における業務の効率化について、ご説明
 いたします。\n所要時間30分のオンラインセミナーです
 ので、作業をしながらでもご視聴いただけます。ぜひ
 お気軽にご参加くださいませ。\n\nこのような方におす
 すめです\n\n基幹システムから各業務システムへの転記
 作業が追い付かない\nExcelでの入金管理などのヒューマ
 ンエラーを抑止したい\n商品情報の更新が頻繁に発生
 し他の業務に集中できない\n競合商品のデータ収集に
 手が回っていない\nRPAで業務を効率化したい（効率化
 できるか知りたい）\n\n参加費\n無料\n注意事項\n\nリク
 ルーティング、勧誘など、採用目的でのイベント参加
 はお断りしております。\nキャンセル待ち・補欠・落
 選の方はご参加いただくことが出来ませんのでご了承
 ください。\n欠席される場合は、お手数ですが速やか
 にキャンセル処理をお願い致します。\n無断キャンセ
 ルや欠席が続く場合、次回以降の参加をお断りさせて
 いただく場合がございます。\n
LOCATION:オンライン（zoom）
URL:https://techplay.jp/event/870064?utm_medium=referral&utm_source=ics&utm
 _campaign=ics
END:VEVENT
END:VCALENDAR
