BEGIN:VCALENDAR
VERSION:2.0
PRODID:-//https://techplay.jp//JP
CALSCALE:GREGORIAN
METHOD:PUBLISH
X-WR-CALDESC:【ケーススタディで学ぶ】ひとり広報の目標
 設定・PRの企画～実行まで優しく解説
X-WR-CALNAME:【ケーススタディで学ぶ】ひとり広報の目標
 設定・PRの企画～実行まで優しく解説
X-WR-TIMEZONE:Asia/Tokyo
BEGIN:VTIMEZONE
TZID:Asia/Tokyo
BEGIN:STANDARD
DTSTART:19700101T000000
TZOFFSETFROM:+0900
TZOFFSETTO:+0900
TZNAME:JST
END:STANDARD
END:VTIMEZONE
BEGIN:VEVENT
UID:870114@techplay.jp
SUMMARY:【ケーススタディで学ぶ】ひとり広報の目標設定
 ・PRの企画～実行まで優しく解説
DTSTART;TZID=Asia/Tokyo:20220825T130000
DTEND;TZID=Asia/Tokyo:20220825T140000
DTSTAMP:20260424T135052Z
CREATED:20220817T021055Z
DESCRIPTION:イベント詳細はこちら\nhttps://techplay.jp/event/87011
 4?utm_medium=referral&utm_source=ics&utm_campaign=ics\n\n【ケースス
 タディで学ぶ】ひとり広報の目標設定・PRの企画～実
 行まで優しく解説\n2022年8月25日（木）13:00～14:00\n「広
 報」活動の基礎とよくあるお悩みの解決方法について
 解説いたします。広報担当になったものの、目標・KPI
 設定や、PR活動の企画や実行についてどのように進め
 るべきかご不安になった経験はございませんでしょう
 か？そのような悩みを解決するため、特に社内にナレ
 ッジ・ノウハウが少ない傾向にある「ひとり広報」の
 方を中心に、広報の基礎的な内容やよくあるお悩みに
 ついて、【講義 + 対談】形式でお話しいたします。\n
 ▼こんな方にオススメです！\n\n「ひとり広報」として
 任命されたばかり\n現在少人数で広報業務を行ってい
 る\n広報業務についての悩みを1つでも解決したい\n広
 報業務について改めて見直したい\n\n▼ウェビナー内容
 \n\n＜講義＞\n\n「広報」の全体像とは\n 「ひとり広報
 」として任命されたときにまずすべきこと\n\n\n＜対談
 ＞ グローバルベイス株式会社様\n\n「ひとり広報」の
 方のお悩み相談\n\n\n質疑応答\n\n▼開催概要\n\n開催日
 時：2022年8月25日（木）13:00～14:00\n参加費：無料\n開催
 方法：ウェビナー　※Zoomを利用します\n参加方法：お
 申込後に、別途メールにてご案内致します\n\n▼登壇者
 \nイノベーションブリッジ合同会社瀧本 裕子 氏\n企業
 ・サービスの広報やブランディング、また弁理士とし
 て知財戦略サポートを行い知財に強みをもつPR支援を
 行っている。\n\n株式会社CINCアナリティクス事業本部 
 リーダー田中 邦裕\nSEM向けSaaS「Keywordmap」の営業企画
 として、ビジネスサイド全般の企画業務に従事。年率1
 30%以上成長を続ける事業における予実の精度向上に貢
 献。 2021年5月よりBtoB企業を対象とする、DX支援のコン
 サルティング事業の立ち上げ責任者を務める。\n\n以上
 となります。皆様のご応募、お待ちしております！\n\n
 ※企業向けのセミナーでございますので、フリーメー
 ルでの登録はご遠慮くださいますようお願いいたしま
 す。※なお、競合他社/同業者/企業にご所属でない個
 人の方からのお申込みなど、 当社の判断によりセミナ
 ー参加をお断りする場合があります。予めご了承くだ
 さい。※終了時刻は前後する可能性がございます。※
 予告なく登壇者・内容の変更がある場合がございます
 。
LOCATION:オンラインセミナー
URL:https://techplay.jp/event/870114?utm_medium=referral&utm_source=ics&utm
 _campaign=ics
END:VEVENT
END:VCALENDAR
