BEGIN:VCALENDAR
VERSION:2.0
PRODID:-//https://techplay.jp//JP
CALSCALE:GREGORIAN
METHOD:PUBLISH
X-WR-CALDESC:【オンライン視聴用/8月26日】不動産DXチャン
 ネル　 不動産DXフェス2022/summer
X-WR-CALNAME:【オンライン視聴用/8月26日】不動産DXチャン
 ネル　 不動産DXフェス2022/summer
X-WR-TIMEZONE:Asia/Tokyo
BEGIN:VTIMEZONE
TZID:Asia/Tokyo
BEGIN:STANDARD
DTSTART:19700101T000000
TZOFFSETFROM:+0900
TZOFFSETTO:+0900
TZNAME:JST
END:STANDARD
END:VTIMEZONE
BEGIN:VEVENT
UID:870144@techplay.jp
SUMMARY:【オンライン視聴用/8月26日】不動産DXチャンネル
 　 不動産DXフェス2022/summer
DTSTART;TZID=Asia/Tokyo:20220826T130000
DTEND;TZID=Asia/Tokyo:20220826T170000
DTSTAMP:20260424T185424Z
CREATED:20220817T060034Z
DESCRIPTION:イベント詳細はこちら\nhttps://techplay.jp/event/87014
 4?utm_medium=referral&utm_source=ics&utm_campaign=ics\n\n不動産業界
 に特化したDXチャンネル！\n\nこのチャンネルは様々な
 不動産テック企業や不動産事業会社と共に最新の情報
 を発信し、業界全体のDXを促進するためにあります。
 このチャンネルで情報を収集していただき、デジタル
 に強い不動産企業となりましょう！\n\n\n\nセミナー開
 催背景\n\n政府が推進する「デジタル社会の実現」に向
 けた取り組みの一環として、\n今年5月に宅建業法の改
 正がなされ、不動産取引の電子化が解禁されました。 
 \nこれにより、エンドのお客様と不動産会社双方のデ
 ジタル化が加速し、\n不動産業界にも本格的なDX（デジ
 タルトランスフォーメーション）の波がやってきてい
 ます。\nとはいえ「DXってなに？」「本当に意味がある
 の？」「売上につながるの？」といった疑問や不安を
 抱える方も多いことでしょう。 \nそこで、不動産DXに
 ついて今さら聞きにくい、イチから学びたい、を叶え
 る2日間を住宅新報ではご用意しました！\n不動産業界
 のアップデートに向けて、そしてみなさまのビジネス
 ヒントに。\n是非、この機会にご参加ください！\n\n\n\n
 ■イベント概要\n\n\nリアル＆Webイベント日時：2022年8
 月26日（金）13：00〜17：00\n参加資格：不動産仲介会社\
 n参加費：無料\n注意事項：こちらは8月26日(金) オンラ
 イン視聴用ページです\n\n\n\n\n■セミナー内容&登壇者\n
 \n第1部\n「デジタル時代に負けない不動産営業力」\n講
 師：鈴木 誠 氏\n誠不動産株式会社\n代表\n\n第2部\n
 「DXで消費者と家主、双方から選ばれる不動産会社へ
 ！」\n講師：野口 真平 氏\nイタンジ株式会社\n代表取
 締役\n\n第3部\n「タイトル調整中」\n講師：調整中\n株
 式会社スペースリー\n\n第4部\n「中高年オーナー様を中
 心に不動産DXを牽引する不動産管理のリアル」\n講師：
 浮田 一浩 氏\nWealthPark株式会社\nSaas事業部　営業\nCP
 M®（米国不動産経営管理士）\n\n第5部\n「不動産投資の
 DX化〜不動産投資型クラウドファンディングとはー」\n
 講師：中村 秀造 氏\n株式会社Relic\nグロースマネジ
 メント事業本部\nグロースマネージャー\n\n第6部\nパネ
 ルディスカッション\n「やさしい不動産DXのはじめ方」
 \nパネラー：野口 真平 氏\nイタンジ株式会社\n代表取
 締役\n\n橘 大地 氏\n弁護士ドットコム株式会社社\n取
 締役\nクラウドサイン事業本部長\n\n和田 浩明 氏\nGOGE
 N株式会社\n代表取締役CEO\n\nモデレーター：針山 昌幸
  氏\n株式会社Housmart\n代表取締役
LOCATION:オンライン
URL:https://techplay.jp/event/870144?utm_medium=referral&utm_source=ics&utm
 _campaign=ics
END:VEVENT
END:VCALENDAR
