BEGIN:VCALENDAR
VERSION:2.0
PRODID:-//https://techplay.jp//JP
CALSCALE:GREGORIAN
METHOD:PUBLISH
X-WR-CALDESC:第6回 Tableau Prepユーザー会 ～とにかく知りた
 い！凄腕ユーザーたちが贈るTips祭り〜
X-WR-CALNAME:第6回 Tableau Prepユーザー会 ～とにかく知りた
 い！凄腕ユーザーたちが贈るTips祭り〜
X-WR-TIMEZONE:Asia/Tokyo
BEGIN:VTIMEZONE
TZID:Asia/Tokyo
BEGIN:STANDARD
DTSTART:19700101T000000
TZOFFSETFROM:+0900
TZOFFSETTO:+0900
TZNAME:JST
END:STANDARD
END:VTIMEZONE
BEGIN:VEVENT
UID:870747@techplay.jp
SUMMARY:第6回 Tableau Prepユーザー会 ～とにかく知りたい！
 凄腕ユーザーたちが贈るTips祭り〜
DTSTART;TZID=Asia/Tokyo:20220915T200000
DTEND;TZID=Asia/Tokyo:20220915T213000
DTSTAMP:20260420T122631Z
CREATED:20220822T125435Z
DESCRIPTION:イベント詳細はこちら\nhttps://techplay.jp/event/87074
 7?utm_medium=referral&utm_source=ics&utm_campaign=ics\n\nとにかく知
 りたい！第6回は凄腕ユーザーからTipsを浴びまくろう
 ！\nTableau Prepユーザー会 第6回は 『とにかく知りたい
 ！凄腕ユーザーが贈るTips祭り』  をテーマにTableau Prep
 のTipsをたっぷりご紹介します！凄腕ユーザーたちから
 各おすすめのTipsを展開し、普段使っている方や初心者
 の方にとっても『発見』のあるコンテンツに。Tableau Pr
 epの活用幅を広げたい方、どんなことができるか知り
 たい方など是非ご参加ください♩\n--------------------------
 --------------------------\n＼申込者には登壇資料をプレゼン
 ト！／\n第6回はTableau Prepの凄腕ユーザー達からTipsを学
 べる機会です。いつでも振り返れる登壇資料をぜひご
 活用ください！とても豪華な特典なので、お申込みの
 上ご参加ください(^^)  ※イベント後にお送りします。
 \n----------------------------------------------------\n俺のTipsを浴
 びろ！Tableau Prep Tips 4選\nTableau Prepに詳しい4名の凄腕ユ
 ーザーをお迎えして、各者Tipsを紹介いたします！なか
 なか聞けないTableau Prepの活用術を聞けるチャンス！デ
 ータ加工の一助となる様々なTipsをお楽しみください♩
 \n登壇者 (凄腕ユーザープロフィール)\n各登壇者のTwitte
 rはこちら！Satoshi Ganeko / Null / ふくろう / Tableau兄さ
 ん\nOpen DATA 祭り！分析しにくいデータを整えよう！実
 践Prep利活用方法\nJTUGで企画開催中の『オープンデータ
 祭り』に絡め、オープンデータを加工するベストプラ
 クティスをお届けします♩様々な場所・テーマで公開
 されているオープンデータ。BIツール等で読み込み分
 析しようとしても、CSVやExcelファイルで1シート内に複
 数の表があったり、行や列に統一性がないなど、すん
 なり分析できないケースも・・・。そんなデータもTabl
 eau Prepで分析しやすい形に変身！分析しやすいデータ
 に整える方法をお伝えします。\n登壇者：もりたひろ
 あき / mitamuu\n大人気のアフタートーク『もりたバー
 』について\n毎度大人気のアフタートーク『もりたバ
 ー』は今回、本編終了後にMr.もりたの気まぐれによっ
 て開催します！開催する場合、Twitterスペースで開催予
 定です。本編中に参加方法を案内させていただきます
 。\n\n\n仮開催日：2022年9月15日(木)本編終了後\n\n配信方
 法：Twitter スペース※Twitterアカウントでのご参加が必
 要です。※参加者への強制登壇はありませんのでご安
 心ください。※PCブラウザからもご視聴いただけます
 。※アーカイブ予定はありません。※配信方法が変更
 となる場合があります。\n\nTableau Prep ユーザー会とは
 ？\nTableau Prepのユーザーが主体となってTableau Prepの魅
 力や活用事例を共有するコミュニティです。私達はTabl
 eau Prepを一つの手段として、データ活用の課題を解決
 するきっかけになることを目指します。\nVision　デー
 タを求める全ての人がデータドリブンなアクションを
 実現する\nMission　個人の課題と目標に合わせてデータ
 を操作できるようにする\n■過去開催したイベントも
 大盛りあがり！\n2021年1月21日に開催した第1回から今ま
 でYouTube視聴数は数百回〜千回超え！初心者向けのコン
 テンツやマーケティングの活用事例、Tableau Prepの隠さ
 れたTipsコンテンツがいっぱい詰まっています！是非ア
 ーカイブ動画も視聴してみてください。第1回 Tableau pre
 pユーザー会 ～ITサイドもビジネスサイドも集まれ！活
 用術をみんなで深めよう～第2回 Tableau Prepユーザー会 
 ～データ加工の課題に向き合う！事例もTipsも浴びよう
 祭～第3回 Tableau Prepユーザー会 ～この夏新しいスキル
 を身に着けよう～第4回 Tableau Prepユーザー会 ～データ
 活用の幅を広げよう～第5回 Tableau Prepユーザー会 ～経
 験から語るPrep活用のベストプラクティス～※今回は視
 聴型でYouTube Live配信を予定しています。\nタイムスケ
 ジュール\n\n\n\n時間\n内容\n\n\n\n\n20:00〜20:10\nオープニ
 ングとご挨拶\n\n\n20:10〜20:40\n俺のTipsを浴びろ！Tableau P
 rep Tips 4選------------------------------------------------------------
 ----登壇者：Satoshi Ganeko / Null / ふくろう / Tableau兄さ
 ん※一部内容が変更となる場合があります。\n\n\n20:40
 〜21:00\nOpen DATA 祭り！分析しにくいデータを整えよう
 ！実践Prep利活用方法---------------------------------------------
 -------------------登壇者：もりたひろあき / mitamuu※一部
 内容が変更となる場合があります。\n\n\n21:00〜21:20\nTabl
 eau Prep質問＆ディスカッションコーナー--------------------
 --------------------------------------------登壇者：幹事全員お
 申込み時やYouTube・SNSで募集する質問に、幹事やゲスト
 から回答＆ディスカッション！当日気になったコンテ
 ンツへの質問もイベント中にどんどん募集します！こ
 の機会に沢山質問してください☆\n\n\n21:20〜21:30\nクロ
 ージング\n\n\n\n※ 当日予告なく時間配分・内容が変更
 になる可能性がございます。\n主催者プロフィール\n\nm
 omo　 @marketer_momo\nベルフェイス株式会社MarketingTableau DA
 TASaber（Saber nurturing the market with data）2021 Tableau Social Amba
 ssador\n\n\nmaes　 @maes_data\n株式会社HR ForceDSUマネージャ
 ーData Saber(DATA Maestro)TableauとSalesforceのアドミンです！\n
 \n\ntomo　 @tomowk1\nNECソリューションイノベータ株式会
 社Data Saber(Navigator of the D♥TA world)2021 Tableau User Group Ambas
 sador\n\n\nHiroaki Morita（もりたひろあき） @hiroakimo_tw\nTabl
 eau DATAsaber (a.k.a. DATA athlete)\n\n\nMika  @MikaFu9da\nちゅらデ
 ータ株式会社DATA Saber（Bridge Builder（Data and People））\n\n
 \nmitamuu  @sora_in_blue\nコニカミノルタジャパン株式会社
 Tableau DATASaber (Data Fixer)データを加工する過程を考える
 のが好き\n参加対象\n\nTableau Prepに興味のある方（利用
 していなくてもOK！）\nTableau Prepの機能や活用術を知り
 たい方\nTableau Prepの学習方法を知りたい方\n\nオンライ
 ン配信場所\n\n本編はYouTube Liveにて配信予定（参加お申
 し込み後 メールでYoutube配信URLを記載いたします。）\n
 アフタートークはTwitterスペースで配信予定\n\n当日Twitt
 erで質問や感想を大募集します！\n配信中はTwitterで質
 問や感想を募集します☆ハッシュタグ #TableauPrepユー
 ザー会 を付けてご投稿ください！ご投稿内容を拾っ
 てお話する場合がございます！\n＼ 前回のご投稿例／\
 n注意事項\n※ 参加を辞退する場合は、詳細ページより
 申込のキャンセルをお願い致します。※ イベント中の
 営業活動は禁止とさせていただきます。※ 無断キャン
 セルや欠席が連続して続く場合や、注意事項を守って
 いただけない事象が発生した場合、次回以降の参加を
 お断りさせていただく場合がございますのでご了承く
 ださい。※ 申し込み時にご提供いただいた情報は、主
 催者・サポート企業にて、イベント受付管理や各種ご
 案内（サービス・イベント等）に利用させていただき
 ます。
LOCATION:YouTube Live
URL:https://techplay.jp/event/870747?utm_medium=referral&utm_source=ics&utm
 _campaign=ics
END:VEVENT
END:VCALENDAR
