BEGIN:VCALENDAR
VERSION:2.0
PRODID:-//https://techplay.jp//JP
CALSCALE:GREGORIAN
METHOD:PUBLISH
X-WR-CALDESC:SHABERU BAR＃1 ～NEXTユニコーンランキング時価総
 額第4位の環境配慮型素材開発ユニコーン企業と語ろう
 ～
X-WR-CALNAME:SHABERU BAR＃1 ～NEXTユニコーンランキング時価総
 額第4位の環境配慮型素材開発ユニコーン企業と語ろう
 ～
X-WR-TIMEZONE:Asia/Tokyo
BEGIN:VTIMEZONE
TZID:Asia/Tokyo
BEGIN:STANDARD
DTSTART:19700101T000000
TZOFFSETFROM:+0900
TZOFFSETTO:+0900
TZNAME:JST
END:STANDARD
END:VTIMEZONE
BEGIN:VEVENT
UID:870922@techplay.jp
SUMMARY:SHABERU BAR＃1 ～NEXTユニコーンランキング時価総額
 第4位の環境配慮型素材開発ユニコーン企業と語ろう～
DTSTART;TZID=Asia/Tokyo:20220905T183000
DTEND;TZID=Asia/Tokyo:20220905T200000
DTSTAMP:20260419T163427Z
CREATED:20220823T144416Z
DESCRIPTION:イベント詳細はこちら\nhttps://techplay.jp/event/87092
 2?utm_medium=referral&utm_source=ics&utm_campaign=ics\n\n未来をつく
 る仲間と出会うビジネスBAR「SHABERU BAR」＃1\n環境配慮
 型素材の開発と資源循環事業を展開する、ユニコーン
 企業と語ろう\nみなさん、こんにちは！SHABERUBAコミュ
 ニティマネージャーの山本です。\nこの度、AUBA内のバ
 ーチャルコワーキングスペース『SHABERUBA』の新企画 未
 来をつくる仲間と出会うビジネスBAR「SHABERU BAR」が9月5
 日(月)オープンします！\nSHABERU BARは、BARやスナックに
 行く感覚で、気軽にふらっと参加、ゲストやその場に
 いる人と出会い、繋がり、気軽に会話できる場にして
 いきます。SHABERUBA内で、BARスペースを併設し、SHABERUBA
 コミュニティマネージャーの山本有里がBARのママとな
 り、オープンイノベーションに関わるテーマで今をと
 きめく企業・ゲストをお招きし、フューチャーします
 ！\n\n第一回目のゲストは、AUBAのスタートアップ優良
 企業の認定制度「Amazing STARTUPS」にも認定された株式会
 社TBM　資源循環イノベーション部 部長 ／ プラント事
 業部 部長補佐 大場 健太郎さんです！\n\nTBM社は、石灰
 石を主原料にプラスチックや紙の代替となる素材「LIME
 X」の開発や資源循環事業を展開するスタートアップで
 す。NEXTユニコーンランキング時価総額第4位の環境配
 慮型素材開発ユニコーン企業として、現在注目を集め
 ています！TBM社について詳細はこちら\nそんなTBM社で
 、オープンイノベーションを推進する大場さんにTBM社
 、環境エネルギー業界のトレンド、これからチャレン
 ジしたい共創について、ざっくばらんに伺っていきま
 す！大場さん自身は、学生時代から環境エネルギー分
 野への貢献に尽力してこられた方なので、大場さんの
 ご自身のこれまでの経験や、今の想い、視点も伺って
 いきたいと思います！\nTBM社について知りたい、環境
 エネルギー/SGDs/資源循環型社会のテーマに興味のある
 方、大場さんと繋がりたい方、ぜひお越しください！\
 n仕事しながら、仕事終わりに、ご飯を食べながら、お
 酒を飲みながら、などお気軽に★\nタイムスケジュー
 ル\n18：30～18：35　SHABERU BAR開店\n18：35～18：40　Amazing S
 TARTUPSについて知ろう\n18：40～19：30　TBM社大場さんと
 トーク\n19：30～19：40　次回SHABERU BAR告知\n19：40～20：00
 　交流\nゲスト\n株式会社TBM　大場健太郎資源循環イノ
 ベーション部 部長 ／ プラント事業部 部長補佐（兼任
 ）資源循環事業をリードする部署、新規サービスの開
 発・グロース\n1982年11月29日、東京都恵比寿生まれ。 15
 歳の時、沖縄での不法投棄の写真を見て、環境を良く
 しようと決意。東京農工大学・大学院で環境分野を専
 攻し、2007年4月に新卒で環境ビジネスベンチャー企業
 （株式会社レノバ：旧社名リサイクルワン）に入社。
 環境コンサルティング事業、プラスチックリサイクル
 工場の立ち上げ、再生可能エネルギーの新規事業開発
 に従事。リサイクル工場、再生可能エネルギーの事業
 開発では、一部門の部門長を経験。自身の業務範囲拡
 大に併せて、マザーズ上場（2017年2月）、東証一部上
 場（2018年2月）と組織の成長フェーズを経験。2021年8月
 、再度ベンチャー企業にて、資源循環型社会形成に強
 く貢献したく、株式会社TBMに参画。株式会社TBMでは、
 資源循環のモデル構築、リサイクルプラント事業に従
 事。\nBARのママ（MC）\n山本 有里SHABERUBA コミュニティ
 マネージャー1990年生まれ。愛知県出身。リクルートキ
 ャリアにて中途採用支援を得た後、人材系ベンチャー
 にて東海支社の立ち上げを経験。新しいことにチャレ
 ンジする人を繋ぎたいという想いから、2017年からスタ
 ートアップ・ベンチャーを盛り上げるための交流会・
 イベントを個人活動として主催。2021年4月独立し、現
 在は、愛知県のスタートアップ支援拠点「PRE-STATION Ai
 」及びMTG Venturesのコミュニティマネージャー、SHABERUBA
 のコミュニティマネージャーを務め、スタートアップ
 支援、オープンイノベーションに関わる活動を複業で
 挑戦中。\n参加費\n無料\n参加方法\n①『SHABERUBA』内に
 てご参加URL：https://auba.eiicon.net/ 内（要ログイン）利
 用条件：AUBA会員であること利用料金：無料※SHABERUBA内
 にてご参加の皆様は、ゲスト、参加者、コミュニティ
 マネージャーとAUBA内にて直接会話・ディスカッション
 ・質問が可能です。\n②Youtube LIVE配信にてご視聴※Youtu
 beにてご視聴の皆様は、コメント欄にて、コメント・
 ご質問いただけます。\nハッシュタグ\n#techplayjp　#環境
 　#SDGs　#スタートアップ　#ユニコーン\n注意事項\n\nリ
 クルーティング、勧誘など、採用目的でのイベント参
 加はお断りしております。\nキャンセル待ち・補欠・
 落選の方はご参加いただくことが出来ませんのでご了
 承ください。\n欠席される場合は、お手数ですが速や
 かにキャンセル処理をお願い致します。\n無断キャン
 セルや欠席が続く場合、次回以降の参加をお断りさせ
 ていただく場合がございます。\n
LOCATION:オンライン　SHABERUBA(Ovice)
URL:https://techplay.jp/event/870922?utm_medium=referral&utm_source=ics&utm
 _campaign=ics
END:VEVENT
END:VCALENDAR
